BEGIN:VCALENDAR
VERSION:2.0
PRODID:-//Gyuto Foundation - ECPv6.15.13//NONSGML v1.0//EN
CALSCALE:GREGORIAN
METHOD:PUBLISH
X-ORIGINAL-URL:https://gyutofoundation.org
X-WR-CALDESC:Events for Gyuto Foundation
REFRESH-INTERVAL;VALUE=DURATION:PT1H
X-Robots-Tag:noindex
X-PUBLISHED-TTL:PT1H
BEGIN:VTIMEZONE
TZID:America/Los_Angeles
BEGIN:DAYLIGHT
TZOFFSETFROM:-0800
TZOFFSETTO:-0700
TZNAME:PDT
DTSTART:20240310T100000
END:DAYLIGHT
BEGIN:STANDARD
TZOFFSETFROM:-0700
TZOFFSETTO:-0800
TZNAME:PST
DTSTART:20241103T090000
END:STANDARD
BEGIN:DAYLIGHT
TZOFFSETFROM:-0800
TZOFFSETTO:-0700
TZNAME:PDT
DTSTART:20250309T100000
END:DAYLIGHT
BEGIN:STANDARD
TZOFFSETFROM:-0700
TZOFFSETTO:-0800
TZNAME:PST
DTSTART:20251102T090000
END:STANDARD
BEGIN:DAYLIGHT
TZOFFSETFROM:-0800
TZOFFSETTO:-0700
TZNAME:PDT
DTSTART:20260308T100000
END:DAYLIGHT
BEGIN:STANDARD
TZOFFSETFROM:-0700
TZOFFSETTO:-0800
TZNAME:PST
DTSTART:20261101T090000
END:STANDARD
END:VTIMEZONE
BEGIN:VEVENT
DTSTART;TZID=America/Los_Angeles:20250105T100000
DTEND;TZID=America/Los_Angeles:20250105T120000
DTSTAMP:20260424T053246
CREATED:20241105T200805Z
LAST-MODIFIED:20241105T201158Z
UID:3990-1736071200-1736078400@gyutofoundation.org
SUMMARY:Teaching: Stages on the Path to Enlightenment
DESCRIPTION:
URL:https://gyutofoundation.org/event/teaching-stages-on-the-path-to-enlightenment-76/
END:VEVENT
BEGIN:VEVENT
DTSTART;TZID=America/Los_Angeles:20250106T190000
DTEND;TZID=America/Los_Angeles:20250106T200000
DTSTAMP:20260424T053246
CREATED:20241105T204439Z
LAST-MODIFIED:20241105T204457Z
UID:3999-1736190000-1736193600@gyutofoundation.org
SUMMARY:Secular Meditation
DESCRIPTION:
URL:https://gyutofoundation.org/event/secular-meditation-89/
END:VEVENT
BEGIN:VEVENT
DTSTART;TZID=America/Los_Angeles:20250108T190000
DTEND;TZID=America/Los_Angeles:20250108T200000
DTSTAMP:20260424T053246
CREATED:20241213T225806Z
LAST-MODIFIED:20241213T230004Z
UID:4013-1736362800-1736366400@gyutofoundation.org
SUMMARY:Guru Puja
DESCRIPTION:
URL:https://gyutofoundation.org/event/guru-puja-43/
END:VEVENT
BEGIN:VEVENT
DTSTART;TZID=America/Los_Angeles:20250109T190000
DTEND;TZID=America/Los_Angeles:20250109T210000
DTSTAMP:20260424T053246
CREATED:20241105T194337Z
LAST-MODIFIED:20241105T194403Z
UID:3982-1736449200-1736456400@gyutofoundation.org
SUMMARY:Teaching: The Guide to the Bodhisattva’s Way of Life
DESCRIPTION:
URL:https://gyutofoundation.org/event/teaching-the-guide-to-the-bodhisattvas-way-of-life-62/
END:VEVENT
BEGIN:VEVENT
DTSTART;TZID=America/Los_Angeles:20250111T090000
DTEND;TZID=America/Los_Angeles:20250111T120000
DTSTAMP:20260424T053246
CREATED:20241213T230429Z
LAST-MODIFIED:20241213T230518Z
UID:4021-1736586000-1736596800@gyutofoundation.org
SUMMARY:Mahakala Puja
DESCRIPTION:
URL:https://gyutofoundation.org/event/mahakala-puja-23/
END:VEVENT
BEGIN:VEVENT
DTSTART;TZID=America/Los_Angeles:20250112T100000
DTEND;TZID=America/Los_Angeles:20250112T120000
DTSTAMP:20260424T053246
CREATED:20241105T201742Z
LAST-MODIFIED:20241105T201742Z
UID:3992-1736676000-1736683200@gyutofoundation.org
SUMMARY:Teaching: Stages on the Path to Enlightenment
DESCRIPTION:
URL:https://gyutofoundation.org/event/teaching-stages-on-the-path-to-enlightenment-77/
END:VEVENT
BEGIN:VEVENT
DTSTART;TZID=America/Los_Angeles:20250113T190000
DTEND;TZID=America/Los_Angeles:20250113T200000
DTSTAMP:20260424T053246
CREATED:20241105T204532Z
LAST-MODIFIED:20241105T204542Z
UID:4002-1736794800-1736798400@gyutofoundation.org
SUMMARY:Teaching: Stages on the Path to Enlightenment
DESCRIPTION:
URL:https://gyutofoundation.org/event/teaching-stages-on-the-path-to-enlightenment-80/
END:VEVENT
BEGIN:VEVENT
DTSTART;TZID=America/Los_Angeles:20250115T190000
DTEND;TZID=America/Los_Angeles:20250115T200000
DTSTAMP:20260424T053246
CREATED:20241213T230104Z
LAST-MODIFIED:20241213T230131Z
UID:4015-1736967600-1736971200@gyutofoundation.org
SUMMARY:Tara Puja
DESCRIPTION:
URL:https://gyutofoundation.org/event/tara-puja-23/
END:VEVENT
BEGIN:VEVENT
DTSTART;TZID=America/Los_Angeles:20250116T190000
DTEND;TZID=America/Los_Angeles:20250116T210000
DTSTAMP:20260424T053246
CREATED:20241105T194844Z
LAST-MODIFIED:20241105T194912Z
UID:3986-1737054000-1737061200@gyutofoundation.org
SUMMARY:Teaching: The Guide to the Bodhisattva’s Way of Life
DESCRIPTION:
URL:https://gyutofoundation.org/event/teaching-the-guide-to-the-bodhisattvas-way-of-life-64/
END:VEVENT
BEGIN:VEVENT
DTSTART;TZID=America/Los_Angeles:20250119T100000
DTEND;TZID=America/Los_Angeles:20250119T120000
DTSTAMP:20260424T053246
CREATED:20241105T204022Z
LAST-MODIFIED:20241105T204205Z
UID:3995-1737280800-1737288000@gyutofoundation.org
SUMMARY:Teaching: Stages on the Path to Enlightenment
DESCRIPTION:
URL:https://gyutofoundation.org/event/teaching-stages-on-the-path-to-enlightenment-78/
END:VEVENT
BEGIN:VEVENT
DTSTART;TZID=America/Los_Angeles:20250120T190000
DTEND;TZID=America/Los_Angeles:20250120T200000
DTSTAMP:20260424T053246
CREATED:20241105T204702Z
LAST-MODIFIED:20241105T204820Z
UID:4004-1737399600-1737403200@gyutofoundation.org
SUMMARY:Secular Meditation
DESCRIPTION:
URL:https://gyutofoundation.org/event/secular-meditation-90/
END:VEVENT
BEGIN:VEVENT
DTSTART;TZID=America/Los_Angeles:20250123T190000
DTEND;TZID=America/Los_Angeles:20250123T210000
DTSTAMP:20260424T053246
CREATED:20241105T194706Z
LAST-MODIFIED:20241105T194749Z
UID:3984-1737658800-1737666000@gyutofoundation.org
SUMMARY:Teaching: The Guide to the Bodhisattva’s Way of Life
DESCRIPTION:
URL:https://gyutofoundation.org/event/teaching-the-guide-to-the-bodhisattvas-way-of-life-63/
END:VEVENT
BEGIN:VEVENT
DTSTART;TZID=America/Los_Angeles:20250124T190000
DTEND;TZID=America/Los_Angeles:20250124T200000
DTSTAMP:20260424T053246
CREATED:20241213T230217Z
LAST-MODIFIED:20241213T230242Z
UID:4017-1737745200-1737748800@gyutofoundation.org
SUMMARY:Guru Puja
DESCRIPTION:
URL:https://gyutofoundation.org/event/guru-puja-44/
END:VEVENT
BEGIN:VEVENT
DTSTART;TZID=America/Los_Angeles:20250126T100000
DTEND;TZID=America/Los_Angeles:20250126T120000
DTSTAMP:20260424T053246
CREATED:20241105T204245Z
LAST-MODIFIED:20241105T204401Z
UID:3997-1737885600-1737892800@gyutofoundation.org
SUMMARY:Teaching: Stages on the Path to Enlightenment
DESCRIPTION:
URL:https://gyutofoundation.org/event/teaching-stages-on-the-path-to-enlightenment-79/
END:VEVENT
BEGIN:VEVENT
DTSTART;TZID=America/Los_Angeles:20250127T190000
DTEND;TZID=America/Los_Angeles:20250127T200000
DTSTAMP:20260424T053246
CREATED:20241105T204931Z
LAST-MODIFIED:20241105T204948Z
UID:4006-1738004400-1738008000@gyutofoundation.org
SUMMARY:Secular Meditation
DESCRIPTION:
URL:https://gyutofoundation.org/event/secular-meditation-91/
END:VEVENT
BEGIN:VEVENT
DTSTART;TZID=America/Los_Angeles:20250129T190000
DTEND;TZID=America/Los_Angeles:20250129T200000
DTSTAMP:20260424T053246
CREATED:20241213T230328Z
LAST-MODIFIED:20241213T230346Z
UID:4019-1738177200-1738180800@gyutofoundation.org
SUMMARY:Medicine Buddha Puja
DESCRIPTION:
URL:https://gyutofoundation.org/event/medicine-buddha-puja-25/
END:VEVENT
BEGIN:VEVENT
DTSTART;TZID=America/Los_Angeles:20250130T190000
DTEND;TZID=America/Los_Angeles:20250130T210000
DTSTAMP:20260424T053246
CREATED:20241105T194947Z
LAST-MODIFIED:20241105T194947Z
UID:3988-1738263600-1738270800@gyutofoundation.org
SUMMARY:Teaching: The Guide to the Bodhisattva’s Way of Life
DESCRIPTION:
URL:https://gyutofoundation.org/event/teaching-the-guide-to-the-bodhisattvas-way-of-life-65/
END:VEVENT
END:VCALENDAR