BEGIN:VCALENDAR
VERSION:2.0
PRODID:-//Gyuto Foundation - ECPv6.15.13//NONSGML v1.0//EN
CALSCALE:GREGORIAN
METHOD:PUBLISH
X-ORIGINAL-URL:https://gyutofoundation.org
X-WR-CALDESC:Events for Gyuto Foundation
REFRESH-INTERVAL;VALUE=DURATION:PT1H
X-Robots-Tag:noindex
X-PUBLISHED-TTL:PT1H
BEGIN:VTIMEZONE
TZID:America/Los_Angeles
BEGIN:DAYLIGHT
TZOFFSETFROM:-0800
TZOFFSETTO:-0700
TZNAME:PDT
DTSTART:20230312T100000
END:DAYLIGHT
BEGIN:STANDARD
TZOFFSETFROM:-0700
TZOFFSETTO:-0800
TZNAME:PST
DTSTART:20231105T090000
END:STANDARD
BEGIN:DAYLIGHT
TZOFFSETFROM:-0800
TZOFFSETTO:-0700
TZNAME:PDT
DTSTART:20240310T100000
END:DAYLIGHT
BEGIN:STANDARD
TZOFFSETFROM:-0700
TZOFFSETTO:-0800
TZNAME:PST
DTSTART:20241103T090000
END:STANDARD
BEGIN:DAYLIGHT
TZOFFSETFROM:-0800
TZOFFSETTO:-0700
TZNAME:PDT
DTSTART:20250309T100000
END:DAYLIGHT
BEGIN:STANDARD
TZOFFSETFROM:-0700
TZOFFSETTO:-0800
TZNAME:PST
DTSTART:20251102T090000
END:STANDARD
END:VTIMEZONE
BEGIN:VEVENT
DTSTART;TZID=America/Los_Angeles:20241201T100000
DTEND;TZID=America/Los_Angeles:20241201T120000
DTSTAMP:20260424T070144
CREATED:20240927T214552Z
LAST-MODIFIED:20240927T214612Z
UID:3932-1733047200-1733054400@gyutofoundation.org
SUMMARY:Teaching: Stages on the Path to Enlightenment
DESCRIPTION:
URL:https://gyutofoundation.org/event/teaching-stages-on-the-path-to-enlightenment-73/
END:VEVENT
BEGIN:VEVENT
DTSTART;TZID=America/Los_Angeles:20241202T190000
DTEND;TZID=America/Los_Angeles:20241202T200000
DTSTAMP:20260424T070144
CREATED:20240927T212919Z
LAST-MODIFIED:20240927T212930Z
UID:3922-1733166000-1733169600@gyutofoundation.org
SUMMARY:Secular Meditation
DESCRIPTION:
URL:https://gyutofoundation.org/event/secular-meditation-84/
END:VEVENT
BEGIN:VEVENT
DTSTART;TZID=America/Los_Angeles:20241204T190000
DTEND;TZID=America/Los_Angeles:20241204T200000
DTSTAMP:20260424T070144
CREATED:20240927T223049Z
LAST-MODIFIED:20240927T223109Z
UID:3960-1733338800-1733342400@gyutofoundation.org
SUMMARY:Tara Puja
DESCRIPTION:
URL:https://gyutofoundation.org/event/tara-puja-22/
END:VEVENT
BEGIN:VEVENT
DTSTART;TZID=America/Los_Angeles:20241205T190000
DTEND;TZID=America/Los_Angeles:20241205T210000
DTSTAMP:20260424T070144
CREATED:20240927T212013Z
LAST-MODIFIED:20240927T212024Z
UID:3913-1733425200-1733432400@gyutofoundation.org
SUMMARY:Teaching: The Way of the Bodhisattva
DESCRIPTION:
URL:https://gyutofoundation.org/event/teaching-the-way-of-the-bodhisattva-10/
END:VEVENT
BEGIN:VEVENT
DTSTART;TZID=America/Los_Angeles:20241208T100000
DTEND;TZID=America/Los_Angeles:20241208T120000
DTSTAMP:20260424T070144
CREATED:20240927T214716Z
LAST-MODIFIED:20240927T214735Z
UID:3934-1733652000-1733659200@gyutofoundation.org
SUMMARY:Teaching: Stages on the Path to Enlightenment
DESCRIPTION:
URL:https://gyutofoundation.org/event/teaching-stages-on-the-path-to-enlightenment-74/
END:VEVENT
BEGIN:VEVENT
DTSTART;TZID=America/Los_Angeles:20241209T190000
DTEND;TZID=America/Los_Angeles:20241209T200000
DTSTAMP:20260424T070144
CREATED:20240927T213725Z
LAST-MODIFIED:20240927T213809Z
UID:3926-1733770800-1733774400@gyutofoundation.org
SUMMARY:Secular Meditation
DESCRIPTION:
URL:https://gyutofoundation.org/event/secular-meditation-86/
END:VEVENT
BEGIN:VEVENT
DTSTART;TZID=America/Los_Angeles:20241212T190000
DTEND;TZID=America/Los_Angeles:20241212T210000
DTSTAMP:20260424T070144
CREATED:20240927T212107Z
LAST-MODIFIED:20240927T212125Z
UID:3915-1734030000-1734037200@gyutofoundation.org
SUMMARY:Teaching: The Way of the Bodhisattva
DESCRIPTION:
URL:https://gyutofoundation.org/event/teaching-the-way-of-the-bodhisattva-11/
END:VEVENT
BEGIN:VEVENT
DTSTART;TZID=America/Los_Angeles:20241214T090000
DTEND;TZID=America/Los_Angeles:20241214T120000
DTSTAMP:20260424T070144
CREATED:20241213T224835Z
LAST-MODIFIED:20241213T224835Z
UID:4008-1734166800-1734177600@gyutofoundation.org
SUMMARY:Mahakala Puja
DESCRIPTION:
URL:https://gyutofoundation.org/event/mahakala-puja-21/
END:VEVENT
BEGIN:VEVENT
DTSTART;TZID=America/Los_Angeles:20241214T090000
DTEND;TZID=America/Los_Angeles:20241214T120000
DTSTAMP:20260424T070144
CREATED:20241213T225009Z
LAST-MODIFIED:20241213T225023Z
UID:4011-1734166800-1734177600@gyutofoundation.org
SUMMARY:Mahakala Puja
DESCRIPTION:
URL:https://gyutofoundation.org/event/mahakala-puja-22/
END:VEVENT
BEGIN:VEVENT
DTSTART;TZID=America/Los_Angeles:20241215T100000
DTEND;TZID=America/Los_Angeles:20241215T120000
DTSTAMP:20260424T070144
CREATED:20240927T214822Z
LAST-MODIFIED:20240927T214822Z
UID:3937-1734256800-1734264000@gyutofoundation.org
SUMMARY:Teaching: Stages on the Path to Enlightenment
DESCRIPTION:
URL:https://gyutofoundation.org/event/teaching-stages-on-the-path-to-enlightenment-75/
END:VEVENT
BEGIN:VEVENT
DTSTART;TZID=America/Los_Angeles:20241216T190000
DTEND;TZID=America/Los_Angeles:20241216T200000
DTSTAMP:20260424T070144
CREATED:20240927T213004Z
LAST-MODIFIED:20240927T213428Z
UID:3924-1734375600-1734379200@gyutofoundation.org
SUMMARY:Secular Meditation
DESCRIPTION:
URL:https://gyutofoundation.org/event/secular-meditation-85/
END:VEVENT
BEGIN:VEVENT
DTSTART;TZID=America/Los_Angeles:20241218T190000
DTEND;TZID=America/Los_Angeles:20241218T200000
DTSTAMP:20260424T070144
CREATED:20240927T223213Z
LAST-MODIFIED:20240927T223229Z
UID:3962-1734548400-1734552000@gyutofoundation.org
SUMMARY:Medicine Buddha Puja
DESCRIPTION:
URL:https://gyutofoundation.org/event/medicine-buddha-puja-24/
END:VEVENT
BEGIN:VEVENT
DTSTART;TZID=America/Los_Angeles:20241223T190000
DTEND;TZID=America/Los_Angeles:20241223T200000
DTSTAMP:20260424T070144
CREATED:20240927T214307Z
LAST-MODIFIED:20240927T214332Z
UID:3928-1734980400-1734984000@gyutofoundation.org
SUMMARY:Secular Meditation
DESCRIPTION:
URL:https://gyutofoundation.org/event/secular-meditation-87/
END:VEVENT
BEGIN:VEVENT
DTSTART;TZID=America/Los_Angeles:20241225T190000
DTEND;TZID=America/Los_Angeles:20241225T200000
DTSTAMP:20260424T070144
CREATED:20241105T193028Z
LAST-MODIFIED:20241213T225512Z
UID:3978-1735153200-1735156800@gyutofoundation.org
SUMMARY:Lama Tsongkhapa Day (Ganden Ngamchoe)
DESCRIPTION:
URL:https://gyutofoundation.org/event/lama-tsongkhapa-day-ganden-ngamchoe/
END:VEVENT
BEGIN:VEVENT
DTSTART;TZID=America/Los_Angeles:20241230T190000
DTEND;TZID=America/Los_Angeles:20241230T200000
DTSTAMP:20260424T070144
CREATED:20240927T214417Z
LAST-MODIFIED:20240927T214440Z
UID:3930-1735585200-1735588800@gyutofoundation.org
SUMMARY:Secular Meditation
DESCRIPTION:
URL:https://gyutofoundation.org/event/secular-meditation-88/
END:VEVENT
END:VCALENDAR