BEGIN:VCALENDAR
VERSION:2.0
PRODID:-//Gyuto Foundation - ECPv6.15.13//NONSGML v1.0//EN
CALSCALE:GREGORIAN
METHOD:PUBLISH
X-WR-CALNAME:Gyuto Foundation
X-ORIGINAL-URL:https://gyutofoundation.org
X-WR-CALDESC:Events for Gyuto Foundation
REFRESH-INTERVAL;VALUE=DURATION:PT1H
X-Robots-Tag:noindex
X-PUBLISHED-TTL:PT1H
BEGIN:VTIMEZONE
TZID:America/Los_Angeles
BEGIN:DAYLIGHT
TZOFFSETFROM:-0800
TZOFFSETTO:-0700
TZNAME:PDT
DTSTART:20230312T100000
END:DAYLIGHT
BEGIN:STANDARD
TZOFFSETFROM:-0700
TZOFFSETTO:-0800
TZNAME:PST
DTSTART:20231105T090000
END:STANDARD
BEGIN:DAYLIGHT
TZOFFSETFROM:-0800
TZOFFSETTO:-0700
TZNAME:PDT
DTSTART:20240310T100000
END:DAYLIGHT
BEGIN:STANDARD
TZOFFSETFROM:-0700
TZOFFSETTO:-0800
TZNAME:PST
DTSTART:20241103T090000
END:STANDARD
BEGIN:DAYLIGHT
TZOFFSETFROM:-0800
TZOFFSETTO:-0700
TZNAME:PDT
DTSTART:20250309T100000
END:DAYLIGHT
BEGIN:STANDARD
TZOFFSETFROM:-0700
TZOFFSETTO:-0800
TZNAME:PST
DTSTART:20251102T090000
END:STANDARD
END:VTIMEZONE
BEGIN:VEVENT
DTSTART;TZID=America/Los_Angeles:20241104T190000
DTEND;TZID=America/Los_Angeles:20241104T200000
DTSTAMP:20260424T085245
CREATED:20240927T210845Z
LAST-MODIFIED:20240927T211247Z
UID:3897-1730746800-1730750400@gyutofoundation.org
SUMMARY:Secular Meditation
DESCRIPTION:
URL:https://gyutofoundation.org/event/secular-meditation-80/
END:VEVENT
BEGIN:VEVENT
DTSTART;TZID=America/Los_Angeles:20241106T190000
DTEND;TZID=America/Los_Angeles:20241106T200000
DTSTAMP:20260424T085245
CREATED:20240927T220507Z
LAST-MODIFIED:20240927T220543Z
UID:3945-1730919600-1730923200@gyutofoundation.org
SUMMARY:Tara Puja
DESCRIPTION:
URL:https://gyutofoundation.org/event/tara-puja-21/
END:VEVENT
BEGIN:VEVENT
DTSTART;TZID=America/Los_Angeles:20241111T190000
DTEND;TZID=America/Los_Angeles:20241111T200000
DTSTAMP:20260424T085245
CREATED:20240927T211111Z
LAST-MODIFIED:20240927T211121Z
UID:3899-1731351600-1731355200@gyutofoundation.org
SUMMARY:Secular Meditation
DESCRIPTION:
URL:https://gyutofoundation.org/event/secular-meditation-81/
END:VEVENT
BEGIN:VEVENT
DTSTART;TZID=America/Los_Angeles:20241116T090000
DTEND;TZID=America/Los_Angeles:20241116T120000
DTSTAMP:20260424T085245
CREATED:20240927T221749Z
LAST-MODIFIED:20240927T221905Z
UID:3955-1731747600-1731758400@gyutofoundation.org
SUMMARY:Mahakal Puja
DESCRIPTION:
URL:https://gyutofoundation.org/event/mahakal-puja/
END:VEVENT
BEGIN:VEVENT
DTSTART;TZID=America/Los_Angeles:20241118T190000
DTEND;TZID=America/Los_Angeles:20241118T200000
DTSTAMP:20260424T085245
CREATED:20240927T211401Z
LAST-MODIFIED:20240927T211413Z
UID:3901-1731956400-1731960000@gyutofoundation.org
SUMMARY:Secular Meditation
DESCRIPTION:
URL:https://gyutofoundation.org/event/secular-meditation-82/
END:VEVENT
BEGIN:VEVENT
DTSTART;TZID=America/Los_Angeles:20241120T190000
DTEND;TZID=America/Los_Angeles:20241120T203000
DTSTAMP:20260424T085245
CREATED:20240927T220619Z
LAST-MODIFIED:20240927T220743Z
UID:3947-1732129200-1732134600@gyutofoundation.org
SUMMARY:Medicine Buddha Puja
DESCRIPTION:
URL:https://gyutofoundation.org/event/medicine-buddha-puja-23/
END:VEVENT
BEGIN:VEVENT
DTSTART;TZID=America/Los_Angeles:20241122T190000
DTEND;TZID=America/Los_Angeles:20241122T200000
DTSTAMP:20260424T085245
CREATED:20240927T222532Z
LAST-MODIFIED:20240927T222635Z
UID:3958-1732302000-1732305600@gyutofoundation.org
SUMMARY:Buddha's Descent from Heaven (Lhabab Duchen): Special Puja
DESCRIPTION:
URL:https://gyutofoundation.org/event/buddhas-descent-from-heaven-lhabab-duchen-special-puja/
END:VEVENT
BEGIN:VEVENT
DTSTART;TZID=America/Los_Angeles:20241125T190000
DTEND;TZID=America/Los_Angeles:20241125T200000
DTSTAMP:20260424T085245
CREATED:20240927T211456Z
LAST-MODIFIED:20240927T211505Z
UID:3903-1732561200-1732564800@gyutofoundation.org
SUMMARY:Secular Meditation
DESCRIPTION:
URL:https://gyutofoundation.org/event/secular-meditation-83/
END:VEVENT
END:VCALENDAR