BEGIN:VCALENDAR
VERSION:2.0
PRODID:-//Gyuto Foundation - ECPv6.15.13//NONSGML v1.0//EN
CALSCALE:GREGORIAN
METHOD:PUBLISH
X-WR-CALNAME:Gyuto Foundation
X-ORIGINAL-URL:https://gyutofoundation.org
X-WR-CALDESC:Events for Gyuto Foundation
REFRESH-INTERVAL;VALUE=DURATION:PT1H
X-Robots-Tag:noindex
X-PUBLISHED-TTL:PT1H
BEGIN:VTIMEZONE
TZID:America/Los_Angeles
BEGIN:DAYLIGHT
TZOFFSETFROM:-0800
TZOFFSETTO:-0700
TZNAME:PDT
DTSTART:20240310T100000
END:DAYLIGHT
BEGIN:STANDARD
TZOFFSETFROM:-0700
TZOFFSETTO:-0800
TZNAME:PST
DTSTART:20241103T090000
END:STANDARD
BEGIN:DAYLIGHT
TZOFFSETFROM:-0800
TZOFFSETTO:-0700
TZNAME:PDT
DTSTART:20250309T100000
END:DAYLIGHT
BEGIN:STANDARD
TZOFFSETFROM:-0700
TZOFFSETTO:-0800
TZNAME:PST
DTSTART:20251102T090000
END:STANDARD
BEGIN:DAYLIGHT
TZOFFSETFROM:-0800
TZOFFSETTO:-0700
TZNAME:PDT
DTSTART:20260308T100000
END:DAYLIGHT
BEGIN:STANDARD
TZOFFSETFROM:-0700
TZOFFSETTO:-0800
TZNAME:PST
DTSTART:20261101T090000
END:STANDARD
END:VTIMEZONE
BEGIN:VEVENT
DTSTART;TZID=America/Los_Angeles:20250611T190000
DTEND;TZID=America/Los_Angeles:20250611T200000
DTSTAMP:20260424T055315
CREATED:20250519T223819Z
LAST-MODIFIED:20250519T223856Z
UID:4298-1749668400-1749672000@gyutofoundation.org
SUMMARY:Special Puja
DESCRIPTION:Special Puja
URL:https://gyutofoundation.org/event/special-puja/
END:VEVENT
BEGIN:VEVENT
DTSTART;TZID=America/Los_Angeles:20250611T180000
DTEND;TZID=America/Los_Angeles:20250611T190000
DTSTAMP:20260424T055315
CREATED:20250417T001649Z
LAST-MODIFIED:20250417T001722Z
UID:4268-1749664800-1749668400@gyutofoundation.org
SUMMARY:Outdoor Prostration Program
DESCRIPTION:
URL:https://gyutofoundation.org/event/outdoor-prostration-program-14/
END:VEVENT
BEGIN:VEVENT
DTSTART;TZID=America/Los_Angeles:20250611T060000
DTEND;TZID=America/Los_Angeles:20250611T070000
DTSTAMP:20260424T055315
CREATED:20250519T223701Z
LAST-MODIFIED:20250519T223717Z
UID:4296-1749621600-1749625200@gyutofoundation.org
SUMMARY:Eight Mahayana Precepts
DESCRIPTION:
URL:https://gyutofoundation.org/event/eight-mahayana-precepts-2/
END:VEVENT
BEGIN:VEVENT
DTSTART;TZID=America/Los_Angeles:20250610T180000
DTEND;TZID=America/Los_Angeles:20250610T190000
DTSTAMP:20260424T055315
CREATED:20250417T001748Z
LAST-MODIFIED:20250417T001850Z
UID:4270-1749578400-1749582000@gyutofoundation.org
SUMMARY:Outdoor Prostration Program
DESCRIPTION:
URL:https://gyutofoundation.org/event/outdoor-prostration-program-15/
END:VEVENT
BEGIN:VEVENT
DTSTART;TZID=America/Los_Angeles:20250609T180000
DTEND;TZID=America/Los_Angeles:20250609T190000
DTSTAMP:20260424T055315
CREATED:20250417T001615Z
LAST-MODIFIED:20250417T001622Z
UID:4266-1749492000-1749495600@gyutofoundation.org
SUMMARY:Outdoor Prostration Program
DESCRIPTION:
URL:https://gyutofoundation.org/event/outdoor-prostration-program-13/
END:VEVENT
BEGIN:VEVENT
DTSTART;TZID=America/Los_Angeles:20250608T180000
DTEND;TZID=America/Los_Angeles:20250608T190000
DTSTAMP:20260424T055315
CREATED:20250417T001348Z
LAST-MODIFIED:20250417T001416Z
UID:4261-1749405600-1749409200@gyutofoundation.org
SUMMARY:Outdoor Prostration Program
DESCRIPTION:
URL:https://gyutofoundation.org/event/outdoor-prostration-program-10/
END:VEVENT
BEGIN:VEVENT
DTSTART;TZID=America/Los_Angeles:20250608T100000
DTEND;TZID=America/Los_Angeles:20250608T120000
DTSTAMP:20260424T055315
CREATED:20250519T222107Z
LAST-MODIFIED:20250519T222128Z
UID:4279-1749376800-1749384000@gyutofoundation.org
SUMMARY:Teaching: Stages on the Path to Enlightenment
DESCRIPTION:
URL:https://gyutofoundation.org/event/teaching-stages-on-the-path-to-enlightenment-90/
END:VEVENT
BEGIN:VEVENT
DTSTART;TZID=America/Los_Angeles:20250607T180000
DTEND;TZID=America/Los_Angeles:20250607T190000
DTSTAMP:20260424T055315
CREATED:20250417T001526Z
LAST-MODIFIED:20250417T001540Z
UID:4264-1749319200-1749322800@gyutofoundation.org
SUMMARY:Outdoor Prostration Program
DESCRIPTION:
URL:https://gyutofoundation.org/event/outdoor-prostration-program-12/
END:VEVENT
BEGIN:VEVENT
DTSTART;TZID=America/Los_Angeles:20250607T090000
DTEND;TZID=America/Los_Angeles:20250607T120000
DTSTAMP:20260424T055315
CREATED:20250519T230639Z
LAST-MODIFIED:20250519T230655Z
UID:4312-1749286800-1749297600@gyutofoundation.org
SUMMARY:Mahakala Puja
DESCRIPTION:
URL:https://gyutofoundation.org/event/mahakala-puja-28/
END:VEVENT
BEGIN:VEVENT
DTSTART;TZID=America/Los_Angeles:20250606T180000
DTEND;TZID=America/Los_Angeles:20250606T190000
DTSTAMP:20260424T055315
CREATED:20250417T001323Z
LAST-MODIFIED:20250417T001328Z
UID:4259-1749232800-1749236400@gyutofoundation.org
SUMMARY:Outdoor Prostration Program
DESCRIPTION:
URL:https://gyutofoundation.org/event/outdoor-prostration-program-9/
END:VEVENT
BEGIN:VEVENT
DTSTART;TZID=America/Los_Angeles:20250605T190000
DTEND;TZID=America/Los_Angeles:20250605T210000
DTSTAMP:20260424T055315
CREATED:20250519T225608Z
LAST-MODIFIED:20250519T225730Z
UID:4304-1749150000-1749157200@gyutofoundation.org
SUMMARY:Teaching: The Guide to the Bodhisattva’s Way of Life
DESCRIPTION:
URL:https://gyutofoundation.org/event/teaching-the-guide-to-the-bodhisattvas-way-of-life-76/
END:VEVENT
BEGIN:VEVENT
DTSTART;TZID=America/Los_Angeles:20250605T180000
DTEND;TZID=America/Los_Angeles:20250605T190000
DTSTAMP:20260424T055315
CREATED:20250417T001233Z
LAST-MODIFIED:20250417T001249Z
UID:4257-1749146400-1749150000@gyutofoundation.org
SUMMARY:Outdoor Prostration Program
DESCRIPTION:
URL:https://gyutofoundation.org/event/outdoor-prostration-program-8/
END:VEVENT
BEGIN:VEVENT
DTSTART;TZID=America/Los_Angeles:20250604T190000
DTEND;TZID=America/Los_Angeles:20250604T200000
DTSTAMP:20260424T055315
CREATED:20250519T223555Z
LAST-MODIFIED:20250519T223619Z
UID:4294-1749063600-1749067200@gyutofoundation.org
SUMMARY:Guru Puja
DESCRIPTION:
URL:https://gyutofoundation.org/event/guru-puja-48/
END:VEVENT
BEGIN:VEVENT
DTSTART;TZID=America/Los_Angeles:20250604T180000
DTEND;TZID=America/Los_Angeles:20250604T190000
DTSTAMP:20260424T055315
CREATED:20250417T001134Z
LAST-MODIFIED:20250417T001149Z
UID:4255-1749060000-1749063600@gyutofoundation.org
SUMMARY:Outdoor Prostration Program
DESCRIPTION:
URL:https://gyutofoundation.org/event/outdoor-prostration-program-7/
END:VEVENT
BEGIN:VEVENT
DTSTART;TZID=America/Los_Angeles:20250603T180000
DTEND;TZID=America/Los_Angeles:20250603T190000
DTSTAMP:20260424T055315
CREATED:20250417T001106Z
LAST-MODIFIED:20250417T001112Z
UID:4253-1748973600-1748977200@gyutofoundation.org
SUMMARY:Outdoor Prostration Program
DESCRIPTION:
URL:https://gyutofoundation.org/event/outdoor-prostration-program-6/
END:VEVENT
BEGIN:VEVENT
DTSTART;TZID=America/Los_Angeles:20250602T190000
DTEND;TZID=America/Los_Angeles:20250602T200000
DTSTAMP:20260424T055315
CREATED:20250519T223336Z
LAST-MODIFIED:20250519T223343Z
UID:4288-1748890800-1748894400@gyutofoundation.org
SUMMARY:Secular Meditation
DESCRIPTION:
URL:https://gyutofoundation.org/event/secular-meditation-106/
END:VEVENT
BEGIN:VEVENT
DTSTART;TZID=America/Los_Angeles:20250602T180000
DTEND;TZID=America/Los_Angeles:20250602T190000
DTSTAMP:20260424T055315
CREATED:20250417T001017Z
LAST-MODIFIED:20250417T001027Z
UID:4251-1748887200-1748890800@gyutofoundation.org
SUMMARY:Outdoor Prostration Program
DESCRIPTION:
URL:https://gyutofoundation.org/event/outdoor-prostration-program-5/
END:VEVENT
BEGIN:VEVENT
DTSTART;TZID=America/Los_Angeles:20250601T180000
DTEND;TZID=America/Los_Angeles:20250601T190000
DTSTAMP:20260424T055315
CREATED:20250417T000907Z
LAST-MODIFIED:20250417T000954Z
UID:4249-1748800800-1748804400@gyutofoundation.org
SUMMARY:Outdoor Prostration Program
DESCRIPTION:
URL:https://gyutofoundation.org/event/outdoor-prostration-program-4/
END:VEVENT
BEGIN:VEVENT
DTSTART;TZID=America/Los_Angeles:20250601T100000
DTEND;TZID=America/Los_Angeles:20250601T120000
DTSTAMP:20260424T055315
CREATED:20250519T222029Z
LAST-MODIFIED:20250519T222037Z
UID:4277-1748772000-1748779200@gyutofoundation.org
SUMMARY:Teaching: Stages on the Path to Enlightenment
DESCRIPTION:
URL:https://gyutofoundation.org/event/teaching-stages-on-the-path-to-enlightenment-89/
END:VEVENT
BEGIN:VEVENT
DTSTART;TZID=America/Los_Angeles:20250531T180000
DTEND;TZID=America/Los_Angeles:20250531T190000
DTSTAMP:20260424T055315
CREATED:20250417T000738Z
LAST-MODIFIED:20250417T000805Z
UID:4246-1748714400-1748718000@gyutofoundation.org
SUMMARY:Outdoor Prostration Program
DESCRIPTION:
URL:https://gyutofoundation.org/event/outdoor-prostration-program-3/
END:VEVENT
BEGIN:VEVENT
DTSTART;TZID=America/Los_Angeles:20250530T180000
DTEND;TZID=America/Los_Angeles:20250530T190000
DTSTAMP:20260424T055315
CREATED:20250417T000635Z
LAST-MODIFIED:20250417T000642Z
UID:4243-1748628000-1748631600@gyutofoundation.org
SUMMARY:Outdoor Prostration Program
DESCRIPTION:
URL:https://gyutofoundation.org/event/outdoor-prostration-program-2/
END:VEVENT
BEGIN:VEVENT
DTSTART;TZID=America/Los_Angeles:20250529T190000
DTEND;TZID=America/Los_Angeles:20250529T210000
DTSTAMP:20260424T055315
CREATED:20250416T232407Z
LAST-MODIFIED:20250416T232549Z
UID:4206-1748545200-1748552400@gyutofoundation.org
SUMMARY:Teaching: The Guide to the Bodhisattva’s Way of Life
DESCRIPTION:
URL:https://gyutofoundation.org/event/teaching-the-guide-to-the-bodhisattvas-way-of-life-77/
END:VEVENT
BEGIN:VEVENT
DTSTART;TZID=America/Los_Angeles:20250529T180000
DTEND;TZID=America/Los_Angeles:20250529T190000
DTSTAMP:20260424T055315
CREATED:20250416T235843Z
LAST-MODIFIED:20250417T000712Z
UID:4241-1748541600-1748545200@gyutofoundation.org
SUMMARY:Outdoor Prostration Program
DESCRIPTION:
URL:https://gyutofoundation.org/event/outdoor-prostration-program-day-2/
END:VEVENT
BEGIN:VEVENT
DTSTART;TZID=America/Los_Angeles:20250528T180000
DTEND;TZID=America/Los_Angeles:20250528T190000
DTSTAMP:20260424T055315
CREATED:20250416T235740Z
LAST-MODIFIED:20250416T235800Z
UID:4239-1748455200-1748458800@gyutofoundation.org
SUMMARY:Outdoor Prostration Program
DESCRIPTION:
URL:https://gyutofoundation.org/event/outdoor-prostration-program/
END:VEVENT
BEGIN:VEVENT
DTSTART;TZID=America/Los_Angeles:20250526T060000
DTEND;TZID=America/Los_Angeles:20250526T100000
DTSTAMP:20260424T055315
CREATED:20250416T234802Z
LAST-MODIFIED:20250520T192217Z
UID:4237-1748239200-1748253600@gyutofoundation.org
SUMMARY:Fasting (Nyung-Ney) Retreat
DESCRIPTION:
URL:https://gyutofoundation.org/event/fasting-nyung-ney-retreat-3/
END:VEVENT
BEGIN:VEVENT
DTSTART;TZID=America/Los_Angeles:20250525T060000
DTEND;TZID=America/Los_Angeles:20250525T170000
DTSTAMP:20260424T055315
CREATED:20250416T234328Z
LAST-MODIFIED:20250520T191759Z
UID:4235-1748152800-1748192400@gyutofoundation.org
SUMMARY:Fasting (Nyung-Ney) Retreat
DESCRIPTION:
URL:https://gyutofoundation.org/event/fasting-nyung-ney-retreat-2/
END:VEVENT
BEGIN:VEVENT
DTSTART;TZID=America/Los_Angeles:20250524T050000
DTEND;TZID=America/Los_Angeles:20250524T170000
DTSTAMP:20260424T055315
CREATED:20250416T234207Z
LAST-MODIFIED:20250416T234212Z
UID:4233-1748062800-1748106000@gyutofoundation.org
SUMMARY:Fasting (Nyung-Ney) Retreat
DESCRIPTION:
URL:https://gyutofoundation.org/event/fasting-nyung-ney-retreat/
END:VEVENT
BEGIN:VEVENT
DTSTART;TZID=America/Los_Angeles:20250523T190000
DTEND;TZID=America/Los_Angeles:20250523T200000
DTSTAMP:20260424T055315
CREATED:20250416T234111Z
LAST-MODIFIED:20250520T191557Z
UID:4231-1748026800-1748030400@gyutofoundation.org
SUMMARY:Orientation: Fasting (Nyung-Ney) Retreat
DESCRIPTION:
URL:https://gyutofoundation.org/event/fasting-nyung-ney-retreat-orientation/
END:VEVENT
BEGIN:VEVENT
DTSTART;TZID=America/Los_Angeles:20250522T190000
DTEND;TZID=America/Los_Angeles:20250522T210000
DTSTAMP:20260424T055315
CREATED:20250416T232619Z
LAST-MODIFIED:20250416T232632Z
UID:4208-1747940400-1747947600@gyutofoundation.org
SUMMARY:Teaching: The Guide to the Bodhisattva’s Way of Life
DESCRIPTION:
URL:https://gyutofoundation.org/event/teaching-the-guide-to-the-bodhisattvas-way-of-life-78/
END:VEVENT
BEGIN:VEVENT
DTSTART;TZID=America/Los_Angeles:20250522T180000
DTEND;TZID=America/Los_Angeles:20250522T190000
DTSTAMP:20260424T055315
CREATED:20250416T233854Z
LAST-MODIFIED:20250416T233938Z
UID:4229-1747936800-1747940400@gyutofoundation.org
SUMMARY:Guru Puja
DESCRIPTION:
URL:https://gyutofoundation.org/event/guru-puja-47/
END:VEVENT
END:VCALENDAR