BEGIN:VCALENDAR
VERSION:2.0
PRODID:-//Gyuto Foundation - ECPv6.15.13//NONSGML v1.0//EN
CALSCALE:GREGORIAN
METHOD:PUBLISH
X-WR-CALNAME:Gyuto Foundation
X-ORIGINAL-URL:https://gyutofoundation.org
X-WR-CALDESC:Events for Gyuto Foundation
REFRESH-INTERVAL;VALUE=DURATION:PT1H
X-Robots-Tag:noindex
X-PUBLISHED-TTL:PT1H
BEGIN:VTIMEZONE
TZID:America/Los_Angeles
BEGIN:DAYLIGHT
TZOFFSETFROM:-0800
TZOFFSETTO:-0700
TZNAME:PDT
DTSTART:20250309T100000
END:DAYLIGHT
BEGIN:STANDARD
TZOFFSETFROM:-0700
TZOFFSETTO:-0800
TZNAME:PST
DTSTART:20251102T090000
END:STANDARD
BEGIN:DAYLIGHT
TZOFFSETFROM:-0800
TZOFFSETTO:-0700
TZNAME:PDT
DTSTART:20260308T100000
END:DAYLIGHT
BEGIN:STANDARD
TZOFFSETFROM:-0700
TZOFFSETTO:-0800
TZNAME:PST
DTSTART:20261101T090000
END:STANDARD
BEGIN:DAYLIGHT
TZOFFSETFROM:-0800
TZOFFSETTO:-0700
TZNAME:PDT
DTSTART:20270314T100000
END:DAYLIGHT
BEGIN:STANDARD
TZOFFSETFROM:-0700
TZOFFSETTO:-0800
TZNAME:PST
DTSTART:20271107T090000
END:STANDARD
END:VTIMEZONE
BEGIN:VEVENT
DTSTART;TZID=America/Los_Angeles:20260518T180000
DTEND;TZID=America/Los_Angeles:20260518T190000
DTSTAMP:20260423T142947
CREATED:20260318T180617Z
LAST-MODIFIED:20260318T180630Z
UID:4788-1779127200-1779130800@gyutofoundation.org
SUMMARY:Saga Dawa Outdoor Prostration Program
DESCRIPTION:
URL:https://gyutofoundation.org/event/saga-dawa-outdoor-prostration-program-2/
END:VEVENT
BEGIN:VEVENT
DTSTART;TZID=America/Los_Angeles:20260518T190000
DTEND;TZID=America/Los_Angeles:20260518T200000
DTSTAMP:20260423T142947
CREATED:20260318T175534Z
LAST-MODIFIED:20260318T175556Z
UID:4761-1779130800-1779134400@gyutofoundation.org
SUMMARY:Secular Meditation
DESCRIPTION:
URL:https://gyutofoundation.org/event/secular-meditation-152/
END:VEVENT
BEGIN:VEVENT
DTSTART;TZID=America/Los_Angeles:20260519T180000
DTEND;TZID=America/Los_Angeles:20260519T190000
DTSTAMP:20260423T142947
CREATED:20260318T180658Z
LAST-MODIFIED:20260318T180710Z
UID:4790-1779213600-1779217200@gyutofoundation.org
SUMMARY:Saga Dawa Outdoor Prostration Program
DESCRIPTION:
URL:https://gyutofoundation.org/event/saga-dawa-outdoor-prostration-program-3/
END:VEVENT
BEGIN:VEVENT
DTSTART;TZID=America/Los_Angeles:20260520T180000
DTEND;TZID=America/Los_Angeles:20260520T190000
DTSTAMP:20260423T142947
CREATED:20260318T180737Z
LAST-MODIFIED:20260318T180742Z
UID:4792-1779300000-1779303600@gyutofoundation.org
SUMMARY:Saga Dawa Outdoor Prostration Program
DESCRIPTION:
URL:https://gyutofoundation.org/event/saga-dawa-outdoor-prostration-program-4/
END:VEVENT
BEGIN:VEVENT
DTSTART;TZID=America/Los_Angeles:20260520T190000
DTEND;TZID=America/Los_Angeles:20260520T200000
DTSTAMP:20260423T142947
CREATED:20260318T175931Z
LAST-MODIFIED:20260318T175948Z
UID:4772-1779303600-1779307200@gyutofoundation.org
SUMMARY:Medicine Buddha Puja
DESCRIPTION:
URL:https://gyutofoundation.org/event/medicine-buddha-puja-38/
END:VEVENT
BEGIN:VEVENT
DTSTART;TZID=America/Los_Angeles:20260521T180000
DTEND;TZID=America/Los_Angeles:20260521T190000
DTSTAMP:20260423T142947
CREATED:20260318T183937Z
LAST-MODIFIED:20260318T183953Z
UID:4794-1779386400-1779390000@gyutofoundation.org
SUMMARY:Saga Dawa Outdoor Prostration Program
DESCRIPTION:
URL:https://gyutofoundation.org/event/saga-dawa-outdoor-prostration-program-5/
END:VEVENT
BEGIN:VEVENT
DTSTART;TZID=America/Los_Angeles:20260522T180000
DTEND;TZID=America/Los_Angeles:20260522T190000
DTSTAMP:20260423T142947
CREATED:20260318T180052Z
LAST-MODIFIED:20260318T180100Z
UID:4774-1779472800-1779476400@gyutofoundation.org
SUMMARY:Fasting Retreat (Nyung-Ne) Orientation
DESCRIPTION:
URL:https://gyutofoundation.org/event/fasting-retreat-nyung-ne-orientation/
END:VEVENT
BEGIN:VEVENT
DTSTART;TZID=America/Los_Angeles:20260522T180000
DTEND;TZID=America/Los_Angeles:20260522T190000
DTSTAMP:20260423T142947
CREATED:20260318T184019Z
LAST-MODIFIED:20260318T184128Z
UID:4796-1779472800-1779476400@gyutofoundation.org
SUMMARY:Saga Dawa Outdoor Prostration Program
DESCRIPTION:
URL:https://gyutofoundation.org/event/saga-dawa-outdoor-prostration-program-6/
END:VEVENT
BEGIN:VEVENT
DTSTART;VALUE=DATE:20260523
DTEND;VALUE=DATE:20260524
DTSTAMP:20260423T142947
CREATED:20260318T180131Z
LAST-MODIFIED:20260318T180146Z
UID:4776-1779494400-1779580799@gyutofoundation.org
SUMMARY:Fasting (Nyung-Ne) Retreat
DESCRIPTION:
URL:https://gyutofoundation.org/event/fasting-nyung-ne-retreat/
END:VEVENT
BEGIN:VEVENT
DTSTART;TZID=America/Los_Angeles:20260523T180000
DTEND;TZID=America/Los_Angeles:20260523T190000
DTSTAMP:20260423T142947
CREATED:20260318T184211Z
LAST-MODIFIED:20260318T184217Z
UID:4798-1779559200-1779562800@gyutofoundation.org
SUMMARY:Saga Dawa Outdoor Prostration Program
DESCRIPTION:
URL:https://gyutofoundation.org/event/saga-dawa-outdoor-prostration-program-7/
END:VEVENT
BEGIN:VEVENT
DTSTART;VALUE=DATE:20260524
DTEND;VALUE=DATE:20260525
DTSTAMP:20260423T142947
CREATED:20260318T180204Z
LAST-MODIFIED:20260318T180211Z
UID:4778-1779580800-1779667199@gyutofoundation.org
SUMMARY:Fasting (Nyung-Ne) Retreat
DESCRIPTION:
URL:https://gyutofoundation.org/event/fasting-nyung-ne-retreat-2/
END:VEVENT
BEGIN:VEVENT
DTSTART;TZID=America/Los_Angeles:20260524T180000
DTEND;TZID=America/Los_Angeles:20260524T190000
DTSTAMP:20260423T142947
CREATED:20260318T184236Z
LAST-MODIFIED:20260318T184243Z
UID:4800-1779645600-1779649200@gyutofoundation.org
SUMMARY:Saga Dawa Outdoor Prostration Program
DESCRIPTION:
URL:https://gyutofoundation.org/event/saga-dawa-outdoor-prostration-program-8/
END:VEVENT
BEGIN:VEVENT
DTSTART;TZID=America/Los_Angeles:20260525T070000
DTEND;TZID=America/Los_Angeles:20260525T100000
DTSTAMP:20260423T142947
CREATED:20260318T180231Z
LAST-MODIFIED:20260318T180243Z
UID:4780-1779692400-1779703200@gyutofoundation.org
SUMMARY:Fasting (Nyung-Ne) Retreat
DESCRIPTION:
URL:https://gyutofoundation.org/event/fasting-nyung-ne-retreat-3/
END:VEVENT
BEGIN:VEVENT
DTSTART;TZID=America/Los_Angeles:20260525T180000
DTEND;TZID=America/Los_Angeles:20260525T190000
DTSTAMP:20260423T142947
CREATED:20260318T184303Z
LAST-MODIFIED:20260318T184315Z
UID:4802-1779732000-1779735600@gyutofoundation.org
SUMMARY:Saga Dawa Outdoor Prostration Program
DESCRIPTION:
URL:https://gyutofoundation.org/event/saga-dawa-outdoor-prostration-program-9/
END:VEVENT
BEGIN:VEVENT
DTSTART;TZID=America/Los_Angeles:20260525T190000
DTEND;TZID=America/Los_Angeles:20260525T200000
DTSTAMP:20260423T142947
CREATED:20260318T175634Z
LAST-MODIFIED:20260318T175640Z
UID:4764-1779735600-1779739200@gyutofoundation.org
SUMMARY:Secular Meditation
DESCRIPTION:
URL:https://gyutofoundation.org/event/secular-meditation-153/
END:VEVENT
BEGIN:VEVENT
DTSTART;TZID=America/Los_Angeles:20260526T180000
DTEND;TZID=America/Los_Angeles:20260526T190000
DTSTAMP:20260423T142947
CREATED:20260318T184503Z
LAST-MODIFIED:20260318T184525Z
UID:4804-1779818400-1779822000@gyutofoundation.org
SUMMARY:Saga Dawa Outdoor Prostration Program
DESCRIPTION:
URL:https://gyutofoundation.org/event/saga-dawa-outdoor-prostration-program-10/
END:VEVENT
BEGIN:VEVENT
DTSTART;TZID=America/Los_Angeles:20260526T190000
DTEND;TZID=America/Los_Angeles:20260526T200000
DTSTAMP:20260423T142947
CREATED:20260318T180310Z
LAST-MODIFIED:20260318T180332Z
UID:4782-1779822000-1779825600@gyutofoundation.org
SUMMARY:Guru Puja
DESCRIPTION:
URL:https://gyutofoundation.org/event/guru-puja-67/
END:VEVENT
BEGIN:VEVENT
DTSTART;TZID=America/Los_Angeles:20260527T180000
DTEND;TZID=America/Los_Angeles:20260527T190000
DTSTAMP:20260423T142947
CREATED:20260318T184547Z
LAST-MODIFIED:20260318T184642Z
UID:4806-1779904800-1779908400@gyutofoundation.org
SUMMARY:Saga Dawa Outdoor Prostration Program
DESCRIPTION:
URL:https://gyutofoundation.org/event/saga-dawa-outdoor-prostration-program-11/
END:VEVENT
BEGIN:VEVENT
DTSTART;TZID=America/Los_Angeles:20260528T180000
DTEND;TZID=America/Los_Angeles:20260528T190000
DTSTAMP:20260423T142947
CREATED:20260318T184707Z
LAST-MODIFIED:20260318T184818Z
UID:4808-1779991200-1779994800@gyutofoundation.org
SUMMARY:Saga Dawa Outdoor Prostration Program
DESCRIPTION:
URL:https://gyutofoundation.org/event/saga-dawa-outdoor-prostration-program-12/
END:VEVENT
BEGIN:VEVENT
DTSTART;TZID=America/Los_Angeles:20260529T180000
DTEND;TZID=America/Los_Angeles:20260529T190000
DTSTAMP:20260423T142947
CREATED:20260318T184843Z
LAST-MODIFIED:20260318T184854Z
UID:4810-1780077600-1780081200@gyutofoundation.org
SUMMARY:Saga Dawa Outdoor Prostration Program
DESCRIPTION:
URL:https://gyutofoundation.org/event/saga-dawa-outdoor-prostration-program-13/
END:VEVENT
BEGIN:VEVENT
DTSTART;TZID=America/Los_Angeles:20260530T180000
DTEND;TZID=America/Los_Angeles:20260530T190000
DTSTAMP:20260423T142947
CREATED:20260318T184916Z
LAST-MODIFIED:20260318T184916Z
UID:4812-1780164000-1780167600@gyutofoundation.org
SUMMARY:Saga Dawa Outdoor Prostration Program
DESCRIPTION:
URL:https://gyutofoundation.org/event/saga-dawa-outdoor-prostration-program-14/
END:VEVENT
END:VCALENDAR