BEGIN:VCALENDAR
VERSION:2.0
PRODID:-//Gyuto Foundation - ECPv6.15.13//NONSGML v1.0//EN
CALSCALE:GREGORIAN
METHOD:PUBLISH
X-WR-CALNAME:Gyuto Foundation
X-ORIGINAL-URL:https://gyutofoundation.org
X-WR-CALDESC:Events for Gyuto Foundation
REFRESH-INTERVAL;VALUE=DURATION:PT1H
X-Robots-Tag:noindex
X-PUBLISHED-TTL:PT1H
BEGIN:VTIMEZONE
TZID:America/Los_Angeles
BEGIN:DAYLIGHT
TZOFFSETFROM:-0800
TZOFFSETTO:-0700
TZNAME:PDT
DTSTART:20240310T100000
END:DAYLIGHT
BEGIN:STANDARD
TZOFFSETFROM:-0700
TZOFFSETTO:-0800
TZNAME:PST
DTSTART:20241103T090000
END:STANDARD
BEGIN:DAYLIGHT
TZOFFSETFROM:-0800
TZOFFSETTO:-0700
TZNAME:PDT
DTSTART:20250309T100000
END:DAYLIGHT
BEGIN:STANDARD
TZOFFSETFROM:-0700
TZOFFSETTO:-0800
TZNAME:PST
DTSTART:20251102T090000
END:STANDARD
BEGIN:DAYLIGHT
TZOFFSETFROM:-0800
TZOFFSETTO:-0700
TZNAME:PDT
DTSTART:20260308T100000
END:DAYLIGHT
BEGIN:STANDARD
TZOFFSETFROM:-0700
TZOFFSETTO:-0800
TZNAME:PST
DTSTART:20261101T090000
END:STANDARD
BEGIN:DAYLIGHT
TZOFFSETFROM:-0800
TZOFFSETTO:-0700
TZNAME:PDT
DTSTART:20270314T100000
END:DAYLIGHT
BEGIN:STANDARD
TZOFFSETFROM:-0700
TZOFFSETTO:-0800
TZNAME:PST
DTSTART:20271107T090000
END:STANDARD
END:VTIMEZONE
BEGIN:VEVENT
DTSTART;TZID=America/Los_Angeles:20260204T190000
DTEND;TZID=America/Los_Angeles:20260204T200000
DTSTAMP:20260423T163305
CREATED:20260128T181956Z
LAST-MODIFIED:20260128T182010Z
UID:4683-1770231600-1770235200@gyutofoundation.org
SUMMARY:Tara Puja
DESCRIPTION:
URL:https://gyutofoundation.org/event/tara-puja-34/
END:VEVENT
BEGIN:VEVENT
DTSTART;TZID=America/Los_Angeles:20260202T190000
DTEND;TZID=America/Los_Angeles:20260202T200000
DTSTAMP:20260423T163305
CREATED:20251215T202544Z
LAST-MODIFIED:20251215T202544Z
UID:4593-1770058800-1770062400@gyutofoundation.org
SUMMARY:Secular Meditation
DESCRIPTION:
URL:https://gyutofoundation.org/event/secular-meditation-138/
END:VEVENT
BEGIN:VEVENT
DTSTART;TZID=America/Los_Angeles:20260128T190000
DTEND;TZID=America/Los_Angeles:20260128T200000
DTSTAMP:20260423T163305
CREATED:20251206T005903Z
LAST-MODIFIED:20251206T010059Z
UID:4539-1769626800-1769630400@gyutofoundation.org
SUMMARY:Guru Puja
DESCRIPTION:
URL:https://gyutofoundation.org/event/guru-puja-61/
END:VEVENT
BEGIN:VEVENT
DTSTART;TZID=America/Los_Angeles:20260126T190000
DTEND;TZID=America/Los_Angeles:20260126T200000
DTSTAMP:20260423T163305
CREATED:20251215T201634Z
LAST-MODIFIED:20251215T201812Z
UID:4587-1769454000-1769457600@gyutofoundation.org
SUMMARY:Secular Meditation
DESCRIPTION:
URL:https://gyutofoundation.org/event/secular-meditation-132/
END:VEVENT
BEGIN:VEVENT
DTSTART;TZID=America/Los_Angeles:20260125T140000
DTEND;TZID=America/Los_Angeles:20260125T153000
DTSTAMP:20260423T163305
CREATED:20251223T031623Z
LAST-MODIFIED:20251223T031638Z
UID:4600-1769349600-1769355000@gyutofoundation.org
SUMMARY:Special Teaching: Geshe Thupten Jinpa
DESCRIPTION:
URL:https://gyutofoundation.org/event/special-teaching-geshe-thupten-jinpa/
END:VEVENT
BEGIN:VEVENT
DTSTART;TZID=America/Los_Angeles:20260121T190000
DTEND;TZID=America/Los_Angeles:20260121T200000
DTSTAMP:20260423T163305
CREATED:20251206T005710Z
LAST-MODIFIED:20251206T005819Z
UID:4537-1769022000-1769025600@gyutofoundation.org
SUMMARY:Medicine Buddha Puja
DESCRIPTION:
URL:https://gyutofoundation.org/event/medicine-buddha-puja-34/
END:VEVENT
BEGIN:VEVENT
DTSTART;TZID=America/Los_Angeles:20260119T190000
DTEND;TZID=America/Los_Angeles:20260119T200000
DTSTAMP:20260423T163305
CREATED:20251215T201129Z
LAST-MODIFIED:20251215T201546Z
UID:4585-1768849200-1768852800@gyutofoundation.org
SUMMARY:Secular Meditation
DESCRIPTION:
URL:https://gyutofoundation.org/event/secular-meditation-131/
END:VEVENT
BEGIN:VEVENT
DTSTART;TZID=America/Los_Angeles:20260112T190000
DTEND;TZID=America/Los_Angeles:20260112T200000
DTSTAMP:20260423T163305
CREATED:20251215T200954Z
LAST-MODIFIED:20251215T201026Z
UID:4582-1768244400-1768248000@gyutofoundation.org
SUMMARY:Secular Meditation
DESCRIPTION:
URL:https://gyutofoundation.org/event/secular-meditation-130/
END:VEVENT
BEGIN:VEVENT
DTSTART;TZID=America/Los_Angeles:20260110T090000
DTEND;TZID=America/Los_Angeles:20260110T120000
DTSTAMP:20260423T163305
CREATED:20251206T003426Z
LAST-MODIFIED:20251206T003502Z
UID:4532-1768035600-1768046400@gyutofoundation.org
SUMMARY:Mahakala Puja
DESCRIPTION:
URL:https://gyutofoundation.org/event/mahakala-puja-37/
END:VEVENT
BEGIN:VEVENT
DTSTART;TZID=America/Los_Angeles:20260107T190000
DTEND;TZID=America/Los_Angeles:20260107T200000
DTSTAMP:20260423T163305
CREATED:20251206T000305Z
LAST-MODIFIED:20251206T000320Z
UID:4530-1767812400-1767816000@gyutofoundation.org
SUMMARY:Tara Puja
DESCRIPTION:
URL:https://gyutofoundation.org/event/tara-puja-33/
END:VEVENT
BEGIN:VEVENT
DTSTART;TZID=America/Los_Angeles:20260105T190000
DTEND;TZID=America/Los_Angeles:20260105T200000
DTSTAMP:20260423T163305
CREATED:20251215T201917Z
LAST-MODIFIED:20251215T201954Z
UID:4589-1767639600-1767643200@gyutofoundation.org
SUMMARY:Secular Meditation
DESCRIPTION:
URL:https://gyutofoundation.org/event/secular-meditation-137/
END:VEVENT
BEGIN:VEVENT
DTSTART;TZID=America/Los_Angeles:20251229T190000
DTEND;TZID=America/Los_Angeles:20251229T200000
DTSTAMP:20260423T163305
CREATED:20251120T002837Z
LAST-MODIFIED:20251120T002843Z
UID:4528-1767034800-1767038400@gyutofoundation.org
SUMMARY:Secular Meditation
DESCRIPTION:
URL:https://gyutofoundation.org/event/secular-meditation-129/
END:VEVENT
BEGIN:VEVENT
DTSTART;TZID=America/Los_Angeles:20251228T190000
DTEND;TZID=America/Los_Angeles:20251228T200000
DTSTAMP:20260423T163305
CREATED:20251014T191337Z
LAST-MODIFIED:20251014T191345Z
UID:4503-1766948400-1766952000@gyutofoundation.org
SUMMARY:Guru Puja
DESCRIPTION:
URL:https://gyutofoundation.org/event/guru-puja-59/
END:VEVENT
BEGIN:VEVENT
DTSTART;TZID=America/Los_Angeles:20251222T190000
DTEND;TZID=America/Los_Angeles:20251222T200000
DTSTAMP:20260423T163305
CREATED:20251104T201341Z
LAST-MODIFIED:20251104T201347Z
UID:4519-1766430000-1766433600@gyutofoundation.org
SUMMARY:Secular Meditation
DESCRIPTION:
URL:https://gyutofoundation.org/event/secular-meditation-136/
END:VEVENT
BEGIN:VEVENT
DTSTART;TZID=America/Los_Angeles:20251215T190000
DTEND;TZID=America/Los_Angeles:20251215T200000
DTSTAMP:20260423T163305
CREATED:20251104T201258Z
LAST-MODIFIED:20251104T201313Z
UID:4517-1765825200-1765828800@gyutofoundation.org
SUMMARY:Secular Meditation
DESCRIPTION:
URL:https://gyutofoundation.org/event/secular-meditation-135/
END:VEVENT
BEGIN:VEVENT
DTSTART;TZID=America/Los_Angeles:20251214T180000
DTEND;TZID=America/Los_Angeles:20251214T190000
DTSTAMP:20260423T163305
CREATED:20251104T201644Z
LAST-MODIFIED:20251104T201858Z
UID:4523-1765735200-1765738800@gyutofoundation.org
SUMMARY:Lama Tsongkhapa Day (Gaden Ngamchoe) Puja
DESCRIPTION:
URL:https://gyutofoundation.org/event/mahakala-puja-36/
END:VEVENT
BEGIN:VEVENT
DTSTART;TZID=America/Los_Angeles:20251213T090000
DTEND;TZID=America/Los_Angeles:20251213T120000
DTSTAMP:20260423T163305
CREATED:20251014T191033Z
LAST-MODIFIED:20251014T191100Z
UID:4499-1765616400-1765627200@gyutofoundation.org
SUMMARY:Mahakala Puja
DESCRIPTION:
URL:https://gyutofoundation.org/event/mahakala-puja-35/
END:VEVENT
BEGIN:VEVENT
DTSTART;TZID=America/Los_Angeles:20251212T080000
DTEND;TZID=America/Los_Angeles:20251212T170000
DTSTAMP:20260423T163305
CREATED:20251212T202502Z
LAST-MODIFIED:20251212T202544Z
UID:4553-1765526400-1765558800@gyutofoundation.org
SUMMARY:Venerable Kyabjey Khensur Jhado Rinpoche: Thirteen-Deity Yamantaka Initiation
DESCRIPTION:Six-session yoga commitment.
URL:https://gyutofoundation.org/event/venerable-kyabjey-khensur-jhado-rinpoche-thirteen-deity-yamantaka-initiation/
END:VEVENT
BEGIN:VEVENT
DTSTART;TZID=America/Los_Angeles:20251208T190000
DTEND;TZID=America/Los_Angeles:20251208T200000
DTSTAMP:20260423T163305
CREATED:20251104T201216Z
LAST-MODIFIED:20251104T201229Z
UID:4515-1765220400-1765224000@gyutofoundation.org
SUMMARY:Secular Meditation
DESCRIPTION:
URL:https://gyutofoundation.org/event/secular-meditation-134/
END:VEVENT
BEGIN:VEVENT
DTSTART;TZID=America/Los_Angeles:20251201T190000
DTEND;TZID=America/Los_Angeles:20251201T200000
DTSTAMP:20260423T163305
CREATED:20251104T201131Z
LAST-MODIFIED:20251104T201149Z
UID:4513-1764615600-1764619200@gyutofoundation.org
SUMMARY:Secular Meditation
DESCRIPTION:
URL:https://gyutofoundation.org/event/secular-meditation-133/
END:VEVENT
BEGIN:VEVENT
DTSTART;TZID=America/Los_Angeles:20251130T190000
DTEND;TZID=America/Los_Angeles:20251130T200000
DTSTAMP:20260423T163305
CREATED:20251014T190441Z
LAST-MODIFIED:20251014T190604Z
UID:4489-1764529200-1764532800@gyutofoundation.org
SUMMARY:Guru Puja
DESCRIPTION:
URL:https://gyutofoundation.org/event/guru-puja-58/
END:VEVENT
BEGIN:VEVENT
DTSTART;TZID=America/Los_Angeles:20251124T190000
DTEND;TZID=America/Los_Angeles:20251124T200000
DTSTAMP:20260423T163305
CREATED:20251014T185408Z
LAST-MODIFIED:20251014T185502Z
UID:4476-1764010800-1764014400@gyutofoundation.org
SUMMARY:Secular Meditation
DESCRIPTION:
URL:https://gyutofoundation.org/event/secular-meditation-128/
END:VEVENT
BEGIN:VEVENT
DTSTART;TZID=America/Los_Angeles:20251119T190000
DTEND;TZID=America/Los_Angeles:20251119T200000
DTSTAMP:20260423T163305
CREATED:20251014T190237Z
LAST-MODIFIED:20251014T190303Z
UID:4485-1763578800-1763582400@gyutofoundation.org
SUMMARY:Medicine Buddha Puja
DESCRIPTION:
URL:https://gyutofoundation.org/event/medicine-buddha-puja-33/
END:VEVENT
BEGIN:VEVENT
DTSTART;TZID=America/Los_Angeles:20251117T190000
DTEND;TZID=America/Los_Angeles:20251117T200000
DTSTAMP:20260423T163305
CREATED:20251014T185134Z
LAST-MODIFIED:20251014T185226Z
UID:4474-1763406000-1763409600@gyutofoundation.org
SUMMARY:Secular Meditation
DESCRIPTION:
URL:https://gyutofoundation.org/event/secular-meditation-127/
END:VEVENT
BEGIN:VEVENT
DTSTART;TZID=America/Los_Angeles:20251114T190000
DTEND;TZID=America/Los_Angeles:20251114T200000
DTSTAMP:20260423T163305
CREATED:20251014T190351Z
LAST-MODIFIED:20251014T190408Z
UID:4487-1763146800-1763150400@gyutofoundation.org
SUMMARY:Guru Puja
DESCRIPTION:
URL:https://gyutofoundation.org/event/guru-puja-57/
END:VEVENT
BEGIN:VEVENT
DTSTART;TZID=America/Los_Angeles:20251111T190000
DTEND;TZID=America/Los_Angeles:20251111T200000
DTSTAMP:20260423T163305
CREATED:20251014T190020Z
LAST-MODIFIED:20251014T190146Z
UID:4482-1762887600-1762891200@gyutofoundation.org
SUMMARY:Buddha's Descent from Tushita Heaven (Lhabab Duchen) Puja
DESCRIPTION:
URL:https://gyutofoundation.org/event/buddhas-descent-from-tushita-heaven-lhabab-duchen-puja/
END:VEVENT
BEGIN:VEVENT
DTSTART;TZID=America/Los_Angeles:20251110T190000
DTEND;TZID=America/Los_Angeles:20251110T200000
DTSTAMP:20260423T163305
CREATED:20251014T185010Z
LAST-MODIFIED:20251014T185031Z
UID:4472-1762801200-1762804800@gyutofoundation.org
SUMMARY:Secular Meditation
DESCRIPTION:
URL:https://gyutofoundation.org/event/secular-meditation-126/
END:VEVENT
BEGIN:VEVENT
DTSTART;TZID=America/Los_Angeles:20251108T090000
DTEND;TZID=America/Los_Angeles:20251108T120000
DTSTAMP:20260423T163305
CREATED:20251014T185721Z
LAST-MODIFIED:20251014T185749Z
UID:4480-1762592400-1762603200@gyutofoundation.org
SUMMARY:Mahakala Puja
DESCRIPTION:
URL:https://gyutofoundation.org/event/mahakala-puja-34/
END:VEVENT
BEGIN:VEVENT
DTSTART;TZID=America/Los_Angeles:20251105T190000
DTEND;TZID=America/Los_Angeles:20251105T200000
DTSTAMP:20260423T163305
CREATED:20251014T185528Z
LAST-MODIFIED:20251014T185617Z
UID:4478-1762369200-1762372800@gyutofoundation.org
SUMMARY:Tara Puja
DESCRIPTION:
URL:https://gyutofoundation.org/event/tara-puja-32/
END:VEVENT
BEGIN:VEVENT
DTSTART;TZID=America/Los_Angeles:20251103T190000
DTEND;TZID=America/Los_Angeles:20251103T200000
DTSTAMP:20260423T163305
CREATED:20251014T184915Z
LAST-MODIFIED:20251014T184941Z
UID:4470-1762196400-1762200000@gyutofoundation.org
SUMMARY:Secular Meditation
DESCRIPTION:
URL:https://gyutofoundation.org/event/secular-meditation-125/
END:VEVENT
END:VCALENDAR