BEGIN:VCALENDAR
VERSION:2.0
PRODID:-//Gyuto Foundation - ECPv6.15.13//NONSGML v1.0//EN
CALSCALE:GREGORIAN
METHOD:PUBLISH
X-WR-CALNAME:Gyuto Foundation
X-ORIGINAL-URL:https://gyutofoundation.org
X-WR-CALDESC:Events for Gyuto Foundation
REFRESH-INTERVAL;VALUE=DURATION:PT1H
X-Robots-Tag:noindex
X-PUBLISHED-TTL:PT1H
BEGIN:VTIMEZONE
TZID:America/Los_Angeles
BEGIN:DAYLIGHT
TZOFFSETFROM:-0800
TZOFFSETTO:-0700
TZNAME:PDT
DTSTART:20220313T100000
END:DAYLIGHT
BEGIN:STANDARD
TZOFFSETFROM:-0700
TZOFFSETTO:-0800
TZNAME:PST
DTSTART:20221106T090000
END:STANDARD
BEGIN:DAYLIGHT
TZOFFSETFROM:-0800
TZOFFSETTO:-0700
TZNAME:PDT
DTSTART:20230312T100000
END:DAYLIGHT
BEGIN:STANDARD
TZOFFSETFROM:-0700
TZOFFSETTO:-0800
TZNAME:PST
DTSTART:20231105T090000
END:STANDARD
BEGIN:DAYLIGHT
TZOFFSETFROM:-0800
TZOFFSETTO:-0700
TZNAME:PDT
DTSTART:20240310T100000
END:DAYLIGHT
BEGIN:STANDARD
TZOFFSETFROM:-0700
TZOFFSETTO:-0800
TZNAME:PST
DTSTART:20241103T090000
END:STANDARD
END:VTIMEZONE
BEGIN:VEVENT
DTSTART;TZID=America/Los_Angeles:20231222T110000
DTEND;TZID=America/Los_Angeles:20231222T120000
DTSTAMP:20260425T201054
CREATED:20231014T041845Z
LAST-MODIFIED:20231219T031350Z
UID:3350-1703242800-1703246400@gyutofoundation.org
SUMMARY:Guru Puja
DESCRIPTION:
URL:https://gyutofoundation.org/event/guru-puja-22/
END:VEVENT
BEGIN:VEVENT
DTSTART;TZID=America/Los_Angeles:20231221T110000
DTEND;TZID=America/Los_Angeles:20231221T130000
DTSTAMP:20260425T201054
CREATED:20231014T041119Z
LAST-MODIFIED:20231014T041204Z
UID:3342-1703156400-1703163600@gyutofoundation.org
SUMMARY:Teaching: The Guide to the Bodhisattva’s Way of Life
DESCRIPTION:
URL:https://gyutofoundation.org/event/medicine-buddha-puja-12/
END:VEVENT
BEGIN:VEVENT
DTSTART;TZID=America/Los_Angeles:20231220T110000
DTEND;TZID=America/Los_Angeles:20231220T120000
DTSTAMP:20260425T201054
CREATED:20231014T041303Z
LAST-MODIFIED:20231014T041614Z
UID:3345-1703070000-1703073600@gyutofoundation.org
SUMMARY:Medicine Buddha Puja
DESCRIPTION:
URL:https://gyutofoundation.org/event/medicine-buddha-puja-13/
END:VEVENT
BEGIN:VEVENT
DTSTART;TZID=America/Los_Angeles:20231218T110000
DTEND;TZID=America/Los_Angeles:20231218T120000
DTSTAMP:20260425T201054
CREATED:20231014T040955Z
LAST-MODIFIED:20231014T041039Z
UID:3340-1702897200-1702900800@gyutofoundation.org
SUMMARY:Secular Meditation
DESCRIPTION:
URL:https://gyutofoundation.org/event/secular-meditation-41/
END:VEVENT
BEGIN:VEVENT
DTSTART;TZID=America/Los_Angeles:20231217T020000
DTEND;TZID=America/Los_Angeles:20231217T040000
DTSTAMP:20260425T201054
CREATED:20231014T041705Z
LAST-MODIFIED:20231109T012423Z
UID:3348-1702778400-1702785600@gyutofoundation.org
SUMMARY:Teaching: Stages on the Path to Enlightenment
DESCRIPTION:
URL:https://gyutofoundation.org/event/teaching-stages-on-the-path-to-enlightenment-43/
END:VEVENT
BEGIN:VEVENT
DTSTART;TZID=America/Los_Angeles:20231214T110000
DTEND;TZID=America/Los_Angeles:20231214T130000
DTSTAMP:20260425T201054
CREATED:20231014T040816Z
LAST-MODIFIED:20231014T040853Z
UID:3338-1702551600-1702558800@gyutofoundation.org
SUMMARY:Teaching: The Guide to the Bodhisattva’s Way of Life
DESCRIPTION:
URL:https://gyutofoundation.org/event/teaching-the-guide-to-the-bodhisattvas-way-of-life-38/
END:VEVENT
BEGIN:VEVENT
DTSTART;TZID=America/Los_Angeles:20231211T110000
DTEND;TZID=America/Los_Angeles:20231211T120000
DTSTAMP:20260425T201054
CREATED:20231014T040635Z
LAST-MODIFIED:20231014T040704Z
UID:3336-1702292400-1702296000@gyutofoundation.org
SUMMARY:Secular Meditation
DESCRIPTION:
URL:https://gyutofoundation.org/event/secular-meditation-40/
END:VEVENT
BEGIN:VEVENT
DTSTART;TZID=America/Los_Angeles:20231209T010000
DTEND;TZID=America/Los_Angeles:20231209T040000
DTSTAMP:20260425T201054
CREATED:20231014T040043Z
LAST-MODIFIED:20231014T040159Z
UID:3330-1702083600-1702094400@gyutofoundation.org
SUMMARY:Mahakala Puja
DESCRIPTION:
URL:https://gyutofoundation.org/event/mahakala-puja-7/
END:VEVENT
BEGIN:VEVENT
DTSTART;TZID=America/Los_Angeles:20231207T110000
DTEND;TZID=America/Los_Angeles:20231207T120000
DTSTAMP:20260425T201054
CREATED:20231014T035321Z
LAST-MODIFIED:20231014T035447Z
UID:3327-1701946800-1701950400@gyutofoundation.org
SUMMARY:Lama Tsongkhapa Day Puja
DESCRIPTION:
URL:https://gyutofoundation.org/event/lama-tsongkhapa-day-puja/
END:VEVENT
BEGIN:VEVENT
DTSTART;TZID=America/Los_Angeles:20231206T110000
DTEND;TZID=America/Los_Angeles:20231206T120000
DTSTAMP:20260425T201054
CREATED:20231014T034954Z
LAST-MODIFIED:20231014T034954Z
UID:3325-1701860400-1701864000@gyutofoundation.org
SUMMARY:Tara Puja
DESCRIPTION:
URL:https://gyutofoundation.org/event/tara-puja-11/
END:VEVENT
BEGIN:VEVENT
DTSTART;TZID=America/Los_Angeles:20231204T110000
DTEND;TZID=America/Los_Angeles:20231204T120000
DTSTAMP:20260425T201054
CREATED:20231014T034637Z
LAST-MODIFIED:20231014T034828Z
UID:3323-1701687600-1701691200@gyutofoundation.org
SUMMARY:Secular Meditation
DESCRIPTION:
URL:https://gyutofoundation.org/event/secular-meditation-39/
END:VEVENT
BEGIN:VEVENT
DTSTART;TZID=America/Los_Angeles:20231203T020000
DTEND;TZID=America/Los_Angeles:20231203T040000
DTSTAMP:20260425T201054
CREATED:20231014T034206Z
LAST-MODIFIED:20231014T034238Z
UID:3321-1701568800-1701576000@gyutofoundation.org
SUMMARY:Teaching: Stages on the Path to Enlightenment
DESCRIPTION:
URL:https://gyutofoundation.org/event/teaching-stages-on-the-path-to-enlightenment-40/
END:VEVENT
BEGIN:VEVENT
DTSTART;TZID=America/Los_Angeles:20231130T110000
DTEND;TZID=America/Los_Angeles:20231130T130000
DTSTAMP:20260425T201054
CREATED:20231014T033908Z
LAST-MODIFIED:20231014T034016Z
UID:3319-1701342000-1701349200@gyutofoundation.org
SUMMARY:Teaching: The Guide to the Bodhisattva’s Way of Life
DESCRIPTION:
URL:https://gyutofoundation.org/event/teaching-the-guide-to-the-bodhisattvas-way-of-life-37/
END:VEVENT
BEGIN:VEVENT
DTSTART;TZID=America/Los_Angeles:20231127T110000
DTEND;TZID=America/Los_Angeles:20231127T120000
DTSTAMP:20260425T201054
CREATED:20231014T033327Z
LAST-MODIFIED:20231014T033351Z
UID:3315-1701082800-1701086400@gyutofoundation.org
SUMMARY:Secular Meditation
DESCRIPTION:
URL:https://gyutofoundation.org/event/secular-meditation-38/
END:VEVENT
BEGIN:VEVENT
DTSTART;TZID=America/Los_Angeles:20231126T020000
DTEND;TZID=America/Los_Angeles:20231126T040000
DTSTAMP:20260425T201054
CREATED:20231014T033015Z
LAST-MODIFIED:20231014T033222Z
UID:3313-1700964000-1700971200@gyutofoundation.org
SUMMARY:Teaching: Stages on the Path to Enlightenment
DESCRIPTION:
URL:https://gyutofoundation.org/event/teaching-stages-on-the-path-to-enlightenment-39/
END:VEVENT
BEGIN:VEVENT
DTSTART;TZID=America/Los_Angeles:20231122T110000
DTEND;TZID=America/Los_Angeles:20231122T120000
DTSTAMP:20260425T201054
CREATED:20231014T032400Z
LAST-MODIFIED:20231014T032726Z
UID:3311-1700650800-1700654400@gyutofoundation.org
SUMMARY:Guru Puja
DESCRIPTION:
URL:https://gyutofoundation.org/event/guru-puja-19/
END:VEVENT
BEGIN:VEVENT
DTSTART;TZID=America/Los_Angeles:20231120T110000
DTEND;TZID=America/Los_Angeles:20231120T120000
DTSTAMP:20260425T201054
CREATED:20231014T032259Z
LAST-MODIFIED:20231014T032328Z
UID:3308-1700478000-1700481600@gyutofoundation.org
SUMMARY:Secular Meditation
DESCRIPTION:
URL:https://gyutofoundation.org/event/secular-meditation-37/
END:VEVENT
BEGIN:VEVENT
DTSTART;TZID=America/Los_Angeles:20231119T020000
DTEND;TZID=America/Los_Angeles:20231119T040000
DTSTAMP:20260425T201054
CREATED:20231014T032124Z
LAST-MODIFIED:20231014T032213Z
UID:3306-1700359200-1700366400@gyutofoundation.org
SUMMARY:Teaching: Stages on the Path to Enlightenment
DESCRIPTION:
URL:https://gyutofoundation.org/event/teaching-stages-on-the-path-to-enlightenment-38/
END:VEVENT
BEGIN:VEVENT
DTSTART;TZID=America/Los_Angeles:20231116T110000
DTEND;TZID=America/Los_Angeles:20231116T130000
DTSTAMP:20260425T201054
CREATED:20231014T031659Z
LAST-MODIFIED:20231014T031803Z
UID:3303-1700132400-1700139600@gyutofoundation.org
SUMMARY:Teaching: The Guide to the Bodhisattva’s Way of Life
DESCRIPTION:
URL:https://gyutofoundation.org/event/teaching-the-guide-to-the-bodhisattvas-way-of-life-36/
END:VEVENT
BEGIN:VEVENT
DTSTART;TZID=America/Los_Angeles:20231115T110000
DTEND;TZID=America/Los_Angeles:20231115T120000
DTSTAMP:20260425T201054
CREATED:20231014T025527Z
LAST-MODIFIED:20231014T031550Z
UID:3301-1700046000-1700049600@gyutofoundation.org
SUMMARY:Medicine Buddha Puja
DESCRIPTION:
URL:https://gyutofoundation.org/event/medicine-buddha-puja-11/
END:VEVENT
BEGIN:VEVENT
DTSTART;TZID=America/Los_Angeles:20231113T110000
DTEND;TZID=America/Los_Angeles:20231113T120000
DTSTAMP:20260425T201054
CREATED:20231014T025247Z
LAST-MODIFIED:20231014T025440Z
UID:3299-1699873200-1699876800@gyutofoundation.org
SUMMARY:Secular Meditation
DESCRIPTION:
URL:https://gyutofoundation.org/event/secular-meditation-36/
END:VEVENT
BEGIN:VEVENT
DTSTART;TZID=America/Los_Angeles:20231112T020000
DTEND;TZID=America/Los_Angeles:20231112T040000
DTSTAMP:20260425T201054
CREATED:20231014T025032Z
LAST-MODIFIED:20231014T025059Z
UID:3296-1699754400-1699761600@gyutofoundation.org
SUMMARY:Teaching: Stages on the Path to Enlightenment
DESCRIPTION:
URL:https://gyutofoundation.org/event/teaching-stages-on-the-path-to-enlightenment-37/
END:VEVENT
BEGIN:VEVENT
DTSTART;TZID=America/Los_Angeles:20231111T010000
DTEND;TZID=America/Los_Angeles:20231111T040000
DTSTAMP:20260425T201054
CREATED:20231003T040436Z
LAST-MODIFIED:20231003T040500Z
UID:3292-1699664400-1699675200@gyutofoundation.org
SUMMARY:Mahakala Puja
DESCRIPTION:
URL:https://gyutofoundation.org/event/mahakala-puja-8/
END:VEVENT
BEGIN:VEVENT
DTSTART;TZID=America/Los_Angeles:20231109T110000
DTEND;TZID=America/Los_Angeles:20231109T130000
DTSTAMP:20260425T201054
CREATED:20231003T040328Z
LAST-MODIFIED:20231003T040405Z
UID:3290-1699527600-1699534800@gyutofoundation.org
SUMMARY:Teaching: The Guide to the Bodhisattva’s Way of Life
DESCRIPTION:
URL:https://gyutofoundation.org/event/teaching-the-guide-to-the-bodhisattvas-way-of-life-35/
END:VEVENT
BEGIN:VEVENT
DTSTART;TZID=America/Los_Angeles:20231106T110000
DTEND;TZID=America/Los_Angeles:20231106T120000
DTSTAMP:20260425T201054
CREATED:20231003T040100Z
LAST-MODIFIED:20231003T040138Z
UID:3287-1699268400-1699272000@gyutofoundation.org
SUMMARY:Secular Meditation
DESCRIPTION:
URL:https://gyutofoundation.org/event/secular-meditation-35/
END:VEVENT
BEGIN:VEVENT
DTSTART;TZID=America/Los_Angeles:20231105T110000
DTEND;TZID=America/Los_Angeles:20231105T130000
DTSTAMP:20260425T201054
CREATED:20231003T035935Z
LAST-MODIFIED:20231003T035947Z
UID:3285-1699182000-1699189200@gyutofoundation.org
SUMMARY:Teaching: Stages on the Path to Enlightenment
DESCRIPTION:
URL:https://gyutofoundation.org/event/teaching-stages-on-the-path-to-enlightenment-36/
END:VEVENT
BEGIN:VEVENT
DTSTART;TZID=America/Los_Angeles:20231104T110000
DTEND;TZID=America/Los_Angeles:20231104T120000
DTSTAMP:20260425T201054
CREATED:20231003T035558Z
LAST-MODIFIED:20231003T035648Z
UID:3281-1699095600-1699099200@gyutofoundation.org
SUMMARY:Special Puja: Festival of the Buddha's Descent from Heaven (Lhabab Duchen)
DESCRIPTION:
URL:https://gyutofoundation.org/event/special-puja-festival-of-the-buddhas-descent-from-heaven/
END:VEVENT
BEGIN:VEVENT
DTSTART;TZID=America/Los_Angeles:20231102T120000
DTEND;TZID=America/Los_Angeles:20231102T140000
DTSTAMP:20260425T201054
CREATED:20231003T033754Z
LAST-MODIFIED:20231003T033830Z
UID:3279-1698926400-1698933600@gyutofoundation.org
SUMMARY:Teaching: The Guide to the Bodhisattva’s Way of Life
DESCRIPTION:
URL:https://gyutofoundation.org/event/teaching-the-guide-to-the-bodhisattvas-way-of-life-34/
END:VEVENT
BEGIN:VEVENT
DTSTART;TZID=America/Los_Angeles:20231101T120000
DTEND;TZID=America/Los_Angeles:20231101T130000
DTSTAMP:20260425T201054
CREATED:20231003T033503Z
LAST-MODIFIED:20231003T033523Z
UID:3277-1698840000-1698843600@gyutofoundation.org
SUMMARY:Tara Puja
DESCRIPTION:
URL:https://gyutofoundation.org/event/tara-puja-10/
END:VEVENT
BEGIN:VEVENT
DTSTART;TZID=America/Los_Angeles:20231031T100000
DTEND;TZID=America/Los_Angeles:20231031T130000
DTSTAMP:20260425T201054
CREATED:20231003T005036Z
LAST-MODIFIED:20231003T005036Z
UID:3274-1698746400-1698757200@gyutofoundation.org
SUMMARY:Halloween Celebration and Haunted Garden
DESCRIPTION:
URL:https://gyutofoundation.org/event/halloween-celebration-and-haunted-garden/
END:VEVENT
END:VCALENDAR