BEGIN:VCALENDAR
VERSION:2.0
PRODID:-//Gyuto Foundation - ECPv6.15.13//NONSGML v1.0//EN
CALSCALE:GREGORIAN
METHOD:PUBLISH
X-WR-CALNAME:Gyuto Foundation
X-ORIGINAL-URL:https://gyutofoundation.org
X-WR-CALDESC:Events for Gyuto Foundation
REFRESH-INTERVAL;VALUE=DURATION:PT1H
X-Robots-Tag:noindex
X-PUBLISHED-TTL:PT1H
BEGIN:VTIMEZONE
TZID:America/Los_Angeles
BEGIN:DAYLIGHT
TZOFFSETFROM:-0800
TZOFFSETTO:-0700
TZNAME:PDT
DTSTART:20220313T100000
END:DAYLIGHT
BEGIN:STANDARD
TZOFFSETFROM:-0700
TZOFFSETTO:-0800
TZNAME:PST
DTSTART:20221106T090000
END:STANDARD
BEGIN:DAYLIGHT
TZOFFSETFROM:-0800
TZOFFSETTO:-0700
TZNAME:PDT
DTSTART:20230312T100000
END:DAYLIGHT
BEGIN:STANDARD
TZOFFSETFROM:-0700
TZOFFSETTO:-0800
TZNAME:PST
DTSTART:20231105T090000
END:STANDARD
BEGIN:DAYLIGHT
TZOFFSETFROM:-0800
TZOFFSETTO:-0700
TZNAME:PDT
DTSTART:20240310T100000
END:DAYLIGHT
BEGIN:STANDARD
TZOFFSETFROM:-0700
TZOFFSETTO:-0800
TZNAME:PST
DTSTART:20241103T090000
END:STANDARD
END:VTIMEZONE
BEGIN:VEVENT
DTSTART;TZID=America/Los_Angeles:20231022T030000
DTEND;TZID=America/Los_Angeles:20231022T050000
DTSTAMP:20260425T201109
CREATED:20231003T003209Z
LAST-MODIFIED:20231003T003329Z
UID:3262-1697943600-1697950800@gyutofoundation.org
SUMMARY:Teaching: Stages on the Path to Enlightenment
DESCRIPTION:
URL:https://gyutofoundation.org/event/teaching-stages-on-the-path-to-enlightenment-24/
END:VEVENT
BEGIN:VEVENT
DTSTART;TZID=America/Los_Angeles:20231021T030000
DTEND;TZID=America/Los_Angeles:20231021T070000
DTSTAMP:20260425T201109
CREATED:20231003T002435Z
LAST-MODIFIED:20231003T002527Z
UID:3260-1697857200-1697871600@gyutofoundation.org
SUMMARY:Volunteer Day
DESCRIPTION:
URL:https://gyutofoundation.org/event/volunteer-day/
END:VEVENT
BEGIN:VEVENT
DTSTART;TZID=America/Los_Angeles:20231021T020000
DTEND;TZID=America/Los_Angeles:20231021T050000
DTSTAMP:20260425T201109
CREATED:20231014T024106Z
LAST-MODIFIED:20231014T024140Z
UID:3294-1697853600-1697864400@gyutofoundation.org
SUMMARY:Mahakala Puja
DESCRIPTION:
URL:https://gyutofoundation.org/event/mahakala-puja-9/
END:VEVENT
BEGIN:VEVENT
DTSTART;TZID=America/Los_Angeles:20231019T120000
DTEND;TZID=America/Los_Angeles:20231019T140000
DTSTAMP:20260425T201109
CREATED:20230810T045526Z
LAST-MODIFIED:20230810T045559Z
UID:3247-1697716800-1697724000@gyutofoundation.org
SUMMARY:Teaching: The Guide to the Bodhisattva’s Way of Life
DESCRIPTION:
URL:https://gyutofoundation.org/event/teaching-the-guide-to-the-bodhisattvas-way-of-life-33/
END:VEVENT
BEGIN:VEVENT
DTSTART;TZID=America/Los_Angeles:20231018T120000
DTEND;TZID=America/Los_Angeles:20231018T130000
DTSTAMP:20260425T201109
CREATED:20230810T045403Z
LAST-MODIFIED:20230810T045427Z
UID:3245-1697630400-1697634000@gyutofoundation.org
SUMMARY:Medicine Buddha Puja
DESCRIPTION:
URL:https://gyutofoundation.org/event/medicine-buddha-puja-10/
END:VEVENT
BEGIN:VEVENT
DTSTART;TZID=America/Los_Angeles:20231016T120000
DTEND;TZID=America/Los_Angeles:20231016T130000
DTSTAMP:20260425T201109
CREATED:20230810T045231Z
LAST-MODIFIED:20231003T004927Z
UID:3243-1697457600-1697461200@gyutofoundation.org
SUMMARY:Secular Meditation
DESCRIPTION:
URL:https://gyutofoundation.org/event/secular-meditation-32/
END:VEVENT
BEGIN:VEVENT
DTSTART;TZID=America/Los_Angeles:20231015T030000
DTEND;TZID=America/Los_Angeles:20231015T050000
DTSTAMP:20260425T201109
CREATED:20230810T045013Z
LAST-MODIFIED:20230810T045153Z
UID:3240-1697338800-1697346000@gyutofoundation.org
SUMMARY:Teaching: Stages on the Path to Enlightenment
DESCRIPTION:
URL:https://gyutofoundation.org/event/teaching-stages-on-the-path-to-enlightenment-35/
END:VEVENT
BEGIN:VEVENT
DTSTART;TZID=America/Los_Angeles:20231012T120000
DTEND;TZID=America/Los_Angeles:20231012T140000
DTSTAMP:20260425T201109
CREATED:20230810T043918Z
LAST-MODIFIED:20230810T044500Z
UID:3236-1697112000-1697119200@gyutofoundation.org
SUMMARY:Teaching: The Guide to the Bodhisattva’s Way of Life
DESCRIPTION:
URL:https://gyutofoundation.org/event/teaching-the-guide-to-the-bodhisattvas-way-of-life-32/
END:VEVENT
BEGIN:VEVENT
DTSTART;TZID=America/Los_Angeles:20231009T120000
DTEND;TZID=America/Los_Angeles:20231009T130000
DTSTAMP:20260425T201109
CREATED:20230810T043823Z
LAST-MODIFIED:20230810T043838Z
UID:3234-1696852800-1696856400@gyutofoundation.org
SUMMARY:Secular Meditation
DESCRIPTION:
URL:https://gyutofoundation.org/event/secular-meditation-31/
END:VEVENT
BEGIN:VEVENT
DTSTART;TZID=America/Los_Angeles:20231008T120000
DTEND;TZID=America/Los_Angeles:20231008T130000
DTSTAMP:20260425T201109
CREATED:20230810T043622Z
LAST-MODIFIED:20230810T043635Z
UID:3231-1696766400-1696770000@gyutofoundation.org
SUMMARY:Guru Puja
DESCRIPTION:
URL:https://gyutofoundation.org/event/guru-puja-20/
END:VEVENT
BEGIN:VEVENT
DTSTART;TZID=America/Los_Angeles:20231008T030000
DTEND;TZID=America/Los_Angeles:20231008T050000
DTSTAMP:20260425T201109
CREATED:20230810T042700Z
LAST-MODIFIED:20230810T042801Z
UID:3226-1696734000-1696741200@gyutofoundation.org
SUMMARY:Teaching: Stages on the Path to Enlightenment
DESCRIPTION:
URL:https://gyutofoundation.org/event/teaching-stages-on-the-path-to-enlightenment-34/
END:VEVENT
BEGIN:VEVENT
DTSTART;TZID=America/Los_Angeles:20231004T120000
DTEND;TZID=America/Los_Angeles:20231004T130000
DTSTAMP:20260425T201109
CREATED:20230810T042344Z
LAST-MODIFIED:20230810T042404Z
UID:3222-1696420800-1696424400@gyutofoundation.org
SUMMARY:Tara Puja
DESCRIPTION:
URL:https://gyutofoundation.org/event/tara-puja-9/
END:VEVENT
BEGIN:VEVENT
DTSTART;TZID=America/Los_Angeles:20231002T120000
DTEND;TZID=America/Los_Angeles:20231002T130000
DTSTAMP:20260425T201109
CREATED:20230810T042050Z
LAST-MODIFIED:20230810T042116Z
UID:3220-1696248000-1696251600@gyutofoundation.org
SUMMARY:Secular Meditation
DESCRIPTION:
URL:https://gyutofoundation.org/event/secular-meditation-30/
END:VEVENT
BEGIN:VEVENT
DTSTART;TZID=America/Los_Angeles:20231001T030000
DTEND;TZID=America/Los_Angeles:20231001T050000
DTSTAMP:20260425T201109
CREATED:20230810T041934Z
LAST-MODIFIED:20230810T042001Z
UID:3218-1696129200-1696136400@gyutofoundation.org
SUMMARY:Teaching: Stages on the Path to Enlightenment
DESCRIPTION:
URL:https://gyutofoundation.org/event/teaching-stages-on-the-path-to-enlightenment-33/
END:VEVENT
BEGIN:VEVENT
DTSTART;TZID=America/Los_Angeles:20230928T120000
DTEND;TZID=America/Los_Angeles:20230928T140000
DTSTAMP:20260425T201109
CREATED:20230810T034005Z
LAST-MODIFIED:20230810T034034Z
UID:3216-1695902400-1695909600@gyutofoundation.org
SUMMARY:Teaching: The Guide to the Bodhisattva’s Way of Life
DESCRIPTION:
URL:https://gyutofoundation.org/event/teaching-the-guide-to-the-bodhisattvas-way-of-life-30/
END:VEVENT
BEGIN:VEVENT
DTSTART;TZID=America/Los_Angeles:20230925T120000
DTEND;TZID=America/Los_Angeles:20230925T130000
DTSTAMP:20260425T201109
CREATED:20230810T033550Z
LAST-MODIFIED:20230810T033615Z
UID:3214-1695643200-1695646800@gyutofoundation.org
SUMMARY:Secular Meditation
DESCRIPTION:
URL:https://gyutofoundation.org/event/secular-meditation-29/
END:VEVENT
BEGIN:VEVENT
DTSTART;TZID=America/Los_Angeles:20230924T120000
DTEND;TZID=America/Los_Angeles:20230924T130000
DTSTAMP:20260425T201109
CREATED:20230810T033403Z
LAST-MODIFIED:20230810T033443Z
UID:3212-1695556800-1695560400@gyutofoundation.org
SUMMARY:Guru Puja
DESCRIPTION:
URL:https://gyutofoundation.org/event/guru-puja-18/
END:VEVENT
BEGIN:VEVENT
DTSTART;TZID=America/Los_Angeles:20230924T030000
DTEND;TZID=America/Los_Angeles:20230924T050000
DTSTAMP:20260425T201109
CREATED:20230810T033236Z
LAST-MODIFIED:20230810T033307Z
UID:3210-1695524400-1695531600@gyutofoundation.org
SUMMARY:Teaching: Stages on the Path to Enlightenment
DESCRIPTION:
URL:https://gyutofoundation.org/event/teaching-stages-on-the-path-to-enlightenment-32/
END:VEVENT
BEGIN:VEVENT
DTSTART;TZID=America/Los_Angeles:20230921T120000
DTEND;TZID=America/Los_Angeles:20230921T140000
DTSTAMP:20260425T201109
CREATED:20230810T033101Z
LAST-MODIFIED:20230810T033136Z
UID:3208-1695297600-1695304800@gyutofoundation.org
SUMMARY:Teaching: The Guide to the Bodhisattva’s Way of Life
DESCRIPTION:
URL:https://gyutofoundation.org/event/teaching-the-guide-to-the-bodhisattvas-way-of-life-23/
END:VEVENT
BEGIN:VEVENT
DTSTART;TZID=America/Los_Angeles:20230920T120000
DTEND;TZID=America/Los_Angeles:20230920T130000
DTSTAMP:20260425T201109
CREATED:20230810T032931Z
LAST-MODIFIED:20230810T032959Z
UID:3206-1695211200-1695214800@gyutofoundation.org
SUMMARY:Medicine Buddha Puja
DESCRIPTION:
URL:https://gyutofoundation.org/event/medicine-buddha-puja-9/
END:VEVENT
BEGIN:VEVENT
DTSTART;TZID=America/Los_Angeles:20230918T120000
DTEND;TZID=America/Los_Angeles:20230918T130000
DTSTAMP:20260425T201109
CREATED:20230810T032732Z
LAST-MODIFIED:20230810T032754Z
UID:3204-1695038400-1695042000@gyutofoundation.org
SUMMARY:Secular Meditation
DESCRIPTION:
URL:https://gyutofoundation.org/event/secular-meditation-28/
END:VEVENT
BEGIN:VEVENT
DTSTART;TZID=America/Los_Angeles:20230917T030000
DTEND;TZID=America/Los_Angeles:20230917T050000
DTSTAMP:20260425T201109
CREATED:20230810T032517Z
LAST-MODIFIED:20230810T032548Z
UID:3202-1694919600-1694926800@gyutofoundation.org
SUMMARY:Teaching: Stages on the Path to Enlightenment
DESCRIPTION:
URL:https://gyutofoundation.org/event/teaching-stages-on-the-path-to-enlightenment-31/
END:VEVENT
BEGIN:VEVENT
DTSTART;TZID=America/Los_Angeles:20230916T070000
DTEND;TZID=America/Los_Angeles:20230916T080000
DTSTAMP:20260425T201109
CREATED:20230725T055452Z
LAST-MODIFIED:20230725T055549Z
UID:3187-1694847600-1694851200@gyutofoundation.org
SUMMARY:Going-Away Party for Gen Tsultrim
DESCRIPTION:
URL:https://gyutofoundation.org/event/going-away-party-for-gen-tsultrim/
END:VEVENT
BEGIN:VEVENT
DTSTART;TZID=America/Los_Angeles:20230914T120000
DTEND;TZID=America/Los_Angeles:20230914T140000
DTSTAMP:20260425T201109
CREATED:20230725T055257Z
LAST-MODIFIED:20230725T055310Z
UID:3185-1694692800-1694700000@gyutofoundation.org
SUMMARY:Teaching: The Guide to the Bodhisattva’s Way of Life
DESCRIPTION:
URL:https://gyutofoundation.org/event/teaching-the-guide-to-the-bodhisattvas-way-of-life-29/
END:VEVENT
BEGIN:VEVENT
DTSTART;TZID=America/Los_Angeles:20230911T120000
DTEND;TZID=America/Los_Angeles:20230911T130000
DTSTAMP:20260425T201109
CREATED:20230725T055950Z
LAST-MODIFIED:20230725T060011Z
UID:3191-1694433600-1694437200@gyutofoundation.org
SUMMARY:Secular Meditation
DESCRIPTION:
URL:https://gyutofoundation.org/event/secular-meditation-27/
END:VEVENT
BEGIN:VEVENT
DTSTART;TZID=America/Los_Angeles:20230911T120000
DTEND;TZID=America/Los_Angeles:20230911T130000
DTSTAMP:20260425T201109
CREATED:20230725T055024Z
LAST-MODIFIED:20230725T055051Z
UID:3180-1694433600-1694437200@gyutofoundation.org
SUMMARY:Secular Meditation
DESCRIPTION:
URL:https://gyutofoundation.org/event/secular-meditation-26/
END:VEVENT
BEGIN:VEVENT
DTSTART;TZID=America/Los_Angeles:20230910T030000
DTEND;TZID=America/Los_Angeles:20230910T050000
DTSTAMP:20260425T201109
CREATED:20230725T055835Z
LAST-MODIFIED:20230725T055914Z
UID:3189-1694314800-1694322000@gyutofoundation.org
SUMMARY:Teaching: Stages on the Path to Enlightenment
DESCRIPTION:
URL:https://gyutofoundation.org/event/teaching-stages-on-the-path-to-enlightenment-30/
END:VEVENT
BEGIN:VEVENT
DTSTART;TZID=America/Los_Angeles:20230909T120000
DTEND;TZID=America/Los_Angeles:20230909T130000
DTSTAMP:20260425T201109
CREATED:20230725T060245Z
LAST-MODIFIED:20230725T060300Z
UID:3196-1694260800-1694264400@gyutofoundation.org
SUMMARY:Guru Puja
DESCRIPTION:
URL:https://gyutofoundation.org/event/guru-puja-17/
END:VEVENT
BEGIN:VEVENT
DTSTART;TZID=America/Los_Angeles:20230909T020000
DTEND;TZID=America/Los_Angeles:20230909T050000
DTSTAMP:20260425T201109
CREATED:20230725T053836Z
LAST-MODIFIED:20230725T054128Z
UID:3176-1694224800-1694235600@gyutofoundation.org
SUMMARY:Mahakala Puja
DESCRIPTION:
URL:https://gyutofoundation.org/event/mahakala-puja-6/
END:VEVENT
BEGIN:VEVENT
DTSTART;TZID=America/Los_Angeles:20230907T120000
DTEND;TZID=America/Los_Angeles:20230907T140000
DTSTAMP:20260425T201109
CREATED:20230725T053730Z
LAST-MODIFIED:20230725T053747Z
UID:3173-1694088000-1694095200@gyutofoundation.org
SUMMARY:Teaching: The Guide to the Bodhisattva’s Way of Life
DESCRIPTION:
URL:https://gyutofoundation.org/event/teaching-the-guide-to-the-bodhisattvas-way-of-life-27/
END:VEVENT
END:VCALENDAR