BEGIN:VCALENDAR
VERSION:2.0
PRODID:-//Gyuto Foundation - ECPv6.15.13//NONSGML v1.0//EN
CALSCALE:GREGORIAN
METHOD:PUBLISH
X-WR-CALNAME:Gyuto Foundation
X-ORIGINAL-URL:https://gyutofoundation.org
X-WR-CALDESC:Events for Gyuto Foundation
REFRESH-INTERVAL;VALUE=DURATION:PT1H
X-Robots-Tag:noindex
X-PUBLISHED-TTL:PT1H
BEGIN:VTIMEZONE
TZID:America/Los_Angeles
BEGIN:DAYLIGHT
TZOFFSETFROM:-0800
TZOFFSETTO:-0700
TZNAME:PDT
DTSTART:20220313T100000
END:DAYLIGHT
BEGIN:STANDARD
TZOFFSETFROM:-0700
TZOFFSETTO:-0800
TZNAME:PST
DTSTART:20221106T090000
END:STANDARD
BEGIN:DAYLIGHT
TZOFFSETFROM:-0800
TZOFFSETTO:-0700
TZNAME:PDT
DTSTART:20230312T100000
END:DAYLIGHT
BEGIN:STANDARD
TZOFFSETFROM:-0700
TZOFFSETTO:-0800
TZNAME:PST
DTSTART:20231105T090000
END:STANDARD
BEGIN:DAYLIGHT
TZOFFSETFROM:-0800
TZOFFSETTO:-0700
TZNAME:PDT
DTSTART:20240310T100000
END:DAYLIGHT
BEGIN:STANDARD
TZOFFSETFROM:-0700
TZOFFSETTO:-0800
TZNAME:PST
DTSTART:20241103T090000
END:STANDARD
END:VTIMEZONE
BEGIN:VEVENT
DTSTART;TZID=America/Los_Angeles:20230925T120000
DTEND;TZID=America/Los_Angeles:20230925T130000
DTSTAMP:20260425T213931
CREATED:20230810T033550Z
LAST-MODIFIED:20230810T033615Z
UID:3214-1695643200-1695646800@gyutofoundation.org
SUMMARY:Secular Meditation
DESCRIPTION:
URL:https://gyutofoundation.org/event/secular-meditation-29/
END:VEVENT
BEGIN:VEVENT
DTSTART;TZID=America/Los_Angeles:20230924T120000
DTEND;TZID=America/Los_Angeles:20230924T130000
DTSTAMP:20260425T213931
CREATED:20230810T033403Z
LAST-MODIFIED:20230810T033443Z
UID:3212-1695556800-1695560400@gyutofoundation.org
SUMMARY:Guru Puja
DESCRIPTION:
URL:https://gyutofoundation.org/event/guru-puja-18/
END:VEVENT
BEGIN:VEVENT
DTSTART;TZID=America/Los_Angeles:20230924T030000
DTEND;TZID=America/Los_Angeles:20230924T050000
DTSTAMP:20260425T213931
CREATED:20230810T033236Z
LAST-MODIFIED:20230810T033307Z
UID:3210-1695524400-1695531600@gyutofoundation.org
SUMMARY:Teaching: Stages on the Path to Enlightenment
DESCRIPTION:
URL:https://gyutofoundation.org/event/teaching-stages-on-the-path-to-enlightenment-32/
END:VEVENT
BEGIN:VEVENT
DTSTART;TZID=America/Los_Angeles:20230921T120000
DTEND;TZID=America/Los_Angeles:20230921T140000
DTSTAMP:20260425T213931
CREATED:20230810T033101Z
LAST-MODIFIED:20230810T033136Z
UID:3208-1695297600-1695304800@gyutofoundation.org
SUMMARY:Teaching: The Guide to the Bodhisattva’s Way of Life
DESCRIPTION:
URL:https://gyutofoundation.org/event/teaching-the-guide-to-the-bodhisattvas-way-of-life-23/
END:VEVENT
BEGIN:VEVENT
DTSTART;TZID=America/Los_Angeles:20230920T120000
DTEND;TZID=America/Los_Angeles:20230920T130000
DTSTAMP:20260425T213931
CREATED:20230810T032931Z
LAST-MODIFIED:20230810T032959Z
UID:3206-1695211200-1695214800@gyutofoundation.org
SUMMARY:Medicine Buddha Puja
DESCRIPTION:
URL:https://gyutofoundation.org/event/medicine-buddha-puja-9/
END:VEVENT
BEGIN:VEVENT
DTSTART;TZID=America/Los_Angeles:20230918T120000
DTEND;TZID=America/Los_Angeles:20230918T130000
DTSTAMP:20260425T213931
CREATED:20230810T032732Z
LAST-MODIFIED:20230810T032754Z
UID:3204-1695038400-1695042000@gyutofoundation.org
SUMMARY:Secular Meditation
DESCRIPTION:
URL:https://gyutofoundation.org/event/secular-meditation-28/
END:VEVENT
BEGIN:VEVENT
DTSTART;TZID=America/Los_Angeles:20230917T030000
DTEND;TZID=America/Los_Angeles:20230917T050000
DTSTAMP:20260425T213931
CREATED:20230810T032517Z
LAST-MODIFIED:20230810T032548Z
UID:3202-1694919600-1694926800@gyutofoundation.org
SUMMARY:Teaching: Stages on the Path to Enlightenment
DESCRIPTION:
URL:https://gyutofoundation.org/event/teaching-stages-on-the-path-to-enlightenment-31/
END:VEVENT
BEGIN:VEVENT
DTSTART;TZID=America/Los_Angeles:20230916T070000
DTEND;TZID=America/Los_Angeles:20230916T080000
DTSTAMP:20260425T213931
CREATED:20230725T055452Z
LAST-MODIFIED:20230725T055549Z
UID:3187-1694847600-1694851200@gyutofoundation.org
SUMMARY:Going-Away Party for Gen Tsultrim
DESCRIPTION:
URL:https://gyutofoundation.org/event/going-away-party-for-gen-tsultrim/
END:VEVENT
BEGIN:VEVENT
DTSTART;TZID=America/Los_Angeles:20230914T120000
DTEND;TZID=America/Los_Angeles:20230914T140000
DTSTAMP:20260425T213931
CREATED:20230725T055257Z
LAST-MODIFIED:20230725T055310Z
UID:3185-1694692800-1694700000@gyutofoundation.org
SUMMARY:Teaching: The Guide to the Bodhisattva’s Way of Life
DESCRIPTION:
URL:https://gyutofoundation.org/event/teaching-the-guide-to-the-bodhisattvas-way-of-life-29/
END:VEVENT
BEGIN:VEVENT
DTSTART;TZID=America/Los_Angeles:20230911T120000
DTEND;TZID=America/Los_Angeles:20230911T130000
DTSTAMP:20260425T213931
CREATED:20230725T055950Z
LAST-MODIFIED:20230725T060011Z
UID:3191-1694433600-1694437200@gyutofoundation.org
SUMMARY:Secular Meditation
DESCRIPTION:
URL:https://gyutofoundation.org/event/secular-meditation-27/
END:VEVENT
BEGIN:VEVENT
DTSTART;TZID=America/Los_Angeles:20230911T120000
DTEND;TZID=America/Los_Angeles:20230911T130000
DTSTAMP:20260425T213931
CREATED:20230725T055024Z
LAST-MODIFIED:20230725T055051Z
UID:3180-1694433600-1694437200@gyutofoundation.org
SUMMARY:Secular Meditation
DESCRIPTION:
URL:https://gyutofoundation.org/event/secular-meditation-26/
END:VEVENT
BEGIN:VEVENT
DTSTART;TZID=America/Los_Angeles:20230910T030000
DTEND;TZID=America/Los_Angeles:20230910T050000
DTSTAMP:20260425T213931
CREATED:20230725T055835Z
LAST-MODIFIED:20230725T055914Z
UID:3189-1694314800-1694322000@gyutofoundation.org
SUMMARY:Teaching: Stages on the Path to Enlightenment
DESCRIPTION:
URL:https://gyutofoundation.org/event/teaching-stages-on-the-path-to-enlightenment-30/
END:VEVENT
BEGIN:VEVENT
DTSTART;TZID=America/Los_Angeles:20230909T120000
DTEND;TZID=America/Los_Angeles:20230909T130000
DTSTAMP:20260425T213931
CREATED:20230725T060245Z
LAST-MODIFIED:20230725T060300Z
UID:3196-1694260800-1694264400@gyutofoundation.org
SUMMARY:Guru Puja
DESCRIPTION:
URL:https://gyutofoundation.org/event/guru-puja-17/
END:VEVENT
BEGIN:VEVENT
DTSTART;TZID=America/Los_Angeles:20230909T020000
DTEND;TZID=America/Los_Angeles:20230909T050000
DTSTAMP:20260425T213931
CREATED:20230725T053836Z
LAST-MODIFIED:20230725T054128Z
UID:3176-1694224800-1694235600@gyutofoundation.org
SUMMARY:Mahakala Puja
DESCRIPTION:
URL:https://gyutofoundation.org/event/mahakala-puja-6/
END:VEVENT
BEGIN:VEVENT
DTSTART;TZID=America/Los_Angeles:20230907T120000
DTEND;TZID=America/Los_Angeles:20230907T140000
DTSTAMP:20260425T213931
CREATED:20230725T053730Z
LAST-MODIFIED:20230725T053747Z
UID:3173-1694088000-1694095200@gyutofoundation.org
SUMMARY:Teaching: The Guide to the Bodhisattva’s Way of Life
DESCRIPTION:
URL:https://gyutofoundation.org/event/teaching-the-guide-to-the-bodhisattvas-way-of-life-27/
END:VEVENT
BEGIN:VEVENT
DTSTART;TZID=America/Los_Angeles:20230906T120000
DTEND;TZID=America/Los_Angeles:20230906T140000
DTSTAMP:20260425T213931
CREATED:20230725T053534Z
LAST-MODIFIED:20230725T053620Z
UID:3171-1694001600-1694008800@gyutofoundation.org
SUMMARY:Tara Puja
DESCRIPTION:
URL:https://gyutofoundation.org/event/tara-puja-8/
END:VEVENT
BEGIN:VEVENT
DTSTART;TZID=America/Los_Angeles:20230904T120000
DTEND;TZID=America/Los_Angeles:20230904T130000
DTSTAMP:20260425T213931
CREATED:20230725T053400Z
LAST-MODIFIED:20230725T053418Z
UID:3169-1693828800-1693832400@gyutofoundation.org
SUMMARY:Secular Meditation
DESCRIPTION:
URL:https://gyutofoundation.org/event/secular-meditation-25/
END:VEVENT
BEGIN:VEVENT
DTSTART;TZID=America/Los_Angeles:20230903T030000
DTEND;TZID=America/Los_Angeles:20230903T050000
DTSTAMP:20260425T213931
CREATED:20230901T001112Z
LAST-MODIFIED:20230901T001247Z
UID:3258-1693710000-1693717200@gyutofoundation.org
SUMMARY:Teaching: Stages on the Path to Enlightenment
DESCRIPTION:
URL:https://gyutofoundation.org/event/teaching-stages-on-the-path-to-enlightenment-28/
END:VEVENT
BEGIN:VEVENT
DTSTART;TZID=America/Los_Angeles:20230831T120000
DTEND;TZID=America/Los_Angeles:20230831T140000
DTSTAMP:20260425T213931
CREATED:20230901T000942Z
LAST-MODIFIED:20230901T001003Z
UID:3255-1693483200-1693490400@gyutofoundation.org
SUMMARY:Teaching: Guide to the Bodhisattva's Way of Life
DESCRIPTION:
URL:https://gyutofoundation.org/event/teaching-guide-to-the-bodhisattvas-way-of-life/
END:VEVENT
BEGIN:VEVENT
DTSTART;TZID=America/Los_Angeles:20230828T120000
DTEND;TZID=America/Los_Angeles:20230828T130000
DTSTAMP:20260425T213931
CREATED:20230725T043546Z
LAST-MODIFIED:20230725T043656Z
UID:3153-1693224000-1693227600@gyutofoundation.org
SUMMARY:Secular Meditation
DESCRIPTION:
URL:https://gyutofoundation.org/event/secular-meditation-24/
END:VEVENT
BEGIN:VEVENT
DTSTART;TZID=America/Los_Angeles:20230827T030000
DTEND;TZID=America/Los_Angeles:20230827T050000
DTSTAMP:20260425T213931
CREATED:20230725T043351Z
LAST-MODIFIED:20230725T043408Z
UID:3151-1693105200-1693112400@gyutofoundation.org
SUMMARY:Teaching: Stages on the Path to Enlightenment
DESCRIPTION:
URL:https://gyutofoundation.org/event/teaching-stages-on-the-path-to-enlightenment-26/
END:VEVENT
BEGIN:VEVENT
DTSTART;TZID=America/Los_Angeles:20230826T120000
DTEND;TZID=America/Los_Angeles:20230826T130000
DTSTAMP:20260425T213931
CREATED:20230725T043248Z
LAST-MODIFIED:20230810T041807Z
UID:3149-1693051200-1693054800@gyutofoundation.org
SUMMARY:Guru Puja
DESCRIPTION:
URL:https://gyutofoundation.org/event/guru-puja-15/
END:VEVENT
BEGIN:VEVENT
DTSTART;TZID=America/Los_Angeles:20230824T120000
DTEND;TZID=America/Los_Angeles:20230824T140000
DTSTAMP:20260425T213931
CREATED:20230725T042727Z
LAST-MODIFIED:20230725T043146Z
UID:3146-1692878400-1692885600@gyutofoundation.org
SUMMARY:Teaching: The Guide to the Bodhisattva’s Way of Life
DESCRIPTION:
URL:https://gyutofoundation.org/event/medicine-buddha-puja-7/
END:VEVENT
BEGIN:VEVENT
DTSTART;TZID=America/Los_Angeles:20230823T120000
DTEND;TZID=America/Los_Angeles:20230823T130000
DTSTAMP:20260425T213931
CREATED:20230725T045423Z
LAST-MODIFIED:20230725T045530Z
UID:3165-1692792000-1692795600@gyutofoundation.org
SUMMARY:Medicine Buddha Puja
DESCRIPTION:
URL:https://gyutofoundation.org/event/medicine-buddha-puja-8/
END:VEVENT
BEGIN:VEVENT
DTSTART;TZID=America/Los_Angeles:20230821T120000
DTEND;TZID=America/Los_Angeles:20230821T130000
DTSTAMP:20260425T213931
CREATED:20230725T042303Z
LAST-MODIFIED:20230725T042340Z
UID:3144-1692619200-1692622800@gyutofoundation.org
SUMMARY:Secular Meditation
DESCRIPTION:
URL:https://gyutofoundation.org/event/secular-meditation-23/
END:VEVENT
BEGIN:VEVENT
DTSTART;TZID=America/Los_Angeles:20230820T030000
DTEND;TZID=America/Los_Angeles:20230820T050000
DTSTAMP:20260425T213931
CREATED:20230725T042024Z
LAST-MODIFIED:20230725T042051Z
UID:3141-1692500400-1692507600@gyutofoundation.org
SUMMARY:Teaching: Stages on the Path to Enlightenment
DESCRIPTION:
URL:https://gyutofoundation.org/event/teaching-stages-on-the-path-to-enlightenment-25/
END:VEVENT
BEGIN:VEVENT
DTSTART;TZID=America/Los_Angeles:20230817T120000
DTEND;TZID=America/Los_Angeles:20230817T140000
DTSTAMP:20260425T213931
CREATED:20230725T041827Z
LAST-MODIFIED:20230725T041854Z
UID:3139-1692273600-1692280800@gyutofoundation.org
SUMMARY:Teaching: The Guide to the Bodhisattva’s Way of Life
DESCRIPTION:
URL:https://gyutofoundation.org/event/teaching-the-guide-to-the-bodhisattvas-way-of-life-25/
END:VEVENT
BEGIN:VEVENT
DTSTART;TZID=America/Los_Angeles:20230814T120000
DTEND;TZID=America/Los_Angeles:20230814T130000
DTSTAMP:20260425T213931
CREATED:20230725T040809Z
LAST-MODIFIED:20230725T041649Z
UID:3131-1692014400-1692018000@gyutofoundation.org
SUMMARY:Secular Meditation
DESCRIPTION:
URL:https://gyutofoundation.org/event/guru-puja-14/
END:VEVENT
BEGIN:VEVENT
DTSTART;TZID=America/Los_Angeles:20230813T030000
DTEND;TZID=America/Los_Angeles:20230813T050000
DTSTAMP:20260425T213931
CREATED:20230725T045031Z
LAST-MODIFIED:20230725T045242Z
UID:3163-1691895600-1691902800@gyutofoundation.org
SUMMARY:Teaching: Stages on the Path to Enlightenment
DESCRIPTION:
URL:https://gyutofoundation.org/event/teaching-stages-on-the-path-to-enlightenment-27/
END:VEVENT
BEGIN:VEVENT
DTSTART;TZID=America/Los_Angeles:20230812T020000
DTEND;TZID=America/Los_Angeles:20230812T050000
DTSTAMP:20260425T213931
CREATED:20230725T044855Z
LAST-MODIFIED:20230725T044928Z
UID:3161-1691805600-1691816400@gyutofoundation.org
SUMMARY:Mahakala Puja
DESCRIPTION:
URL:https://gyutofoundation.org/event/mahakala-puja-5/
END:VEVENT
END:VCALENDAR