BEGIN:VCALENDAR
VERSION:2.0
PRODID:-//Gyuto Foundation - ECPv6.15.13//NONSGML v1.0//EN
CALSCALE:GREGORIAN
METHOD:PUBLISH
X-WR-CALNAME:Gyuto Foundation
X-ORIGINAL-URL:https://gyutofoundation.org
X-WR-CALDESC:Events for Gyuto Foundation
REFRESH-INTERVAL;VALUE=DURATION:PT1H
X-Robots-Tag:noindex
X-PUBLISHED-TTL:PT1H
BEGIN:VTIMEZONE
TZID:America/Los_Angeles
BEGIN:DAYLIGHT
TZOFFSETFROM:-0800
TZOFFSETTO:-0700
TZNAME:PDT
DTSTART:20230312T100000
END:DAYLIGHT
BEGIN:STANDARD
TZOFFSETFROM:-0700
TZOFFSETTO:-0800
TZNAME:PST
DTSTART:20231105T090000
END:STANDARD
BEGIN:DAYLIGHT
TZOFFSETFROM:-0800
TZOFFSETTO:-0700
TZNAME:PDT
DTSTART:20240310T100000
END:DAYLIGHT
BEGIN:STANDARD
TZOFFSETFROM:-0700
TZOFFSETTO:-0800
TZNAME:PST
DTSTART:20241103T090000
END:STANDARD
BEGIN:DAYLIGHT
TZOFFSETFROM:-0800
TZOFFSETTO:-0700
TZNAME:PDT
DTSTART:20250309T100000
END:DAYLIGHT
BEGIN:STANDARD
TZOFFSETFROM:-0700
TZOFFSETTO:-0800
TZNAME:PST
DTSTART:20251102T090000
END:STANDARD
END:VTIMEZONE
BEGIN:VEVENT
DTSTART;TZID=America/Los_Angeles:20240714T100000
DTEND;TZID=America/Los_Angeles:20240714T120000
DTSTAMP:20260425T053927
CREATED:20240604T214028Z
LAST-MODIFIED:20240604T220907Z
UID:3717-1720951200-1720958400@gyutofoundation.org
SUMMARY:Teaching: Stages on the Path to Enlightenment
DESCRIPTION:
URL:https://gyutofoundation.org/event/teaching-stages-on-the-path-to-enlightenment-57/
END:VEVENT
BEGIN:VEVENT
DTSTART;TZID=America/Los_Angeles:20240716T190000
DTEND;TZID=America/Los_Angeles:20240716T200000
DTSTAMP:20260425T053927
CREATED:20240604T220334Z
LAST-MODIFIED:20240604T220358Z
UID:3731-1721156400-1721160000@gyutofoundation.org
SUMMARY:Guru Puja
DESCRIPTION:
URL:https://gyutofoundation.org/event/guru-puja-36/
END:VEVENT
BEGIN:VEVENT
DTSTART;TZID=America/Los_Angeles:20240708T190000
DTEND;TZID=America/Los_Angeles:20240708T200000
DTSTAMP:20260425T053927
CREATED:20240604T214337Z
LAST-MODIFIED:20240604T214358Z
UID:3720-1720465200-1720468800@gyutofoundation.org
SUMMARY:Secular Meditation
DESCRIPTION:
URL:https://gyutofoundation.org/event/secular-meditation-70/
END:VEVENT
BEGIN:VEVENT
DTSTART;TZID=America/Los_Angeles:20240714T100000
DTEND;TZID=America/Los_Angeles:20240714T120000
DTSTAMP:20260425T053927
CREATED:20240604T214028Z
LAST-MODIFIED:20240604T220907Z
UID:3717-1720951200-1720958400@gyutofoundation.org
SUMMARY:Teaching: Stages on the Path to Enlightenment
DESCRIPTION:
URL:https://gyutofoundation.org/event/teaching-stages-on-the-path-to-enlightenment-57/
END:VEVENT
BEGIN:VEVENT
DTSTART;TZID=America/Los_Angeles:20240713T090000
DTEND;TZID=America/Los_Angeles:20240713T120000
DTSTAMP:20260425T053927
CREATED:20240604T215959Z
LAST-MODIFIED:20240604T220037Z
UID:3726-1720861200-1720872000@gyutofoundation.org
SUMMARY:Mahakala Puja
DESCRIPTION:
URL:https://gyutofoundation.org/event/mahakala/
END:VEVENT
BEGIN:VEVENT
DTSTART;TZID=America/Los_Angeles:20240710T190000
DTEND;TZID=America/Los_Angeles:20240710T200000
DTSTAMP:20260425T053927
CREATED:20240604T220501Z
LAST-MODIFIED:20240604T220524Z
UID:3735-1720638000-1720641600@gyutofoundation.org
SUMMARY:Tara Puja
DESCRIPTION:
URL:https://gyutofoundation.org/event/tara-puja-17/
END:VEVENT
BEGIN:VEVENT
DTSTART;TZID=America/Los_Angeles:20240709T190000
DTEND;TZID=America/Los_Angeles:20240709T200000
DTSTAMP:20260425T053927
CREATED:20240604T220211Z
LAST-MODIFIED:20240619T172540Z
UID:3729-1720551600-1720555200@gyutofoundation.org
SUMMARY:Special Puja: Festival of the Turning of the Wheel of Dharma (Choekhor Duchen)
DESCRIPTION:
URL:https://gyutofoundation.org/event/special-puja-choekhor-duchen/
END:VEVENT
BEGIN:VEVENT
DTSTART;TZID=America/Los_Angeles:20240708T190000
DTEND;TZID=America/Los_Angeles:20240708T200000
DTSTAMP:20260425T053927
CREATED:20240604T214337Z
LAST-MODIFIED:20240604T214358Z
UID:3720-1720465200-1720468800@gyutofoundation.org
SUMMARY:Secular Meditation
DESCRIPTION:
URL:https://gyutofoundation.org/event/secular-meditation-70/
END:VEVENT
BEGIN:VEVENT
DTSTART;TZID=America/Los_Angeles:20240707T100000
DTEND;TZID=America/Los_Angeles:20240707T150000
DTSTAMP:20260425T053927
CREATED:20240604T221128Z
LAST-MODIFIED:20240619T171956Z
UID:3743-1720346400-1720364400@gyutofoundation.org
SUMMARY:Stupa Opening Ceremony to Honor H.H. the Dalai Lama's 90th Birthday
DESCRIPTION:
URL:https://gyutofoundation.org/event/hhdl-90th-birthday-celebration/
END:VEVENT
BEGIN:VEVENT
DTSTART;TZID=America/Los_Angeles:20240701T190000
DTEND;TZID=America/Los_Angeles:20240701T200000
DTSTAMP:20260425T053927
CREATED:20240604T213658Z
LAST-MODIFIED:20240604T213716Z
UID:3713-1719860400-1719864000@gyutofoundation.org
SUMMARY:Secular Meditation
DESCRIPTION:
URL:https://gyutofoundation.org/event/secular-meditation-69/
END:VEVENT
BEGIN:VEVENT
DTSTART;TZID=America/Los_Angeles:20240630T100000
DTEND;TZID=America/Los_Angeles:20240630T120000
DTSTAMP:20260425T053927
CREATED:20240507T235102Z
LAST-MODIFIED:20240507T235102Z
UID:3708-1719741600-1719748800@gyutofoundation.org
SUMMARY:Teaching: Stages on the Path to Enlightenment
DESCRIPTION:
URL:https://gyutofoundation.org/event/teaching-stages-on-the-path-to-enlightenment-56/
END:VEVENT
BEGIN:VEVENT
DTSTART;TZID=America/Los_Angeles:20240629T190000
DTEND;TZID=America/Los_Angeles:20240629T200000
DTSTAMP:20260425T053927
CREATED:20240507T233538Z
LAST-MODIFIED:20240623T221455Z
UID:3705-1719687600-1719691200@gyutofoundation.org
SUMMARY:Guru Puja
DESCRIPTION:
URL:https://gyutofoundation.org/event/guru-puja-35/
END:VEVENT
BEGIN:VEVENT
DTSTART;TZID=America/Los_Angeles:20240627T190000
DTEND;TZID=America/Los_Angeles:20240627T210000
DTSTAMP:20260425T053927
CREATED:20240507T233243Z
LAST-MODIFIED:20240507T233405Z
UID:3702-1719514800-1719522000@gyutofoundation.org
SUMMARY:Teaching: The Guide to the Bodhisattva’s Way of Life
DESCRIPTION:
URL:https://gyutofoundation.org/event/teaching-the-guide-to-the-bodhisattvas-way-of-life-59/
END:VEVENT
BEGIN:VEVENT
DTSTART;TZID=America/Los_Angeles:20240624T190000
DTEND;TZID=America/Los_Angeles:20240624T200000
DTSTAMP:20260425T053927
CREATED:20240507T232934Z
LAST-MODIFIED:20240507T233120Z
UID:3700-1719255600-1719259200@gyutofoundation.org
SUMMARY:Secular Meditation
DESCRIPTION:
URL:https://gyutofoundation.org/event/secular-meditation-68/
END:VEVENT
BEGIN:VEVENT
DTSTART;TZID=America/Los_Angeles:20240623T100000
DTEND;TZID=America/Los_Angeles:20240623T120000
DTSTAMP:20260425T053927
CREATED:20240507T232547Z
LAST-MODIFIED:20240507T232808Z
UID:3698-1719136800-1719144000@gyutofoundation.org
SUMMARY:Teaching: Stages on the Path to Enlightenment
DESCRIPTION:
URL:https://gyutofoundation.org/event/teaching-stages-on-the-path-to-enlightenment-54/
END:VEVENT
BEGIN:VEVENT
DTSTART;TZID=America/Los_Angeles:20240620T190000
DTEND;TZID=America/Los_Angeles:20240620T210000
DTSTAMP:20260425T053927
CREATED:20240507T232236Z
LAST-MODIFIED:20240507T232436Z
UID:3696-1718910000-1718917200@gyutofoundation.org
SUMMARY:Teaching: The Guide to the Bodhisattva’s Way of Life
DESCRIPTION:
URL:https://gyutofoundation.org/event/teaching-the-guide-to-the-bodhisattvas-way-of-life-58/
END:VEVENT
BEGIN:VEVENT
DTSTART;TZID=America/Los_Angeles:20240619T190000
DTEND;TZID=America/Los_Angeles:20240619T200000
DTSTAMP:20260425T053927
CREATED:20240507T231315Z
LAST-MODIFIED:20240507T231707Z
UID:3694-1718823600-1718827200@gyutofoundation.org
SUMMARY:Medicine Buddha Puja
DESCRIPTION:
URL:https://gyutofoundation.org/event/medicine-buddha-puja-18/
END:VEVENT
BEGIN:VEVENT
DTSTART;TZID=America/Los_Angeles:20240617T190000
DTEND;TZID=America/Los_Angeles:20240617T200000
DTSTAMP:20260425T053927
CREATED:20240507T231003Z
LAST-MODIFIED:20240507T231138Z
UID:3692-1718650800-1718654400@gyutofoundation.org
SUMMARY:Secular Meditation
DESCRIPTION:
URL:https://gyutofoundation.org/event/secular-meditation-67/
END:VEVENT
BEGIN:VEVENT
DTSTART;TZID=America/Los_Angeles:20240616T190000
DTEND;TZID=America/Los_Angeles:20240616T200000
DTSTAMP:20260425T053927
CREATED:20240507T225746Z
LAST-MODIFIED:20240507T225811Z
UID:3690-1718564400-1718568000@gyutofoundation.org
SUMMARY:Guru Puja
DESCRIPTION:
URL:https://gyutofoundation.org/event/guru-puja-34/
END:VEVENT
BEGIN:VEVENT
DTSTART;TZID=America/Los_Angeles:20240616T100000
DTEND;TZID=America/Los_Angeles:20240616T120000
DTSTAMP:20260425T053927
CREATED:20240507T225647Z
LAST-MODIFIED:20240507T225714Z
UID:3688-1718532000-1718539200@gyutofoundation.org
SUMMARY:Teaching: Stages on the Path to Enlightenment (Lam-rim)
DESCRIPTION:
URL:https://gyutofoundation.org/event/teaching-stages-on-the-path-to-enlightenment-lam-rim-7/
END:VEVENT
BEGIN:VEVENT
DTSTART;TZID=America/Los_Angeles:20240613T190000
DTEND;TZID=America/Los_Angeles:20240613T210000
DTSTAMP:20260425T053927
CREATED:20240613T003348Z
LAST-MODIFIED:20240613T003358Z
UID:3757-1718305200-1718312400@gyutofoundation.org
SUMMARY:Teaching: The Guide to the Bodhisattva’s Way of Life
DESCRIPTION:
URL:https://gyutofoundation.org/event/teaching-the-guide-to-the-bodhisattvas-way-of-life-60/
END:VEVENT
BEGIN:VEVENT
DTSTART;TZID=America/Los_Angeles:20240610T190000
DTEND;TZID=America/Los_Angeles:20240610T200000
DTSTAMP:20260425T053927
CREATED:20240507T225508Z
LAST-MODIFIED:20240507T225535Z
UID:3686-1718046000-1718049600@gyutofoundation.org
SUMMARY:Secular Meditation
DESCRIPTION:
URL:https://gyutofoundation.org/event/secular-meditation-66/
END:VEVENT
BEGIN:VEVENT
DTSTART;TZID=America/Los_Angeles:20240609T100000
DTEND;TZID=America/Los_Angeles:20240609T120000
DTSTAMP:20260425T053927
CREATED:20240507T225359Z
LAST-MODIFIED:20240507T225430Z
UID:3683-1717927200-1717934400@gyutofoundation.org
SUMMARY:Teaching: Stages on the Path to Enlightenment (Lam-rim)
DESCRIPTION:
URL:https://gyutofoundation.org/event/teaching-stages-on-the-path-to-enlightenment-lam-rim-6/
END:VEVENT
BEGIN:VEVENT
DTSTART;TZID=America/Los_Angeles:20240608T100000
DTEND;TZID=America/Los_Angeles:20240608T120000
DTSTAMP:20260425T053927
CREATED:20240507T225129Z
LAST-MODIFIED:20240507T225308Z
UID:3681-1717840800-1717848000@gyutofoundation.org
SUMMARY:Mahakala Puja
DESCRIPTION:
URL:https://gyutofoundation.org/event/mahakala-puja-16/
END:VEVENT
BEGIN:VEVENT
DTSTART;TZID=America/Los_Angeles:20240606T190000
DTEND;TZID=America/Los_Angeles:20240606T210000
DTSTAMP:20260425T053927
CREATED:20240507T224940Z
LAST-MODIFIED:20240507T225050Z
UID:3679-1717700400-1717707600@gyutofoundation.org
SUMMARY:Teaching: The Guide to the Bodhisattva’s Way of Life
DESCRIPTION:
URL:https://gyutofoundation.org/event/teaching-the-guide-to-the-bodhisattvas-way-of-life-57/
END:VEVENT
BEGIN:VEVENT
DTSTART;TZID=America/Los_Angeles:20240605T190000
DTEND;TZID=America/Los_Angeles:20240605T200000
DTSTAMP:20260425T053927
CREATED:20240507T224402Z
LAST-MODIFIED:20240507T224437Z
UID:3675-1717614000-1717617600@gyutofoundation.org
SUMMARY:Tara Puja
DESCRIPTION:
URL:https://gyutofoundation.org/event/tara-puja-16/
END:VEVENT
BEGIN:VEVENT
DTSTART;TZID=America/Los_Angeles:20240603T190000
DTEND;TZID=America/Los_Angeles:20240603T200000
DTSTAMP:20260425T053927
CREATED:20240507T224505Z
LAST-MODIFIED:20240507T224904Z
UID:3677-1717441200-1717444800@gyutofoundation.org
SUMMARY:Secular Meditation
DESCRIPTION:
URL:https://gyutofoundation.org/event/secular-meditation-65/
END:VEVENT
BEGIN:VEVENT
DTSTART;TZID=America/Los_Angeles:20240602T100000
DTEND;TZID=America/Los_Angeles:20240602T120000
DTSTAMP:20260425T053927
CREATED:20240507T224029Z
LAST-MODIFIED:20240507T224235Z
UID:3672-1717322400-1717329600@gyutofoundation.org
SUMMARY:Teaching: Stages on the Path to Enlightenment (Lam-rim)
DESCRIPTION:
URL:https://gyutofoundation.org/event/teaching-stages-on-the-path-to-enlightenment-lam-rim-5/
END:VEVENT
BEGIN:VEVENT
DTSTART;TZID=America/Los_Angeles:20240601T190000
DTEND;TZID=America/Los_Angeles:20240601T200000
DTSTAMP:20260425T053927
CREATED:20240507T223851Z
LAST-MODIFIED:20240507T223943Z
UID:3670-1717268400-1717272000@gyutofoundation.org
SUMMARY:Guru Puja
DESCRIPTION:
URL:https://gyutofoundation.org/event/guru-puja-33/
END:VEVENT
BEGIN:VEVENT
DTSTART;TZID=America/Los_Angeles:20240530T190000
DTEND;TZID=America/Los_Angeles:20240530T210000
DTSTAMP:20260425T053927
CREATED:20240323T012028Z
LAST-MODIFIED:20240323T012041Z
UID:3661-1717095600-1717102800@gyutofoundation.org
SUMMARY:Teaching: The Guide to the Bodhisattva’s Way of Life
DESCRIPTION:
URL:https://gyutofoundation.org/event/teaching-the-guide-to-the-bodhisattvas-way-of-life-56/
END:VEVENT
END:VCALENDAR