BEGIN:VCALENDAR
VERSION:2.0
PRODID:-//Gyuto Foundation - ECPv6.15.13//NONSGML v1.0//EN
CALSCALE:GREGORIAN
METHOD:PUBLISH
X-WR-CALNAME:Gyuto Foundation
X-ORIGINAL-URL:https://gyutofoundation.org
X-WR-CALDESC:Events for Gyuto Foundation
REFRESH-INTERVAL;VALUE=DURATION:PT1H
X-Robots-Tag:noindex
X-PUBLISHED-TTL:PT1H
BEGIN:VTIMEZONE
TZID:America/Los_Angeles
BEGIN:DAYLIGHT
TZOFFSETFROM:-0800
TZOFFSETTO:-0700
TZNAME:PDT
DTSTART:20220313T100000
END:DAYLIGHT
BEGIN:STANDARD
TZOFFSETFROM:-0700
TZOFFSETTO:-0800
TZNAME:PST
DTSTART:20221106T090000
END:STANDARD
BEGIN:DAYLIGHT
TZOFFSETFROM:-0800
TZOFFSETTO:-0700
TZNAME:PDT
DTSTART:20230312T100000
END:DAYLIGHT
BEGIN:STANDARD
TZOFFSETFROM:-0700
TZOFFSETTO:-0800
TZNAME:PST
DTSTART:20231105T090000
END:STANDARD
BEGIN:DAYLIGHT
TZOFFSETFROM:-0800
TZOFFSETTO:-0700
TZNAME:PDT
DTSTART:20240310T100000
END:DAYLIGHT
BEGIN:STANDARD
TZOFFSETFROM:-0700
TZOFFSETTO:-0800
TZNAME:PST
DTSTART:20241103T090000
END:STANDARD
BEGIN:DAYLIGHT
TZOFFSETFROM:-0800
TZOFFSETTO:-0700
TZNAME:PDT
DTSTART:20250309T100000
END:DAYLIGHT
BEGIN:STANDARD
TZOFFSETFROM:-0700
TZOFFSETTO:-0800
TZNAME:PST
DTSTART:20251102T090000
END:STANDARD
END:VTIMEZONE
BEGIN:VEVENT
DTSTART;TZID=America/Los_Angeles:20240209T190000
DTEND;TZID=America/Los_Angeles:20240209T200000
DTSTAMP:20260425T093545
CREATED:20240116T071320Z
LAST-MODIFIED:20240201T222636Z
UID:3423-1707505200-1707508800@gyutofoundation.org
SUMMARY:New Year's Eve Guthuk
DESCRIPTION:
URL:https://gyutofoundation.org/event/new-years-eve-guthuk/
END:VEVENT
BEGIN:VEVENT
DTSTART;TZID=America/Los_Angeles:20240208T190000
DTEND;TZID=America/Los_Angeles:20240208T210000
DTSTAMP:20260425T093545
CREATED:20240116T070655Z
LAST-MODIFIED:20240201T220930Z
UID:3421-1707418800-1707426000@gyutofoundation.org
SUMMARY:Teaching: The Guide to the Bodhisattva’s Way of Life
DESCRIPTION:
URL:https://gyutofoundation.org/event/teaching-the-guide-to-the-bodhisattvas-way-of-life-43/
END:VEVENT
BEGIN:VEVENT
DTSTART;TZID=America/Los_Angeles:20240207T190000
DTEND;TZID=America/Los_Angeles:20240207T200000
DTSTAMP:20260425T093545
CREATED:20240201T221945Z
LAST-MODIFIED:20240201T221945Z
UID:3524-1707332400-1707336000@gyutofoundation.org
SUMMARY:Tara Puja
DESCRIPTION:
URL:https://gyutofoundation.org/event/tara-puja-13/
END:VEVENT
BEGIN:VEVENT
DTSTART;TZID=America/Los_Angeles:20240205T190000
DTEND;TZID=America/Los_Angeles:20240205T200000
DTSTAMP:20260425T093545
CREATED:20240201T221846Z
LAST-MODIFIED:20240201T221903Z
UID:3522-1707159600-1707163200@gyutofoundation.org
SUMMARY:Secular Meditation
DESCRIPTION:
URL:https://gyutofoundation.org/event/secular-meditation-47/
END:VEVENT
BEGIN:VEVENT
DTSTART;TZID=America/Los_Angeles:20240204T190000
DTEND;TZID=America/Los_Angeles:20240204T200000
DTSTAMP:20260425T093545
CREATED:20240201T221327Z
LAST-MODIFIED:20240201T221345Z
UID:3518-1707073200-1707076800@gyutofoundation.org
SUMMARY:Guru Puja
DESCRIPTION:
URL:https://gyutofoundation.org/event/guru-puja-28/
END:VEVENT
BEGIN:VEVENT
DTSTART;TZID=America/Los_Angeles:20240204T100000
DTEND;TZID=America/Los_Angeles:20240204T120000
DTSTAMP:20260425T093545
CREATED:20240201T221456Z
LAST-MODIFIED:20240201T221801Z
UID:3520-1707040800-1707048000@gyutofoundation.org
SUMMARY:Teaching: Stages on the Path to Enlightenment
DESCRIPTION:
URL:https://gyutofoundation.org/event/teaching-stages-on-the-path-to-enlightenment-42/
END:VEVENT
BEGIN:VEVENT
DTSTART;TZID=America/Los_Angeles:20240203T100000
DTEND;TZID=America/Los_Angeles:20240203T120000
DTSTAMP:20260425T093545
CREATED:20240201T221224Z
LAST-MODIFIED:20240201T221235Z
UID:3516-1706954400-1706961600@gyutofoundation.org
SUMMARY:Mahakala Puja
DESCRIPTION:
URL:https://gyutofoundation.org/event/mahakala-puja-11/
END:VEVENT
BEGIN:VEVENT
DTSTART;TZID=America/Los_Angeles:20240201T190000
DTEND;TZID=America/Los_Angeles:20240201T210000
DTSTAMP:20260425T093545
CREATED:20240201T221025Z
LAST-MODIFIED:20240201T221049Z
UID:3514-1706814000-1706821200@gyutofoundation.org
SUMMARY:Teaching: The Guide to the Bodhisattva's Way of Life
DESCRIPTION:
URL:https://gyutofoundation.org/event/teaching-the-guide-to-the-bodhisattvas-way-of-life-42/
END:VEVENT
BEGIN:VEVENT
DTSTART;TZID=America/Los_Angeles:20240129T110000
DTEND;TZID=America/Los_Angeles:20240129T120000
DTSTAMP:20260425T093545
CREATED:20231108T030853Z
LAST-MODIFIED:20240124T053912Z
UID:3391-1706526000-1706529600@gyutofoundation.org
SUMMARY:Secular Meditation
DESCRIPTION:
URL:https://gyutofoundation.org/event/secular-meditation-46/
END:VEVENT
BEGIN:VEVENT
DTSTART;TZID=America/Los_Angeles:20240128T020000
DTEND;TZID=America/Los_Angeles:20240128T040000
DTSTAMP:20260425T093545
CREATED:20231108T030730Z
LAST-MODIFIED:20231108T030815Z
UID:3389-1706407200-1706414400@gyutofoundation.org
SUMMARY:Teaching: Stages on the Path to Enlightenment
DESCRIPTION:
URL:https://gyutofoundation.org/event/teaching-stages-on-the-path-to-enlightenment-45/
END:VEVENT
BEGIN:VEVENT
DTSTART;TZID=America/Los_Angeles:20240125T110000
DTEND;TZID=America/Los_Angeles:20240125T130000
DTSTAMP:20260425T093545
CREATED:20231108T030426Z
LAST-MODIFIED:20231108T030522Z
UID:3385-1706180400-1706187600@gyutofoundation.org
SUMMARY:Teaching: The Guide to the Bodhisattva’s Way of Life
DESCRIPTION:
URL:https://gyutofoundation.org/event/teaching-the-guide-to-the-bodhisattvas-way-of-life-39/
END:VEVENT
BEGIN:VEVENT
DTSTART;TZID=America/Los_Angeles:20240124T110000
DTEND;TZID=America/Los_Angeles:20240124T120000
DTSTAMP:20260425T093545
CREATED:20231108T030306Z
LAST-MODIFIED:20231108T030331Z
UID:3383-1706094000-1706097600@gyutofoundation.org
SUMMARY:Medicine Buddha Puja
DESCRIPTION:
URL:https://gyutofoundation.org/event/medicine-buddha-puja-14/
END:VEVENT
BEGIN:VEVENT
DTSTART;TZID=America/Los_Angeles:20240122T110000
DTEND;TZID=America/Los_Angeles:20240122T120000
DTSTAMP:20260425T093545
CREATED:20231108T025915Z
LAST-MODIFIED:20231108T030045Z
UID:3381-1705921200-1705924800@gyutofoundation.org
SUMMARY:Secular Meditation
DESCRIPTION:
URL:https://gyutofoundation.org/event/secular-meditation-45/
END:VEVENT
BEGIN:VEVENT
DTSTART;TZID=America/Los_Angeles:20240121T020000
DTEND;TZID=America/Los_Angeles:20240121T040000
DTSTAMP:20260425T093545
CREATED:20231108T025524Z
LAST-MODIFIED:20231108T025759Z
UID:3379-1705802400-1705809600@gyutofoundation.org
SUMMARY:Teaching: Stages on the Path to Enlightenment
DESCRIPTION:
URL:https://gyutofoundation.org/event/teaching-stages-on-the-path-to-enlightenment-44/
END:VEVENT
BEGIN:VEVENT
DTSTART;TZID=America/Los_Angeles:20240120T110000
DTEND;TZID=America/Los_Angeles:20240120T120000
DTSTAMP:20260425T093545
CREATED:20231108T025343Z
LAST-MODIFIED:20231108T025420Z
UID:3377-1705748400-1705752000@gyutofoundation.org
SUMMARY:Guru Puja
DESCRIPTION:
URL:https://gyutofoundation.org/event/guru-puja-24/
END:VEVENT
BEGIN:VEVENT
DTSTART;TZID=America/Los_Angeles:20240118T110000
DTEND;TZID=America/Los_Angeles:20240118T130000
DTSTAMP:20260425T093545
CREATED:20231108T025211Z
LAST-MODIFIED:20231108T025255Z
UID:3375-1705575600-1705582800@gyutofoundation.org
SUMMARY:Teaching: The Guide to the Bodhisattva’s Way of Life
DESCRIPTION:
URL:https://gyutofoundation.org/event/teaching-the-guide-to-the-bodhisattvas-way-of-life-41/
END:VEVENT
BEGIN:VEVENT
DTSTART;TZID=America/Los_Angeles:20240115T110000
DTEND;TZID=America/Los_Angeles:20240115T120000
DTSTAMP:20260425T093545
CREATED:20231108T024750Z
LAST-MODIFIED:20231108T024941Z
UID:3373-1705316400-1705320000@gyutofoundation.org
SUMMARY:Secular Meditation
DESCRIPTION:
URL:https://gyutofoundation.org/event/secular-meditation-44/
END:VEVENT
BEGIN:VEVENT
DTSTART;TZID=America/Los_Angeles:20240114T020000
DTEND;TZID=America/Los_Angeles:20240114T040000
DTSTAMP:20260425T093545
CREATED:20231108T024509Z
LAST-MODIFIED:20231108T024617Z
UID:3371-1705197600-1705204800@gyutofoundation.org
SUMMARY:Teaching: Stages on the Path to Enlightenment
DESCRIPTION:
URL:https://gyutofoundation.org/event/teaching-stages-on-the-path-to-enlightenment-41/
END:VEVENT
BEGIN:VEVENT
DTSTART;TZID=America/Los_Angeles:20240113T020000
DTEND;TZID=America/Los_Angeles:20240113T040000
DTSTAMP:20260425T093545
CREATED:20231108T023758Z
LAST-MODIFIED:20231108T024316Z
UID:3368-1705111200-1705118400@gyutofoundation.org
SUMMARY:Mahakala Puja
DESCRIPTION:
URL:https://gyutofoundation.org/event/mahakala-puja-10/
END:VEVENT
BEGIN:VEVENT
DTSTART;TZID=America/Los_Angeles:20240111T110000
DTEND;TZID=America/Los_Angeles:20240111T130000
DTSTAMP:20260425T093545
CREATED:20231108T023656Z
LAST-MODIFIED:20231108T023727Z
UID:3366-1704970800-1704978000@gyutofoundation.org
SUMMARY:Teaching: The Guide to the Bodhisattva’s Way of Life
DESCRIPTION:
URL:https://gyutofoundation.org/event/teaching-the-guide-to-the-bodhisattvas-way-of-life-40/
END:VEVENT
BEGIN:VEVENT
DTSTART;TZID=America/Los_Angeles:20240110T110000
DTEND;TZID=America/Los_Angeles:20240110T120000
DTSTAMP:20260425T093545
CREATED:20231108T023534Z
LAST-MODIFIED:20231108T023603Z
UID:3364-1704884400-1704888000@gyutofoundation.org
SUMMARY:Tara Puja
DESCRIPTION:
URL:https://gyutofoundation.org/event/tara-puja-12/
END:VEVENT
BEGIN:VEVENT
DTSTART;TZID=America/Los_Angeles:20240108T110000
DTEND;TZID=America/Los_Angeles:20240108T120000
DTSTAMP:20260425T093545
CREATED:20231108T023431Z
LAST-MODIFIED:20231108T023447Z
UID:3361-1704711600-1704715200@gyutofoundation.org
SUMMARY:Secular Meditation
DESCRIPTION:
URL:https://gyutofoundation.org/event/secular-meditation-43/
END:VEVENT
BEGIN:VEVENT
DTSTART;TZID=America/Los_Angeles:20240106T110000
DTEND;TZID=America/Los_Angeles:20240106T120000
DTSTAMP:20260425T093545
CREATED:20231108T023126Z
LAST-MODIFIED:20231108T023157Z
UID:3357-1704538800-1704542400@gyutofoundation.org
SUMMARY:Guru Puja
DESCRIPTION:
URL:https://gyutofoundation.org/event/guru-puja-23/
END:VEVENT
BEGIN:VEVENT
DTSTART;TZID=America/Los_Angeles:20240101T110000
DTEND;TZID=America/Los_Angeles:20240101T120000
DTSTAMP:20260425T093545
CREATED:20231108T022807Z
LAST-MODIFIED:20231108T022834Z
UID:3353-1704106800-1704110400@gyutofoundation.org
SUMMARY:Secular Meditation
DESCRIPTION:
URL:https://gyutofoundation.org/event/secular-meditation-42/
END:VEVENT
BEGIN:VEVENT
DTSTART;TZID=America/Los_Angeles:20231222T110000
DTEND;TZID=America/Los_Angeles:20231222T120000
DTSTAMP:20260425T093545
CREATED:20231014T041845Z
LAST-MODIFIED:20231219T031350Z
UID:3350-1703242800-1703246400@gyutofoundation.org
SUMMARY:Guru Puja
DESCRIPTION:
URL:https://gyutofoundation.org/event/guru-puja-22/
END:VEVENT
BEGIN:VEVENT
DTSTART;TZID=America/Los_Angeles:20231221T110000
DTEND;TZID=America/Los_Angeles:20231221T130000
DTSTAMP:20260425T093545
CREATED:20231014T041119Z
LAST-MODIFIED:20231014T041204Z
UID:3342-1703156400-1703163600@gyutofoundation.org
SUMMARY:Teaching: The Guide to the Bodhisattva’s Way of Life
DESCRIPTION:
URL:https://gyutofoundation.org/event/medicine-buddha-puja-12/
END:VEVENT
BEGIN:VEVENT
DTSTART;TZID=America/Los_Angeles:20231220T110000
DTEND;TZID=America/Los_Angeles:20231220T120000
DTSTAMP:20260425T093545
CREATED:20231014T041303Z
LAST-MODIFIED:20231014T041614Z
UID:3345-1703070000-1703073600@gyutofoundation.org
SUMMARY:Medicine Buddha Puja
DESCRIPTION:
URL:https://gyutofoundation.org/event/medicine-buddha-puja-13/
END:VEVENT
BEGIN:VEVENT
DTSTART;TZID=America/Los_Angeles:20231218T110000
DTEND;TZID=America/Los_Angeles:20231218T120000
DTSTAMP:20260425T093545
CREATED:20231014T040955Z
LAST-MODIFIED:20231014T041039Z
UID:3340-1702897200-1702900800@gyutofoundation.org
SUMMARY:Secular Meditation
DESCRIPTION:
URL:https://gyutofoundation.org/event/secular-meditation-41/
END:VEVENT
BEGIN:VEVENT
DTSTART;TZID=America/Los_Angeles:20231217T020000
DTEND;TZID=America/Los_Angeles:20231217T040000
DTSTAMP:20260425T093545
CREATED:20231014T041705Z
LAST-MODIFIED:20231109T012423Z
UID:3348-1702778400-1702785600@gyutofoundation.org
SUMMARY:Teaching: Stages on the Path to Enlightenment
DESCRIPTION:
URL:https://gyutofoundation.org/event/teaching-stages-on-the-path-to-enlightenment-43/
END:VEVENT
BEGIN:VEVENT
DTSTART;TZID=America/Los_Angeles:20231214T110000
DTEND;TZID=America/Los_Angeles:20231214T130000
DTSTAMP:20260425T093545
CREATED:20231014T040816Z
LAST-MODIFIED:20231014T040853Z
UID:3338-1702551600-1702558800@gyutofoundation.org
SUMMARY:Teaching: The Guide to the Bodhisattva’s Way of Life
DESCRIPTION:
URL:https://gyutofoundation.org/event/teaching-the-guide-to-the-bodhisattvas-way-of-life-38/
END:VEVENT
END:VCALENDAR