BEGIN:VCALENDAR
VERSION:2.0
PRODID:-//Gyuto Foundation - ECPv6.15.13//NONSGML v1.0//EN
CALSCALE:GREGORIAN
METHOD:PUBLISH
X-WR-CALNAME:Gyuto Foundation
X-ORIGINAL-URL:https://gyutofoundation.org
X-WR-CALDESC:Events for Gyuto Foundation
REFRESH-INTERVAL;VALUE=DURATION:PT1H
X-Robots-Tag:noindex
X-PUBLISHED-TTL:PT1H
BEGIN:VTIMEZONE
TZID:America/Los_Angeles
BEGIN:DAYLIGHT
TZOFFSETFROM:-0800
TZOFFSETTO:-0700
TZNAME:PDT
DTSTART:20230312T100000
END:DAYLIGHT
BEGIN:STANDARD
TZOFFSETFROM:-0700
TZOFFSETTO:-0800
TZNAME:PST
DTSTART:20231105T090000
END:STANDARD
BEGIN:DAYLIGHT
TZOFFSETFROM:-0800
TZOFFSETTO:-0700
TZNAME:PDT
DTSTART:20240310T100000
END:DAYLIGHT
BEGIN:STANDARD
TZOFFSETFROM:-0700
TZOFFSETTO:-0800
TZNAME:PST
DTSTART:20241103T090000
END:STANDARD
BEGIN:DAYLIGHT
TZOFFSETFROM:-0800
TZOFFSETTO:-0700
TZNAME:PDT
DTSTART:20250309T100000
END:DAYLIGHT
BEGIN:STANDARD
TZOFFSETFROM:-0700
TZOFFSETTO:-0800
TZNAME:PST
DTSTART:20251102T090000
END:STANDARD
END:VTIMEZONE
BEGIN:VEVENT
DTSTART;TZID=America/Los_Angeles:20240503T190000
DTEND;TZID=America/Los_Angeles:20240503T200000
DTSTAMP:20260425T073354
CREATED:20240323T000652Z
LAST-MODIFIED:20240323T000726Z
UID:3576-1714762800-1714766400@gyutofoundation.org
SUMMARY:Guru Puja
DESCRIPTION:
URL:https://gyutofoundation.org/event/guru-puja-31/
END:VEVENT
BEGIN:VEVENT
DTSTART;TZID=America/Los_Angeles:20240502T190000
DTEND;TZID=America/Los_Angeles:20240502T210000
DTSTAMP:20260425T073354
CREATED:20240323T000307Z
LAST-MODIFIED:20240323T000321Z
UID:3570-1714676400-1714683600@gyutofoundation.org
SUMMARY:Teaching: The Guide to the Bodhisattva's Way of Life
DESCRIPTION:
URL:https://gyutofoundation.org/event/teaching-the-guide-to-the-bodhisattvas-way-of-life-47/
END:VEVENT
BEGIN:VEVENT
DTSTART;TZID=America/Los_Angeles:20240429T190000
DTEND;TZID=America/Los_Angeles:20240429T200000
DTSTAMP:20260425T073354
CREATED:20240226T230102Z
LAST-MODIFIED:20240226T230213Z
UID:3565-1714417200-1714420800@gyutofoundation.org
SUMMARY:Secular Meditation
DESCRIPTION:
URL:https://gyutofoundation.org/event/secular-meditation-60/
END:VEVENT
BEGIN:VEVENT
DTSTART;TZID=America/Los_Angeles:20240428T100000
DTEND;TZID=America/Los_Angeles:20240428T120000
DTSTAMP:20260425T073354
CREATED:20240226T230011Z
LAST-MODIFIED:20240226T230026Z
UID:3563-1714298400-1714305600@gyutofoundation.org
SUMMARY:Teaching: Stages on the Path to Enlightenment
DESCRIPTION:
URL:https://gyutofoundation.org/event/teaching-stages-on-the-path-to-enlightenment-55/
END:VEVENT
BEGIN:VEVENT
DTSTART;TZID=America/Los_Angeles:20240425T190000
DTEND;TZID=America/Los_Angeles:20240425T200000
DTSTAMP:20260425T073354
CREATED:20240226T225734Z
LAST-MODIFIED:20240412T190558Z
UID:3560-1714071600-1714075200@gyutofoundation.org
SUMMARY:Medicine Buddha Puja
DESCRIPTION:
URL:https://gyutofoundation.org/event/medicine-buddha-puja-17/
END:VEVENT
BEGIN:VEVENT
DTSTART;TZID=America/Los_Angeles:20240422T190000
DTEND;TZID=America/Los_Angeles:20240422T200000
DTSTAMP:20260425T073354
CREATED:20240226T225423Z
LAST-MODIFIED:20240226T225442Z
UID:3558-1713812400-1713816000@gyutofoundation.org
SUMMARY:Secular Meditation
DESCRIPTION:
URL:https://gyutofoundation.org/event/secular-meditation-59/
END:VEVENT
BEGIN:VEVENT
DTSTART;TZID=America/Los_Angeles:20240418T190000
DTEND;TZID=America/Los_Angeles:20240418T210000
DTSTAMP:20260425T073354
CREATED:20240226T222332Z
LAST-MODIFIED:20240226T223034Z
UID:3554-1713466800-1713474000@gyutofoundation.org
SUMMARY:Teaching: The Guide to the Bodhisattva’s Way of Life
DESCRIPTION:
URL:https://gyutofoundation.org/event/teaching-the-guide-to-the-bodhisattvas-way-of-life-52/
END:VEVENT
BEGIN:VEVENT
DTSTART;TZID=America/Los_Angeles:20240417T190000
DTEND;TZID=America/Los_Angeles:20240417T200000
DTSTAMP:20260425T073354
CREATED:20240226T222033Z
LAST-MODIFIED:20240226T222207Z
UID:3552-1713380400-1713384000@gyutofoundation.org
SUMMARY:Guru Puja
DESCRIPTION:
URL:https://gyutofoundation.org/event/guru-puja-30/
END:VEVENT
BEGIN:VEVENT
DTSTART;TZID=America/Los_Angeles:20240415T190000
DTEND;TZID=America/Los_Angeles:20240415T200000
DTSTAMP:20260425T073354
CREATED:20240226T221924Z
LAST-MODIFIED:20240226T221946Z
UID:3550-1713207600-1713211200@gyutofoundation.org
SUMMARY:Secular Meditation
DESCRIPTION:
URL:https://gyutofoundation.org/event/secular-meditation-58/
END:VEVENT
BEGIN:VEVENT
DTSTART;TZID=America/Los_Angeles:20240414T100000
DTEND;TZID=America/Los_Angeles:20240414T120000
DTSTAMP:20260425T073354
CREATED:20240226T215311Z
LAST-MODIFIED:20240412T190027Z
UID:3548-1713088800-1713096000@gyutofoundation.org
SUMMARY:Teaching: Stages on the Path to Enlightenment
DESCRIPTION:
URL:https://gyutofoundation.org/event/teaching-stages-on-the-path-to-enlightenment-53/
END:VEVENT
BEGIN:VEVENT
DTSTART;TZID=America/Los_Angeles:20240413T090000
DTEND;TZID=America/Los_Angeles:20240413T120000
DTSTAMP:20260425T073354
CREATED:20240226T214928Z
LAST-MODIFIED:20240412T190227Z
UID:3546-1712998800-1713009600@gyutofoundation.org
SUMMARY:Mahakala Puja
DESCRIPTION:
URL:https://gyutofoundation.org/event/mahakala-puja-13/
END:VEVENT
BEGIN:VEVENT
DTSTART;TZID=America/Los_Angeles:20240411T190000
DTEND;TZID=America/Los_Angeles:20240411T210000
DTSTAMP:20260425T073354
CREATED:20240226T214815Z
LAST-MODIFIED:20240226T214855Z
UID:3544-1712862000-1712869200@gyutofoundation.org
SUMMARY:Teaching: The Guide to the Bodhisattva’s Way of Life
DESCRIPTION:
URL:https://gyutofoundation.org/event/teaching-the-guide-to-the-bodhisattvas-way-of-life-51/
END:VEVENT
BEGIN:VEVENT
DTSTART;TZID=America/Los_Angeles:20240410T190000
DTEND;TZID=America/Los_Angeles:20240410T200000
DTSTAMP:20260425T073354
CREATED:20240226T214627Z
LAST-MODIFIED:20240226T214730Z
UID:3542-1712775600-1712779200@gyutofoundation.org
SUMMARY:Tara Puja
DESCRIPTION:
URL:https://gyutofoundation.org/event/tara-puja-15/
END:VEVENT
BEGIN:VEVENT
DTSTART;TZID=America/Los_Angeles:20240408T190000
DTEND;TZID=America/Los_Angeles:20240408T200000
DTSTAMP:20260425T073354
CREATED:20240226T214513Z
LAST-MODIFIED:20240226T214534Z
UID:3540-1712602800-1712606400@gyutofoundation.org
SUMMARY:Secular Meditation
DESCRIPTION:
URL:https://gyutofoundation.org/event/secular-meditation-57/
END:VEVENT
BEGIN:VEVENT
DTSTART;TZID=America/Los_Angeles:20240407T100000
DTEND;TZID=America/Los_Angeles:20240407T120000
DTSTAMP:20260425T073354
CREATED:20240226T213701Z
LAST-MODIFIED:20240226T214358Z
UID:3538-1712484000-1712491200@gyutofoundation.org
SUMMARY:Teaching: Stages on the Path to Enlightenment
DESCRIPTION:
URL:https://gyutofoundation.org/event/teaching-stages-on-the-path-to-enlightenment-49/
END:VEVENT
BEGIN:VEVENT
DTSTART;TZID=America/Los_Angeles:20240403T190000
DTEND;TZID=America/Los_Angeles:20240403T200000
DTSTAMP:20260425T073354
CREATED:20240226T213325Z
LAST-MODIFIED:20240226T213352Z
UID:3535-1712170800-1712174400@gyutofoundation.org
SUMMARY:Guru Puja
DESCRIPTION:
URL:https://gyutofoundation.org/event/guru-puja-29/
END:VEVENT
BEGIN:VEVENT
DTSTART;TZID=America/Los_Angeles:20240401T190000
DTEND;TZID=America/Los_Angeles:20240401T200000
DTSTAMP:20260425T073354
CREATED:20240226T213131Z
LAST-MODIFIED:20240226T213201Z
UID:3533-1711998000-1712001600@gyutofoundation.org
SUMMARY:Secular Meditation
DESCRIPTION:
URL:https://gyutofoundation.org/event/secular-meditation-56/
END:VEVENT
BEGIN:VEVENT
DTSTART;TZID=America/Los_Angeles:20240331T100000
DTEND;TZID=America/Los_Angeles:20240331T120000
DTSTAMP:20260425T073354
CREATED:20240118T025304Z
LAST-MODIFIED:20240201T233800Z
UID:3491-1711879200-1711886400@gyutofoundation.org
SUMMARY:Teaching: Stages on the Path to Enlightenment
DESCRIPTION:
URL:https://gyutofoundation.org/event/teaching-stages-on-the-path-to-enlightenment-52/
END:VEVENT
BEGIN:VEVENT
DTSTART;TZID=America/Los_Angeles:20240328T190000
DTEND;TZID=America/Los_Angeles:20240328T210000
DTSTAMP:20260425T073354
CREATED:20240118T025104Z
LAST-MODIFIED:20240201T233850Z
UID:3488-1711652400-1711659600@gyutofoundation.org
SUMMARY:Teaching: The Guide to the Bodhisattva’s Way of Life
DESCRIPTION:
URL:https://gyutofoundation.org/event/teaching-the-guide-to-the-bodhisattvas-way-of-life-50/
END:VEVENT
BEGIN:VEVENT
DTSTART;TZID=America/Los_Angeles:20240327T190000
DTEND;TZID=America/Los_Angeles:20240327T200000
DTSTAMP:20260425T073354
CREATED:20240118T024950Z
LAST-MODIFIED:20240201T233947Z
UID:3486-1711566000-1711569600@gyutofoundation.org
SUMMARY:Medicine Buddha Puja
DESCRIPTION:
URL:https://gyutofoundation.org/event/medicine-buddha-puja-16/
END:VEVENT
BEGIN:VEVENT
DTSTART;TZID=America/Los_Angeles:20240325T190000
DTEND;TZID=America/Los_Angeles:20240325T200000
DTSTAMP:20260425T073354
CREATED:20240118T024801Z
LAST-MODIFIED:20240201T234055Z
UID:3483-1711393200-1711396800@gyutofoundation.org
SUMMARY:Secular Meditation
DESCRIPTION:
URL:https://gyutofoundation.org/event/secular-meditation-54/
END:VEVENT
BEGIN:VEVENT
DTSTART;TZID=America/Los_Angeles:20240324T100000
DTEND;TZID=America/Los_Angeles:20240324T120000
DTSTAMP:20260425T073354
CREATED:20240118T024646Z
LAST-MODIFIED:20240201T234221Z
UID:3481-1711274400-1711281600@gyutofoundation.org
SUMMARY:Teaching: Stages on the Path to Enlightenment
DESCRIPTION:
URL:https://gyutofoundation.org/event/teaching-stages-on-the-path-to-enlightenment-51/
END:VEVENT
BEGIN:VEVENT
DTSTART;TZID=America/Los_Angeles:20240322T070000
DTEND;TZID=America/Los_Angeles:20240322T100000
DTSTAMP:20260425T073354
CREATED:20240323T011515Z
LAST-MODIFIED:20240323T011527Z
UID:3653-1711090800-1711101600@gyutofoundation.org
SUMMARY:Fasting Retreat (Nyung-Ney) Day 3
DESCRIPTION:
URL:https://gyutofoundation.org/event/fasting-retreat-nyung-ney-day-3/
END:VEVENT
BEGIN:VEVENT
DTSTART;TZID=America/Los_Angeles:20240321T190000
DTEND;TZID=America/Los_Angeles:20240321T210000
DTSTAMP:20260425T073354
CREATED:20240118T024538Z
LAST-MODIFIED:20240201T234516Z
UID:3479-1711047600-1711054800@gyutofoundation.org
SUMMARY:Teaching: The Guide to the Bodhisattva’s Way of Life
DESCRIPTION:
URL:https://gyutofoundation.org/event/teaching-the-guide-to-the-bodhisattvas-way-of-life-49/
END:VEVENT
BEGIN:VEVENT
DTSTART;TZID=America/Los_Angeles:20240319T190000
DTEND;TZID=America/Los_Angeles:20240319T200000
DTSTAMP:20260425T073354
CREATED:20240118T024152Z
LAST-MODIFIED:20240201T235157Z
UID:3476-1710874800-1710878400@gyutofoundation.org
SUMMARY:Guru Puja
DESCRIPTION:
URL:https://gyutofoundation.org/event/guru-puja-27/
END:VEVENT
BEGIN:VEVENT
DTSTART;TZID=America/Los_Angeles:20240318T190000
DTEND;TZID=America/Los_Angeles:20240318T200000
DTSTAMP:20260425T073354
CREATED:20240118T023850Z
LAST-MODIFIED:20240201T235404Z
UID:3474-1710788400-1710792000@gyutofoundation.org
SUMMARY:Secular Meditation
DESCRIPTION:
URL:https://gyutofoundation.org/event/secular-meditation-53/
END:VEVENT
BEGIN:VEVENT
DTSTART;TZID=America/Los_Angeles:20240317T100000
DTEND;TZID=America/Los_Angeles:20240317T120000
DTSTAMP:20260425T073354
CREATED:20240118T023601Z
LAST-MODIFIED:20240201T235450Z
UID:3472-1710669600-1710676800@gyutofoundation.org
SUMMARY:Teaching: Stages on the Path to Enlightenment
DESCRIPTION:
URL:https://gyutofoundation.org/event/teaching-stages-on-the-path-to-enlightenment-50/
END:VEVENT
BEGIN:VEVENT
DTSTART;TZID=America/Los_Angeles:20240316T090000
DTEND;TZID=America/Los_Angeles:20240316T120000
DTSTAMP:20260425T073354
CREATED:20240313T181121Z
LAST-MODIFIED:20240313T181209Z
UID:3567-1710579600-1710590400@gyutofoundation.org
SUMMARY:Mahakala Puja
DESCRIPTION:
URL:https://gyutofoundation.org/event/mahakala-puja-14/
END:VEVENT
BEGIN:VEVENT
DTSTART;TZID=America/Los_Angeles:20240315T180000
DTEND;TZID=America/Los_Angeles:20240315T200000
DTSTAMP:20260425T073354
CREATED:20240219T212227Z
LAST-MODIFIED:20240219T212227Z
UID:3531-1710525600-1710532800@gyutofoundation.org
SUMMARY:How to Train a Happy Mind Book Release with Scott Snibbe and sujatha baliga
DESCRIPTION:How to Train a Happy Mind Book Release with Scott Snibbe and sujatha baliga \nJoin Scott Snibbe as he is interviewed by restorative justice advocate and MacArthur award winner sujatha baliga to celebrate the release of his book\, How to Train a Happy Mind. There will be refreshments and a chance to have your book signed by Scott. \nAll proceeds from the event book sales go to benefit Gyuto Foundation\, where Scott and sujatha teach meditation on Monday nights. \nRegister here: https://www.eventbrite.com/e/836926940007/
URL:https://gyutofoundation.org/event/how-to-train-a-happy-mind-book-release-with-scott-snibbe-and-sujatha-baliga/
END:VEVENT
BEGIN:VEVENT
DTSTART;TZID=America/Los_Angeles:20240314T190000
DTEND;TZID=America/Los_Angeles:20240314T210000
DTSTAMP:20260425T073354
CREATED:20240118T022911Z
LAST-MODIFIED:20240201T235540Z
UID:3470-1710442800-1710450000@gyutofoundation.org
SUMMARY:Teaching: The Guide to the Bodhisattva’s Way of Life
DESCRIPTION:
URL:https://gyutofoundation.org/event/teaching-the-guide-to-the-bodhisattvas-way-of-life-48/
END:VEVENT
END:VCALENDAR