BEGIN:VCALENDAR
VERSION:2.0
PRODID:-//Gyuto Foundation - ECPv6.15.13//NONSGML v1.0//EN
CALSCALE:GREGORIAN
METHOD:PUBLISH
X-WR-CALNAME:Gyuto Foundation
X-ORIGINAL-URL:https://gyutofoundation.org
X-WR-CALDESC:Events for Gyuto Foundation
REFRESH-INTERVAL;VALUE=DURATION:PT1H
X-Robots-Tag:noindex
X-PUBLISHED-TTL:PT1H
BEGIN:VTIMEZONE
TZID:America/Los_Angeles
BEGIN:DAYLIGHT
TZOFFSETFROM:-0800
TZOFFSETTO:-0700
TZNAME:PDT
DTSTART:20230312T100000
END:DAYLIGHT
BEGIN:STANDARD
TZOFFSETFROM:-0700
TZOFFSETTO:-0800
TZNAME:PST
DTSTART:20231105T090000
END:STANDARD
BEGIN:DAYLIGHT
TZOFFSETFROM:-0800
TZOFFSETTO:-0700
TZNAME:PDT
DTSTART:20240310T100000
END:DAYLIGHT
BEGIN:STANDARD
TZOFFSETFROM:-0700
TZOFFSETTO:-0800
TZNAME:PST
DTSTART:20241103T090000
END:STANDARD
BEGIN:DAYLIGHT
TZOFFSETFROM:-0800
TZOFFSETTO:-0700
TZNAME:PDT
DTSTART:20250309T100000
END:DAYLIGHT
BEGIN:STANDARD
TZOFFSETFROM:-0700
TZOFFSETTO:-0800
TZNAME:PST
DTSTART:20251102T090000
END:STANDARD
END:VTIMEZONE
BEGIN:VEVENT
DTSTART;TZID=America/Los_Angeles:20240525T063000
DTEND;TZID=America/Los_Angeles:20240525T180000
DTSTAMP:20260425T044214
CREATED:20240323T005824Z
LAST-MODIFIED:20240323T005834Z
UID:3644-1716618600-1716660000@gyutofoundation.org
SUMMARY:Fasting Retreat (Nyung-Ney) Day 1
DESCRIPTION:
URL:https://gyutofoundation.org/event/fasting-retreat-nyung-ney-day-1-2/
END:VEVENT
BEGIN:VEVENT
DTSTART;TZID=America/Los_Angeles:20240524T190000
DTEND;TZID=America/Los_Angeles:20240524T200000
DTSTAMP:20260425T044214
CREATED:20240323T005503Z
LAST-MODIFIED:20240323T005521Z
UID:3641-1716577200-1716580800@gyutofoundation.org
SUMMARY:Fasting Retreat (Nyung-Ney) Orientation
DESCRIPTION:
URL:https://gyutofoundation.org/event/fasting-retreat-nyung-ney-orientation-2/
END:VEVENT
BEGIN:VEVENT
DTSTART;TZID=America/Los_Angeles:20240523T190000
DTEND;TZID=America/Los_Angeles:20240523T200000
DTSTAMP:20260425T044214
CREATED:20240323T005240Z
LAST-MODIFIED:20240323T005347Z
UID:3639-1716490800-1716494400@gyutofoundation.org
SUMMARY:Saga Dawa Full Moon Puja
DESCRIPTION:
URL:https://gyutofoundation.org/event/saga-dawa-full-moon-puja/
END:VEVENT
BEGIN:VEVENT
DTSTART;TZID=America/Los_Angeles:20240523T180000
DTEND;TZID=America/Los_Angeles:20240523T190000
DTSTAMP:20260425T044214
CREATED:20240323T003757Z
LAST-MODIFIED:20240323T003805Z
UID:3628-1716487200-1716490800@gyutofoundation.org
SUMMARY:Saga Dawa Prostration Day 15
DESCRIPTION:
URL:https://gyutofoundation.org/event/saga-dawa-prostration-day-15/
END:VEVENT
BEGIN:VEVENT
DTSTART;TZID=America/Los_Angeles:20240522T180000
DTEND;TZID=America/Los_Angeles:20240522T190000
DTSTAMP:20260425T044214
CREATED:20240323T003634Z
LAST-MODIFIED:20240323T003713Z
UID:3626-1716400800-1716404400@gyutofoundation.org
SUMMARY:Saga Dawa Prostration Day 14
DESCRIPTION:
URL:https://gyutofoundation.org/event/saga-dawa-prostration-day-14/
END:VEVENT
BEGIN:VEVENT
DTSTART;TZID=America/Los_Angeles:20240521T180000
DTEND;TZID=America/Los_Angeles:20240521T190000
DTSTAMP:20260425T044214
CREATED:20240323T003450Z
LAST-MODIFIED:20240323T003500Z
UID:3623-1716314400-1716318000@gyutofoundation.org
SUMMARY:Saga Dawa Prostration Day 13
DESCRIPTION:
URL:https://gyutofoundation.org/event/saga-dawa-prostration-day-13/
END:VEVENT
BEGIN:VEVENT
DTSTART;TZID=America/Los_Angeles:20240520T190000
DTEND;TZID=America/Los_Angeles:20240520T200000
DTSTAMP:20260425T044214
CREATED:20240323T005142Z
LAST-MODIFIED:20240323T005156Z
UID:3637-1716231600-1716235200@gyutofoundation.org
SUMMARY:Secular Meditation
DESCRIPTION:
URL:https://gyutofoundation.org/event/secular-meditation-63/
END:VEVENT
BEGIN:VEVENT
DTSTART;TZID=America/Los_Angeles:20240520T180000
DTEND;TZID=America/Los_Angeles:20240520T190000
DTSTAMP:20260425T044214
CREATED:20240323T003347Z
LAST-MODIFIED:20240323T003405Z
UID:3621-1716228000-1716231600@gyutofoundation.org
SUMMARY:Saga Dawa Prostration Day 12
DESCRIPTION:
URL:https://gyutofoundation.org/event/saga-dawa-prostration-day-12/
END:VEVENT
BEGIN:VEVENT
DTSTART;TZID=America/Los_Angeles:20240519T180000
DTEND;TZID=America/Los_Angeles:20240519T190000
DTSTAMP:20260425T044214
CREATED:20240323T003305Z
LAST-MODIFIED:20240323T003315Z
UID:3619-1716141600-1716145200@gyutofoundation.org
SUMMARY:Saga Dawa Prostration Day 11
DESCRIPTION:
URL:https://gyutofoundation.org/event/saga-dawa-prostration-day-11/
END:VEVENT
BEGIN:VEVENT
DTSTART;TZID=America/Los_Angeles:20240519T100000
DTEND;TZID=America/Los_Angeles:20240519T120000
DTSTAMP:20260425T044214
CREATED:20240323T004837Z
LAST-MODIFIED:20240323T004857Z
UID:3634-1716112800-1716120000@gyutofoundation.org
SUMMARY:Teaching: Stages on the Path to Enlightenment (Lam-rim)
DESCRIPTION:
URL:https://gyutofoundation.org/event/teaching-stages-on-the-path-to-enlightenment-lam-rim-3/
END:VEVENT
BEGIN:VEVENT
DTSTART;TZID=America/Los_Angeles:20240518T190000
DTEND;TZID=America/Los_Angeles:20240518T200000
DTSTAMP:20260425T044214
CREATED:20240323T003916Z
LAST-MODIFIED:20240323T003924Z
UID:3631-1716058800-1716062400@gyutofoundation.org
SUMMARY:Guru Puja
DESCRIPTION:
URL:https://gyutofoundation.org/event/guru-puja-32/
END:VEVENT
BEGIN:VEVENT
DTSTART;TZID=America/Los_Angeles:20240518T180000
DTEND;TZID=America/Los_Angeles:20240518T190000
DTSTAMP:20260425T044214
CREATED:20240323T003150Z
LAST-MODIFIED:20240323T003210Z
UID:3617-1716055200-1716058800@gyutofoundation.org
SUMMARY:Saga Dawa Prostration Day 10
DESCRIPTION:
URL:https://gyutofoundation.org/event/saga-dawa-prostration-day-10/
END:VEVENT
BEGIN:VEVENT
DTSTART;TZID=America/Los_Angeles:20240517T180000
DTEND;TZID=America/Los_Angeles:20240517T190000
DTSTAMP:20260425T044214
CREATED:20240323T003058Z
LAST-MODIFIED:20240323T003117Z
UID:3614-1715968800-1715972400@gyutofoundation.org
SUMMARY:Saga Dawa Prostration Day 9
DESCRIPTION:
URL:https://gyutofoundation.org/event/saga-dawa-prostration-day-9/
END:VEVENT
BEGIN:VEVENT
DTSTART;TZID=America/Los_Angeles:20240516T190000
DTEND;TZID=America/Los_Angeles:20240516T210000
DTSTAMP:20260425T044214
CREATED:20240323T002525Z
LAST-MODIFIED:20240323T002631Z
UID:3605-1715886000-1715893200@gyutofoundation.org
SUMMARY:Teaching: The Guide to the Bodhisattva’s Way of Life
DESCRIPTION:
URL:https://gyutofoundation.org/event/teaching-the-guide-to-the-bodhisattvas-way-of-life-54/
END:VEVENT
BEGIN:VEVENT
DTSTART;TZID=America/Los_Angeles:20240516T180000
DTEND;TZID=America/Los_Angeles:20240516T190000
DTSTAMP:20260425T044214
CREATED:20240323T003013Z
LAST-MODIFIED:20240323T003021Z
UID:3612-1715882400-1715886000@gyutofoundation.org
SUMMARY:Saga Dawa Prostration Day 8
DESCRIPTION:
URL:https://gyutofoundation.org/event/saga-dawa-prostration-day-8/
END:VEVENT
BEGIN:VEVENT
DTSTART;TZID=America/Los_Angeles:20240515T180000
DTEND;TZID=America/Los_Angeles:20240515T190000
DTSTAMP:20260425T044214
CREATED:20240323T002910Z
LAST-MODIFIED:20240323T002926Z
UID:3610-1715796000-1715799600@gyutofoundation.org
SUMMARY:Saga Dawa Prostration Day 7
DESCRIPTION:
URL:https://gyutofoundation.org/event/saga-dawa-prostration-day-7/
END:VEVENT
BEGIN:VEVENT
DTSTART;TZID=America/Los_Angeles:20240514T180000
DTEND;TZID=America/Los_Angeles:20240514T190000
DTSTAMP:20260425T044214
CREATED:20240323T002708Z
LAST-MODIFIED:20240323T002715Z
UID:3608-1715709600-1715713200@gyutofoundation.org
SUMMARY:Saga Dawa Prostration Day 6
DESCRIPTION:
URL:https://gyutofoundation.org/event/saga-dawa-prostration-day-6/
END:VEVENT
BEGIN:VEVENT
DTSTART;TZID=America/Los_Angeles:20240513T190000
DTEND;TZID=America/Los_Angeles:20240513T200000
DTSTAMP:20260425T044214
CREATED:20240323T002313Z
LAST-MODIFIED:20240323T002338Z
UID:3600-1715626800-1715630400@gyutofoundation.org
SUMMARY:Secular Meditation
DESCRIPTION:
URL:https://gyutofoundation.org/event/secular-meditation-62/
END:VEVENT
BEGIN:VEVENT
DTSTART;TZID=America/Los_Angeles:20240513T180000
DTEND;TZID=America/Los_Angeles:20240513T190000
DTSTAMP:20260425T044214
CREATED:20240323T002418Z
LAST-MODIFIED:20240323T002442Z
UID:3602-1715623200-1715626800@gyutofoundation.org
SUMMARY:Saga Dawa Prostration Day 5
DESCRIPTION:
URL:https://gyutofoundation.org/event/saga-dawa-prostration-day-5/
END:VEVENT
BEGIN:VEVENT
DTSTART;TZID=America/Los_Angeles:20240512T180000
DTEND;TZID=America/Los_Angeles:20240512T190000
DTSTAMP:20260425T044214
CREATED:20240323T001757Z
LAST-MODIFIED:20240323T001805Z
UID:3595-1715536800-1715540400@gyutofoundation.org
SUMMARY:Saga Dawa Prostration Day 4
DESCRIPTION:
URL:https://gyutofoundation.org/event/saga-dawa-prostration-day-4/
END:VEVENT
BEGIN:VEVENT
DTSTART;TZID=America/Los_Angeles:20240512T160000
DTEND;TZID=America/Los_Angeles:20240512T180000
DTSTAMP:20260425T044214
CREATED:20240323T001922Z
LAST-MODIFIED:20240509T194700Z
UID:3597-1715529600-1715536800@gyutofoundation.org
SUMMARY:Special Screening of Saranam Gacchami
DESCRIPTION:Free. RSVP required.
URL:https://gyutofoundation.org/event/special-screening-of-saranam-gacchami/
END:VEVENT
BEGIN:VEVENT
DTSTART;TZID=America/Los_Angeles:20240512T100000
DTEND;TZID=America/Los_Angeles:20240512T120000
DTSTAMP:20260425T044214
CREATED:20240323T001633Z
LAST-MODIFIED:20240323T001700Z
UID:3593-1715508000-1715515200@gyutofoundation.org
SUMMARY:Teaching: Stages on the Path to Enlightenment (Lam-rim)
DESCRIPTION:
URL:https://gyutofoundation.org/event/teaching-stages-on-the-path-to-enlightenment-lam-rim-2/
END:VEVENT
BEGIN:VEVENT
DTSTART;TZID=America/Los_Angeles:20240511T180000
DTEND;TZID=America/Los_Angeles:20240511T190000
DTSTAMP:20260425T044214
CREATED:20240323T001237Z
LAST-MODIFIED:20240323T001237Z
UID:3587-1715450400-1715454000@gyutofoundation.org
SUMMARY:Saga Dawa Prostration Day 3
DESCRIPTION:
URL:https://gyutofoundation.org/event/saga-dawa-prostration-day-3/
END:VEVENT
BEGIN:VEVENT
DTSTART;TZID=America/Los_Angeles:20240510T180000
DTEND;TZID=America/Los_Angeles:20240510T190000
DTSTAMP:20260425T044214
CREATED:20240323T001044Z
LAST-MODIFIED:20240323T001052Z
UID:3582-1715364000-1715367600@gyutofoundation.org
SUMMARY:Saga Dawa Prostration Day 2
DESCRIPTION:
URL:https://gyutofoundation.org/event/saga-dawa-prostration-day-2/
END:VEVENT
BEGIN:VEVENT
DTSTART;TZID=America/Los_Angeles:20240509T190000
DTEND;TZID=America/Los_Angeles:20240509T210000
DTSTAMP:20260425T044214
CREATED:20240323T001156Z
LAST-MODIFIED:20240323T001206Z
UID:3584-1715281200-1715288400@gyutofoundation.org
SUMMARY:Teaching: The Guide to the Bodhisattva’s Way of Life
DESCRIPTION:
URL:https://gyutofoundation.org/event/teaching-the-guide-to-the-bodhisattvas-way-of-life-53/
END:VEVENT
BEGIN:VEVENT
DTSTART;TZID=America/Los_Angeles:20240509T180000
DTEND;TZID=America/Los_Angeles:20240509T190000
DTSTAMP:20260425T044214
CREATED:20240323T000957Z
LAST-MODIFIED:20240323T001011Z
UID:3580-1715277600-1715281200@gyutofoundation.org
SUMMARY:Saga Dawa Prostration Day 1
DESCRIPTION:
URL:https://gyutofoundation.org/event/saga-dawa-prostration-day-1/
END:VEVENT
BEGIN:VEVENT
DTSTART;TZID=America/Los_Angeles:20240506T190000
DTEND;TZID=America/Los_Angeles:20240506T200000
DTSTAMP:20260425T044214
CREATED:20240323T000813Z
LAST-MODIFIED:20240323T000832Z
UID:3578-1715022000-1715025600@gyutofoundation.org
SUMMARY:Secular Meditation
DESCRIPTION:
URL:https://gyutofoundation.org/event/secular-meditation-61/
END:VEVENT
BEGIN:VEVENT
DTSTART;TZID=America/Los_Angeles:20240505T100000
DTEND;TZID=America/Los_Angeles:20240505T120000
DTSTAMP:20260425T044214
CREATED:20240323T000458Z
LAST-MODIFIED:20240323T000610Z
UID:3573-1714903200-1714910400@gyutofoundation.org
SUMMARY:Teaching: Stages on the Path to Enlightenment (Lam-rim)
DESCRIPTION:
URL:https://gyutofoundation.org/event/teaching-stages-on-the-path-to-enlightenment-lam-rim/
END:VEVENT
BEGIN:VEVENT
DTSTART;TZID=America/Los_Angeles:20240504T090000
DTEND;TZID=America/Los_Angeles:20240504T120000
DTSTAMP:20260425T044214
CREATED:20240413T203017Z
LAST-MODIFIED:20240413T203032Z
UID:3663-1714813200-1714824000@gyutofoundation.org
SUMMARY:Mahakala Puja
DESCRIPTION:
URL:https://gyutofoundation.org/event/mahakala-puja-15/
END:VEVENT
BEGIN:VEVENT
DTSTART;TZID=America/Los_Angeles:20240503T190000
DTEND;TZID=America/Los_Angeles:20240503T200000
DTSTAMP:20260425T044214
CREATED:20240323T000652Z
LAST-MODIFIED:20240323T000726Z
UID:3576-1714762800-1714766400@gyutofoundation.org
SUMMARY:Guru Puja
DESCRIPTION:
URL:https://gyutofoundation.org/event/guru-puja-31/
END:VEVENT
END:VCALENDAR