BEGIN:VCALENDAR
VERSION:2.0
PRODID:-//Gyuto Foundation - ECPv6.15.13//NONSGML v1.0//EN
CALSCALE:GREGORIAN
METHOD:PUBLISH
X-ORIGINAL-URL:https://gyutofoundation.org
X-WR-CALDESC:Events for Gyuto Foundation
REFRESH-INTERVAL;VALUE=DURATION:PT1H
X-Robots-Tag:noindex
X-PUBLISHED-TTL:PT1H
BEGIN:VTIMEZONE
TZID:America/Los_Angeles
BEGIN:DAYLIGHT
TZOFFSETFROM:-0800
TZOFFSETTO:-0700
TZNAME:PDT
DTSTART:20240310T100000
END:DAYLIGHT
BEGIN:STANDARD
TZOFFSETFROM:-0700
TZOFFSETTO:-0800
TZNAME:PST
DTSTART:20241103T090000
END:STANDARD
BEGIN:DAYLIGHT
TZOFFSETFROM:-0800
TZOFFSETTO:-0700
TZNAME:PDT
DTSTART:20250309T100000
END:DAYLIGHT
BEGIN:STANDARD
TZOFFSETFROM:-0700
TZOFFSETTO:-0800
TZNAME:PST
DTSTART:20251102T090000
END:STANDARD
BEGIN:DAYLIGHT
TZOFFSETFROM:-0800
TZOFFSETTO:-0700
TZNAME:PDT
DTSTART:20260308T100000
END:DAYLIGHT
BEGIN:STANDARD
TZOFFSETFROM:-0700
TZOFFSETTO:-0800
TZNAME:PST
DTSTART:20261101T090000
END:STANDARD
END:VTIMEZONE
BEGIN:VEVENT
DTSTART;TZID=America/Los_Angeles:20250308T100000
DTEND;TZID=America/Los_Angeles:20250308T150000
DTSTAMP:20260424T053552
CREATED:20250218T192327Z
LAST-MODIFIED:20250218T193238Z
UID:4092-1741428000-1741446000@gyutofoundation.org
SUMMARY:Tibetan New Year Incense Offerings
DESCRIPTION:
URL:https://gyutofoundation.org/event/tibetan-new-year-incense-offerings/
END:VEVENT
BEGIN:VEVENT
DTSTART;TZID=America/Los_Angeles:20250309T100000
DTEND;TZID=America/Los_Angeles:20250309T120000
DTSTAMP:20260424T053552
CREATED:20250226T000610Z
LAST-MODIFIED:20250226T000610Z
UID:4144-1741514400-1741521600@gyutofoundation.org
SUMMARY:Teaching: Stages on the Path to Enlightenment
DESCRIPTION:
URL:https://gyutofoundation.org/event/teaching-stages-on-the-path-to-enlightenment-85/
END:VEVENT
BEGIN:VEVENT
DTSTART;TZID=America/Los_Angeles:20250310T190000
DTEND;TZID=America/Los_Angeles:20250310T200000
DTSTAMP:20260424T053552
CREATED:20250218T183037Z
LAST-MODIFIED:20250218T183037Z
UID:4080-1741633200-1741636800@gyutofoundation.org
SUMMARY:Secular Meditation
DESCRIPTION:
URL:https://gyutofoundation.org/event/secular-meditation-97/
END:VEVENT
BEGIN:VEVENT
DTSTART;TZID=America/Los_Angeles:20250313T190000
DTEND;TZID=America/Los_Angeles:20250313T210000
DTSTAMP:20260424T053552
CREATED:20250218T191951Z
LAST-MODIFIED:20250218T192002Z
UID:4090-1741892400-1741899600@gyutofoundation.org
SUMMARY:Teaching: The Guide to the Bodhisattva’s Way of Life
DESCRIPTION:
URL:https://gyutofoundation.org/event/teaching-the-guide-to-the-bodhisattvas-way-of-life-69/
END:VEVENT
BEGIN:VEVENT
DTSTART;TZID=America/Los_Angeles:20250314T190000
DTEND;TZID=America/Los_Angeles:20250314T200000
DTSTAMP:20260424T053552
CREATED:20250226T000735Z
LAST-MODIFIED:20250226T000809Z
UID:4146-1741978800-1741982400@gyutofoundation.org
SUMMARY:Special Puja: Festival of Miracles
DESCRIPTION:
URL:https://gyutofoundation.org/event/special-puja-festival-of-miracles/
END:VEVENT
BEGIN:VEVENT
DTSTART;TZID=America/Los_Angeles:20250315T090000
DTEND;TZID=America/Los_Angeles:20250315T120000
DTSTAMP:20260424T053552
CREATED:20250228T053545Z
LAST-MODIFIED:20250228T053607Z
UID:4151-1742029200-1742040000@gyutofoundation.org
SUMMARY:Mahakala Puja
DESCRIPTION:
URL:https://gyutofoundation.org/event/mahakala-puja-25/
END:VEVENT
BEGIN:VEVENT
DTSTART;TZID=America/Los_Angeles:20250316T100000
DTEND;TZID=America/Los_Angeles:20250316T120000
DTSTAMP:20260424T053552
CREATED:20250107T181046Z
LAST-MODIFIED:20250107T181124Z
UID:4029-1742119200-1742126400@gyutofoundation.org
SUMMARY:Teaching: Stages on the Path to Enlightenment
DESCRIPTION:
URL:https://gyutofoundation.org/event/teaching-stages-on-the-path-to-enlightenment-71/
END:VEVENT
BEGIN:VEVENT
DTSTART;TZID=America/Los_Angeles:20250317T190000
DTEND;TZID=America/Los_Angeles:20250317T200000
DTSTAMP:20260424T053552
CREATED:20250218T184022Z
LAST-MODIFIED:20250218T184055Z
UID:4082-1742238000-1742241600@gyutofoundation.org
SUMMARY:Secular Meditation
DESCRIPTION:
URL:https://gyutofoundation.org/event/secular-meditation-98/
END:VEVENT
BEGIN:VEVENT
DTSTART;TZID=America/Los_Angeles:20250323T100000
DTEND;TZID=America/Los_Angeles:20250323T120000
DTSTAMP:20260424T053552
CREATED:20250307T191052Z
LAST-MODIFIED:20250307T191059Z
UID:4153-1742724000-1742731200@gyutofoundation.org
SUMMARY:Teaching: Stages on the Path to Enlightenment
DESCRIPTION:
URL:https://gyutofoundation.org/event/teaching-stages-on-the-path-to-enlightenment-86/
END:VEVENT
BEGIN:VEVENT
DTSTART;TZID=America/Los_Angeles:20250402T190000
DTEND;TZID=America/Los_Angeles:20250402T200000
DTSTAMP:20260424T053552
CREATED:20250221T231149Z
LAST-MODIFIED:20250221T231211Z
UID:4097-1743620400-1743624000@gyutofoundation.org
SUMMARY:Tara Puja
DESCRIPTION:
URL:https://gyutofoundation.org/event/tara-puja-26/
END:VEVENT
BEGIN:VEVENT
DTSTART;TZID=America/Los_Angeles:20250403T190000
DTEND;TZID=America/Los_Angeles:20250403T210000
DTSTAMP:20260424T053552
CREATED:20250221T233025Z
LAST-MODIFIED:20250221T233039Z
UID:4125-1743706800-1743714000@gyutofoundation.org
SUMMARY:Teaching: The Guide to the Bodhisattva’s Way of Life
DESCRIPTION:
URL:https://gyutofoundation.org/event/teaching-the-guide-to-the-bodhisattvas-way-of-life-71/
END:VEVENT
BEGIN:VEVENT
DTSTART;TZID=America/Los_Angeles:20250405T100000
DTEND;TZID=America/Los_Angeles:20250405T140000
DTSTAMP:20260424T053552
CREATED:20250221T231635Z
LAST-MODIFIED:20250226T001045Z
UID:4102-1743847200-1743861600@gyutofoundation.org
SUMMARY:Gyuto Foundation's 25th Anniversary Celebration
DESCRIPTION:
URL:https://gyutofoundation.org/event/gyuto-25th-anniversary/
END:VEVENT
BEGIN:VEVENT
DTSTART;TZID=America/Los_Angeles:20250406T100000
DTEND;TZID=America/Los_Angeles:20250406T140000
DTSTAMP:20260424T053552
CREATED:20250221T231759Z
LAST-MODIFIED:20250226T001305Z
UID:4105-1743933600-1743948000@gyutofoundation.org
SUMMARY:Gyuto Foundation's 25th Anniversary Celebration
DESCRIPTION:
URL:https://gyutofoundation.org/event/gyuto-25th-anniversary-celebration/
END:VEVENT
BEGIN:VEVENT
DTSTART;TZID=America/Los_Angeles:20250407T190000
DTEND;TZID=America/Los_Angeles:20250407T200000
DTSTAMP:20260424T053552
CREATED:20250221T231911Z
LAST-MODIFIED:20250221T232001Z
UID:4107-1744052400-1744056000@gyutofoundation.org
SUMMARY:Secular Meditation
DESCRIPTION:
URL:https://gyutofoundation.org/event/secular-meditation-99/
END:VEVENT
BEGIN:VEVENT
DTSTART;TZID=America/Los_Angeles:20250410T190000
DTEND;TZID=America/Los_Angeles:20250410T210000
DTSTAMP:20260424T053552
CREATED:20250221T233115Z
LAST-MODIFIED:20250221T233148Z
UID:4127-1744311600-1744318800@gyutofoundation.org
SUMMARY:Teaching: The Guide to the Bodhisattva’s Way of Life
DESCRIPTION:
URL:https://gyutofoundation.org/event/teaching-the-guide-to-the-bodhisattvas-way-of-life-72/
END:VEVENT
BEGIN:VEVENT
DTSTART;TZID=America/Los_Angeles:20250412T090000
DTEND;TZID=America/Los_Angeles:20250412T120000
DTSTAMP:20260424T053552
CREATED:20250221T233438Z
LAST-MODIFIED:20250221T233512Z
UID:4133-1744448400-1744459200@gyutofoundation.org
SUMMARY:Mahakala Puja
DESCRIPTION:
URL:https://gyutofoundation.org/event/mahakala-puja-26/
END:VEVENT
BEGIN:VEVENT
DTSTART;TZID=America/Los_Angeles:20250413T100000
DTEND;TZID=America/Los_Angeles:20250413T120000
DTSTAMP:20260424T053552
CREATED:20250221T232306Z
LAST-MODIFIED:20250221T232318Z
UID:4115-1744538400-1744545600@gyutofoundation.org
SUMMARY:Teaching: Stages on the Path to Enlightenment
DESCRIPTION:
URL:https://gyutofoundation.org/event/teaching-stages-on-the-path-to-enlightenment-82/
END:VEVENT
BEGIN:VEVENT
DTSTART;TZID=America/Los_Angeles:20250414T190000
DTEND;TZID=America/Los_Angeles:20250414T200000
DTSTAMP:20260424T053552
CREATED:20250221T232031Z
LAST-MODIFIED:20250221T232041Z
UID:4109-1744657200-1744660800@gyutofoundation.org
SUMMARY:Secular Meditation
DESCRIPTION:
URL:https://gyutofoundation.org/event/secular-meditation-100/
END:VEVENT
BEGIN:VEVENT
DTSTART;TZID=America/Los_Angeles:20250416T190000
DTEND;TZID=America/Los_Angeles:20250416T200000
DTSTAMP:20260424T053552
CREATED:20250221T232748Z
LAST-MODIFIED:20250221T232757Z
UID:4121-1744830000-1744833600@gyutofoundation.org
SUMMARY:Medicine Buddha Puja
DESCRIPTION:
URL:https://gyutofoundation.org/event/medicine-buddha-puja-27/
END:VEVENT
BEGIN:VEVENT
DTSTART;TZID=America/Los_Angeles:20250417T190000
DTEND;TZID=America/Los_Angeles:20250417T210000
DTSTAMP:20260424T053552
CREATED:20250221T233227Z
LAST-MODIFIED:20250221T233247Z
UID:4129-1744916400-1744923600@gyutofoundation.org
SUMMARY:Teaching: The Guide to the Bodhisattva’s Way of Life
DESCRIPTION:
URL:https://gyutofoundation.org/event/teaching-the-guide-to-the-bodhisattvas-way-of-life-73/
END:VEVENT
BEGIN:VEVENT
DTSTART;TZID=America/Los_Angeles:20250420T100000
DTEND;TZID=America/Los_Angeles:20250420T120000
DTSTAMP:20260424T053552
CREATED:20250221T232609Z
LAST-MODIFIED:20250221T232624Z
UID:4117-1745143200-1745150400@gyutofoundation.org
SUMMARY:Teaching: Stages on the Path to Enlightenment
DESCRIPTION:
URL:https://gyutofoundation.org/event/teaching-stages-on-the-path-to-enlightenment-83/
END:VEVENT
BEGIN:VEVENT
DTSTART;TZID=America/Los_Angeles:20250421T190000
DTEND;TZID=America/Los_Angeles:20250421T200000
DTSTAMP:20260424T053552
CREATED:20250221T232119Z
LAST-MODIFIED:20250221T232135Z
UID:4111-1745262000-1745265600@gyutofoundation.org
SUMMARY:Secular Meditation
DESCRIPTION:
URL:https://gyutofoundation.org/event/secular-meditation-101/
END:VEVENT
BEGIN:VEVENT
DTSTART;TZID=America/Los_Angeles:20250423T190000
DTEND;TZID=America/Los_Angeles:20250423T200000
DTSTAMP:20260424T053552
CREATED:20250221T232848Z
LAST-MODIFIED:20250221T232900Z
UID:4123-1745434800-1745438400@gyutofoundation.org
SUMMARY:Guru Puja
DESCRIPTION:
URL:https://gyutofoundation.org/event/guru-puja-45/
END:VEVENT
BEGIN:VEVENT
DTSTART;TZID=America/Los_Angeles:20250424T190000
DTEND;TZID=America/Los_Angeles:20250424T210000
DTSTAMP:20260424T053552
CREATED:20250221T233322Z
LAST-MODIFIED:20250221T233341Z
UID:4131-1745521200-1745528400@gyutofoundation.org
SUMMARY:Teaching: The Guide to the Bodhisattva’s Way of Life
DESCRIPTION:
URL:https://gyutofoundation.org/event/teaching-the-guide-to-the-bodhisattvas-way-of-life-74/
END:VEVENT
BEGIN:VEVENT
DTSTART;TZID=America/Los_Angeles:20250427T100000
DTEND;TZID=America/Los_Angeles:20250427T120000
DTSTAMP:20260424T053552
CREATED:20250221T232647Z
LAST-MODIFIED:20250221T232700Z
UID:4119-1745748000-1745755200@gyutofoundation.org
SUMMARY:Teaching: Stages on the Path to Enlightenment
DESCRIPTION:
URL:https://gyutofoundation.org/event/teaching-stages-on-the-path-to-enlightenment-84/
END:VEVENT
BEGIN:VEVENT
DTSTART;TZID=America/Los_Angeles:20250428T190000
DTEND;TZID=America/Los_Angeles:20250428T200000
DTSTAMP:20260424T053552
CREATED:20250221T232212Z
LAST-MODIFIED:20250221T232228Z
UID:4113-1745866800-1745870400@gyutofoundation.org
SUMMARY:Secular Meditation
DESCRIPTION:
URL:https://gyutofoundation.org/event/secular-meditation-102/
END:VEVENT
BEGIN:VEVENT
DTSTART;TZID=America/Los_Angeles:20250501T190000
DTEND;TZID=America/Los_Angeles:20250501T210000
DTSTAMP:20260424T053552
CREATED:20250416T232104Z
LAST-MODIFIED:20250416T232110Z
UID:4200-1746126000-1746133200@gyutofoundation.org
SUMMARY:Teaching: The Guide to the Bodhisattva’s Way of Life
DESCRIPTION:
URL:https://gyutofoundation.org/event/teaching-the-guide-to-the-bodhisattvas-way-of-life-70/
END:VEVENT
BEGIN:VEVENT
DTSTART;TZID=America/Los_Angeles:20250503T090000
DTEND;TZID=America/Los_Angeles:20250503T120000
DTSTAMP:20260424T053552
CREATED:20250417T172848Z
LAST-MODIFIED:20250417T172933Z
UID:4273-1746262800-1746273600@gyutofoundation.org
SUMMARY:Mahakala Puja
DESCRIPTION:
URL:https://gyutofoundation.org/event/mahakala-puja-27/
END:VEVENT
BEGIN:VEVENT
DTSTART;TZID=America/Los_Angeles:20250504T100000
DTEND;TZID=America/Los_Angeles:20250504T120000
DTSTAMP:20260424T053552
CREATED:20250416T233650Z
LAST-MODIFIED:20250416T233705Z
UID:4223-1746352800-1746360000@gyutofoundation.org
SUMMARY:Teaching: Stages on the Path to Enlightenment
DESCRIPTION:
URL:https://gyutofoundation.org/event/teaching-stages-on-the-path-to-enlightenment-87/
END:VEVENT
BEGIN:VEVENT
DTSTART;TZID=America/Los_Angeles:20250505T190000
DTEND;TZID=America/Los_Angeles:20250505T200000
DTSTAMP:20260424T053552
CREATED:20250416T233339Z
LAST-MODIFIED:20250416T233347Z
UID:4217-1746471600-1746475200@gyutofoundation.org
SUMMARY:Secular Meditation
DESCRIPTION:
URL:https://gyutofoundation.org/event/secular-meditation-103/
END:VEVENT
END:VCALENDAR