BEGIN:VCALENDAR
VERSION:2.0
PRODID:-//Gyuto Foundation - ECPv6.15.13//NONSGML v1.0//EN
CALSCALE:GREGORIAN
METHOD:PUBLISH
X-WR-CALNAME:Gyuto Foundation
X-ORIGINAL-URL:https://gyutofoundation.org
X-WR-CALDESC:Events for Gyuto Foundation
REFRESH-INTERVAL;VALUE=DURATION:PT1H
X-Robots-Tag:noindex
X-PUBLISHED-TTL:PT1H
BEGIN:VTIMEZONE
TZID:America/Los_Angeles
BEGIN:DAYLIGHT
TZOFFSETFROM:-0800
TZOFFSETTO:-0700
TZNAME:PDT
DTSTART:20250309T100000
END:DAYLIGHT
BEGIN:STANDARD
TZOFFSETFROM:-0700
TZOFFSETTO:-0800
TZNAME:PST
DTSTART:20251102T090000
END:STANDARD
BEGIN:DAYLIGHT
TZOFFSETFROM:-0800
TZOFFSETTO:-0700
TZNAME:PDT
DTSTART:20260308T100000
END:DAYLIGHT
BEGIN:STANDARD
TZOFFSETFROM:-0700
TZOFFSETTO:-0800
TZNAME:PST
DTSTART:20261101T090000
END:STANDARD
BEGIN:DAYLIGHT
TZOFFSETFROM:-0800
TZOFFSETTO:-0700
TZNAME:PDT
DTSTART:20270314T100000
END:DAYLIGHT
BEGIN:STANDARD
TZOFFSETFROM:-0700
TZOFFSETTO:-0800
TZNAME:PST
DTSTART:20271107T090000
END:STANDARD
END:VTIMEZONE
BEGIN:VEVENT
DTSTART;TZID=America/Los_Angeles:20260328T190000
DTEND;TZID=America/Los_Angeles:20260328T200000
DTSTAMP:20260423T144452
CREATED:20260128T184219Z
LAST-MODIFIED:20260128T184230Z
UID:4714-1774724400-1774728000@gyutofoundation.org
SUMMARY:Guru Puja
DESCRIPTION:
URL:https://gyutofoundation.org/event/guru-puja-63/
END:VEVENT
BEGIN:VEVENT
DTSTART;TZID=America/Los_Angeles:20260329T170000
DTEND;TZID=America/Los_Angeles:20260329T183000
DTSTAMP:20260423T144452
CREATED:20260128T183738Z
LAST-MODIFIED:20260326T195123Z
UID:4704-1774803600-1774809000@gyutofoundation.org
SUMMARY:Special Teaching: Geshe Thupten Jinpa
DESCRIPTION:
URL:https://gyutofoundation.org/event/special-teaching-geshe-thupten-jinpa-2/
END:VEVENT
BEGIN:VEVENT
DTSTART;TZID=America/Los_Angeles:20260330T190000
DTEND;TZID=America/Los_Angeles:20260330T200000
DTSTAMP:20260423T144452
CREATED:20260128T183552Z
LAST-MODIFIED:20260128T183603Z
UID:4702-1774897200-1774900800@gyutofoundation.org
SUMMARY:Secular Meditation
DESCRIPTION:
URL:https://gyutofoundation.org/event/secular-meditation-145/
END:VEVENT
BEGIN:VEVENT
DTSTART;TZID=America/Los_Angeles:20260404T090000
DTEND;TZID=America/Los_Angeles:20260404T120000
DTSTAMP:20260423T144452
CREATED:20260227T210910Z
LAST-MODIFIED:20260227T210926Z
UID:4738-1775293200-1775304000@gyutofoundation.org
SUMMARY:Mahakala Puja
DESCRIPTION:
URL:https://gyutofoundation.org/event/mahakala-puja-40/
END:VEVENT
BEGIN:VEVENT
DTSTART;TZID=America/Los_Angeles:20260406T190000
DTEND;TZID=America/Los_Angeles:20260406T200000
DTSTAMP:20260423T144452
CREATED:20260227T211001Z
LAST-MODIFIED:20260227T211012Z
UID:4740-1775502000-1775505600@gyutofoundation.org
SUMMARY:Secular Meditation
DESCRIPTION:
URL:https://gyutofoundation.org/event/secular-meditation-146/
END:VEVENT
BEGIN:VEVENT
DTSTART;TZID=America/Los_Angeles:20260408T070000
DTEND;TZID=America/Los_Angeles:20260408T200000
DTSTAMP:20260423T144452
CREATED:20260227T211251Z
LAST-MODIFIED:20260227T211257Z
UID:4748-1775631600-1775678400@gyutofoundation.org
SUMMARY:Tara Puja
DESCRIPTION:
URL:https://gyutofoundation.org/event/tara-puja-36/
END:VEVENT
BEGIN:VEVENT
DTSTART;TZID=America/Los_Angeles:20260412T190000
DTEND;TZID=America/Los_Angeles:20260412T200000
DTSTAMP:20260423T144452
CREATED:20260227T211429Z
LAST-MODIFIED:20260227T211435Z
UID:4751-1776020400-1776024000@gyutofoundation.org
SUMMARY:Guru Puja
DESCRIPTION:
URL:https://gyutofoundation.org/event/guru-puja-65/
END:VEVENT
BEGIN:VEVENT
DTSTART;TZID=America/Los_Angeles:20260413T190000
DTEND;TZID=America/Los_Angeles:20260413T200000
DTSTAMP:20260423T144452
CREATED:20260227T211043Z
LAST-MODIFIED:20260227T211055Z
UID:4742-1776106800-1776110400@gyutofoundation.org
SUMMARY:Secular Meditation
DESCRIPTION:
URL:https://gyutofoundation.org/event/secular-meditation-147/
END:VEVENT
BEGIN:VEVENT
DTSTART;TZID=America/Los_Angeles:20260419T140000
DTEND;TZID=America/Los_Angeles:20260419T153000
DTSTAMP:20260423T144452
CREATED:20260318T180409Z
LAST-MODIFIED:20260406T233731Z
UID:4784-1776607200-1776612600@gyutofoundation.org
SUMMARY:Special Teaching: Geshe Thupten Jinpa
DESCRIPTION:
URL:https://gyutofoundation.org/event/geshe-thupten-jinpa-special-teaching/
END:VEVENT
BEGIN:VEVENT
DTSTART;TZID=America/Los_Angeles:20260420T190000
DTEND;TZID=America/Los_Angeles:20260420T200000
DTSTAMP:20260423T144452
CREATED:20260227T211127Z
LAST-MODIFIED:20260227T211142Z
UID:4744-1776711600-1776715200@gyutofoundation.org
SUMMARY:Secular Meditation
DESCRIPTION:
URL:https://gyutofoundation.org/event/secular-meditation-148/
END:VEVENT
BEGIN:VEVENT
DTSTART;TZID=America/Los_Angeles:20260422T190000
DTEND;TZID=America/Los_Angeles:20260422T200000
DTSTAMP:20260423T144452
CREATED:20260227T211505Z
LAST-MODIFIED:20260227T211513Z
UID:4753-1776884400-1776888000@gyutofoundation.org
SUMMARY:Medicine Buddha Puja
DESCRIPTION:Me
URL:https://gyutofoundation.org/event/medicine-buddha-puja-37/
END:VEVENT
BEGIN:VEVENT
DTSTART;TZID=America/Los_Angeles:20260427T190000
DTEND;TZID=America/Los_Angeles:20260427T200000
DTSTAMP:20260423T144452
CREATED:20260227T211219Z
LAST-MODIFIED:20260227T211225Z
UID:4746-1777316400-1777320000@gyutofoundation.org
SUMMARY:Secular Meditation
DESCRIPTION:
URL:https://gyutofoundation.org/event/secular-meditation-149/
END:VEVENT
BEGIN:VEVENT
DTSTART;TZID=America/Los_Angeles:20260502T090000
DTEND;TZID=America/Los_Angeles:20260502T120000
DTSTAMP:20260423T144452
CREATED:20260419T225524Z
LAST-MODIFIED:20260419T225534Z
UID:4825-1777712400-1777723200@gyutofoundation.org
SUMMARY:Mahakala Puja
DESCRIPTION:
URL:https://gyutofoundation.org/event/mahakala-puja-41/
END:VEVENT
BEGIN:VEVENT
DTSTART;TZID=America/Los_Angeles:20260504T190000
DTEND;TZID=America/Los_Angeles:20260504T200000
DTSTAMP:20260423T144452
CREATED:20260318T175335Z
LAST-MODIFIED:20260318T175343Z
UID:4757-1777921200-1777924800@gyutofoundation.org
SUMMARY:Secular Meditation
DESCRIPTION:
URL:https://gyutofoundation.org/event/secular-meditation-150/
END:VEVENT
BEGIN:VEVENT
DTSTART;TZID=America/Los_Angeles:20260506T190000
DTEND;TZID=America/Los_Angeles:20260506T200000
DTSTAMP:20260423T144452
CREATED:20260318T175704Z
LAST-MODIFIED:20260318T175711Z
UID:4766-1778094000-1778097600@gyutofoundation.org
SUMMARY:Tara Puja
DESCRIPTION:
URL:https://gyutofoundation.org/event/tara-puja-37/
END:VEVENT
BEGIN:VEVENT
DTSTART;TZID=America/Los_Angeles:20260511T190000
DTEND;TZID=America/Los_Angeles:20260511T200000
DTSTAMP:20260423T144452
CREATED:20260318T175448Z
LAST-MODIFIED:20260318T175455Z
UID:4759-1778526000-1778529600@gyutofoundation.org
SUMMARY:Secular Meditation
DESCRIPTION:
URL:https://gyutofoundation.org/event/secular-meditation-151/
END:VEVENT
BEGIN:VEVENT
DTSTART;TZID=America/Los_Angeles:20260512T190000
DTEND;TZID=America/Los_Angeles:20260512T200000
DTSTAMP:20260423T144452
CREATED:20260318T175852Z
LAST-MODIFIED:20260318T175859Z
UID:4770-1778612400-1778616000@gyutofoundation.org
SUMMARY:Guru Puja
DESCRIPTION:
URL:https://gyutofoundation.org/event/guru-puja-66/
END:VEVENT
BEGIN:VEVENT
DTSTART;TZID=America/Los_Angeles:20260517T180000
DTEND;TZID=America/Los_Angeles:20260517T190000
DTSTAMP:20260423T144452
CREATED:20260318T180534Z
LAST-MODIFIED:20260318T180547Z
UID:4786-1779040800-1779044400@gyutofoundation.org
SUMMARY:Saga Dawa Outdoor Prostration Program
DESCRIPTION:
URL:https://gyutofoundation.org/event/saga-dawa-outdoor-prostration-program/
END:VEVENT
BEGIN:VEVENT
DTSTART;TZID=America/Los_Angeles:20260518T180000
DTEND;TZID=America/Los_Angeles:20260518T190000
DTSTAMP:20260423T144452
CREATED:20260318T180617Z
LAST-MODIFIED:20260318T180630Z
UID:4788-1779127200-1779130800@gyutofoundation.org
SUMMARY:Saga Dawa Outdoor Prostration Program
DESCRIPTION:
URL:https://gyutofoundation.org/event/saga-dawa-outdoor-prostration-program-2/
END:VEVENT
BEGIN:VEVENT
DTSTART;TZID=America/Los_Angeles:20260518T190000
DTEND;TZID=America/Los_Angeles:20260518T200000
DTSTAMP:20260423T144452
CREATED:20260318T175534Z
LAST-MODIFIED:20260318T175556Z
UID:4761-1779130800-1779134400@gyutofoundation.org
SUMMARY:Secular Meditation
DESCRIPTION:
URL:https://gyutofoundation.org/event/secular-meditation-152/
END:VEVENT
BEGIN:VEVENT
DTSTART;TZID=America/Los_Angeles:20260519T180000
DTEND;TZID=America/Los_Angeles:20260519T190000
DTSTAMP:20260423T144452
CREATED:20260318T180658Z
LAST-MODIFIED:20260318T180710Z
UID:4790-1779213600-1779217200@gyutofoundation.org
SUMMARY:Saga Dawa Outdoor Prostration Program
DESCRIPTION:
URL:https://gyutofoundation.org/event/saga-dawa-outdoor-prostration-program-3/
END:VEVENT
BEGIN:VEVENT
DTSTART;TZID=America/Los_Angeles:20260520T180000
DTEND;TZID=America/Los_Angeles:20260520T190000
DTSTAMP:20260423T144452
CREATED:20260318T180737Z
LAST-MODIFIED:20260318T180742Z
UID:4792-1779300000-1779303600@gyutofoundation.org
SUMMARY:Saga Dawa Outdoor Prostration Program
DESCRIPTION:
URL:https://gyutofoundation.org/event/saga-dawa-outdoor-prostration-program-4/
END:VEVENT
BEGIN:VEVENT
DTSTART;TZID=America/Los_Angeles:20260520T190000
DTEND;TZID=America/Los_Angeles:20260520T200000
DTSTAMP:20260423T144452
CREATED:20260318T175931Z
LAST-MODIFIED:20260318T175948Z
UID:4772-1779303600-1779307200@gyutofoundation.org
SUMMARY:Medicine Buddha Puja
DESCRIPTION:
URL:https://gyutofoundation.org/event/medicine-buddha-puja-38/
END:VEVENT
BEGIN:VEVENT
DTSTART;TZID=America/Los_Angeles:20260521T180000
DTEND;TZID=America/Los_Angeles:20260521T190000
DTSTAMP:20260423T144452
CREATED:20260318T183937Z
LAST-MODIFIED:20260318T183953Z
UID:4794-1779386400-1779390000@gyutofoundation.org
SUMMARY:Saga Dawa Outdoor Prostration Program
DESCRIPTION:
URL:https://gyutofoundation.org/event/saga-dawa-outdoor-prostration-program-5/
END:VEVENT
BEGIN:VEVENT
DTSTART;TZID=America/Los_Angeles:20260522T180000
DTEND;TZID=America/Los_Angeles:20260522T190000
DTSTAMP:20260423T144452
CREATED:20260318T180052Z
LAST-MODIFIED:20260318T180100Z
UID:4774-1779472800-1779476400@gyutofoundation.org
SUMMARY:Fasting Retreat (Nyung-Ne) Orientation
DESCRIPTION:
URL:https://gyutofoundation.org/event/fasting-retreat-nyung-ne-orientation/
END:VEVENT
BEGIN:VEVENT
DTSTART;TZID=America/Los_Angeles:20260522T180000
DTEND;TZID=America/Los_Angeles:20260522T190000
DTSTAMP:20260423T144452
CREATED:20260318T184019Z
LAST-MODIFIED:20260318T184128Z
UID:4796-1779472800-1779476400@gyutofoundation.org
SUMMARY:Saga Dawa Outdoor Prostration Program
DESCRIPTION:
URL:https://gyutofoundation.org/event/saga-dawa-outdoor-prostration-program-6/
END:VEVENT
BEGIN:VEVENT
DTSTART;VALUE=DATE:20260523
DTEND;VALUE=DATE:20260524
DTSTAMP:20260423T144452
CREATED:20260318T180131Z
LAST-MODIFIED:20260318T180146Z
UID:4776-1779494400-1779580799@gyutofoundation.org
SUMMARY:Fasting (Nyung-Ne) Retreat
DESCRIPTION:
URL:https://gyutofoundation.org/event/fasting-nyung-ne-retreat/
END:VEVENT
BEGIN:VEVENT
DTSTART;TZID=America/Los_Angeles:20260523T180000
DTEND;TZID=America/Los_Angeles:20260523T190000
DTSTAMP:20260423T144452
CREATED:20260318T184211Z
LAST-MODIFIED:20260318T184217Z
UID:4798-1779559200-1779562800@gyutofoundation.org
SUMMARY:Saga Dawa Outdoor Prostration Program
DESCRIPTION:
URL:https://gyutofoundation.org/event/saga-dawa-outdoor-prostration-program-7/
END:VEVENT
BEGIN:VEVENT
DTSTART;VALUE=DATE:20260524
DTEND;VALUE=DATE:20260525
DTSTAMP:20260423T144452
CREATED:20260318T180204Z
LAST-MODIFIED:20260318T180211Z
UID:4778-1779580800-1779667199@gyutofoundation.org
SUMMARY:Fasting (Nyung-Ne) Retreat
DESCRIPTION:
URL:https://gyutofoundation.org/event/fasting-nyung-ne-retreat-2/
END:VEVENT
BEGIN:VEVENT
DTSTART;TZID=America/Los_Angeles:20260524T180000
DTEND;TZID=America/Los_Angeles:20260524T190000
DTSTAMP:20260423T144452
CREATED:20260318T184236Z
LAST-MODIFIED:20260318T184243Z
UID:4800-1779645600-1779649200@gyutofoundation.org
SUMMARY:Saga Dawa Outdoor Prostration Program
DESCRIPTION:
URL:https://gyutofoundation.org/event/saga-dawa-outdoor-prostration-program-8/
END:VEVENT
END:VCALENDAR