BEGIN:VCALENDAR
VERSION:2.0
PRODID:-//Gyuto Foundation - ECPv6.15.13//NONSGML v1.0//EN
CALSCALE:GREGORIAN
METHOD:PUBLISH
X-WR-CALNAME:Gyuto Foundation
X-ORIGINAL-URL:https://gyutofoundation.org
X-WR-CALDESC:Events for Gyuto Foundation
REFRESH-INTERVAL;VALUE=DURATION:PT1H
X-Robots-Tag:noindex
X-PUBLISHED-TTL:PT1H
BEGIN:VTIMEZONE
TZID:America/Los_Angeles
BEGIN:DAYLIGHT
TZOFFSETFROM:-0800
TZOFFSETTO:-0700
TZNAME:PDT
DTSTART:20240310T100000
END:DAYLIGHT
BEGIN:STANDARD
TZOFFSETFROM:-0700
TZOFFSETTO:-0800
TZNAME:PST
DTSTART:20241103T090000
END:STANDARD
BEGIN:DAYLIGHT
TZOFFSETFROM:-0800
TZOFFSETTO:-0700
TZNAME:PDT
DTSTART:20250309T100000
END:DAYLIGHT
BEGIN:STANDARD
TZOFFSETFROM:-0700
TZOFFSETTO:-0800
TZNAME:PST
DTSTART:20251102T090000
END:STANDARD
BEGIN:DAYLIGHT
TZOFFSETFROM:-0800
TZOFFSETTO:-0700
TZNAME:PDT
DTSTART:20260308T100000
END:DAYLIGHT
BEGIN:STANDARD
TZOFFSETFROM:-0700
TZOFFSETTO:-0800
TZNAME:PST
DTSTART:20261101T090000
END:STANDARD
END:VTIMEZONE
BEGIN:VEVENT
DTSTART;TZID=America/Los_Angeles:20250817T100000
DTEND;TZID=America/Los_Angeles:20250817T120000
DTSTAMP:20260423T220841
CREATED:20250623T192123Z
LAST-MODIFIED:20250623T192132Z
UID:4362-1755424800-1755432000@gyutofoundation.org
SUMMARY:Teaching: Stages on the Path to Enlightenment
DESCRIPTION:
URL:https://gyutofoundation.org/event/teaching-stages-on-the-path-to-enlightenment-98/
END:VEVENT
BEGIN:VEVENT
DTSTART;TZID=America/Los_Angeles:20250817T130000
DTEND;TZID=America/Los_Angeles:20250817T140000
DTSTAMP:20260423T220841
CREATED:20250723T210925Z
LAST-MODIFIED:20250728T195813Z
UID:4393-1755435600-1755439200@gyutofoundation.org
SUMMARY:Farewell Party for Ven. Jangchub and Ven. Tashi
DESCRIPTION:
URL:https://gyutofoundation.org/event/farewell-party-for-gen-jangchup-and-gen-tashi/
END:VEVENT
BEGIN:VEVENT
DTSTART;TZID=America/Los_Angeles:20250818T190000
DTEND;TZID=America/Los_Angeles:20250818T200000
DTSTAMP:20260423T220841
CREATED:20250623T192529Z
LAST-MODIFIED:20250623T192549Z
UID:4371-1755543600-1755547200@gyutofoundation.org
SUMMARY:Secular Meditation
DESCRIPTION:
URL:https://gyutofoundation.org/event/secular-meditation-115/
END:VEVENT
BEGIN:VEVENT
DTSTART;TZID=America/Los_Angeles:20250821T190000
DTEND;TZID=America/Los_Angeles:20250821T210000
DTSTAMP:20260423T220841
CREATED:20250623T192848Z
LAST-MODIFIED:20250623T192908Z
UID:4379-1755802800-1755810000@gyutofoundation.org
SUMMARY:Teaching: The Guide to the Bodhisattva’s Way of Life
DESCRIPTION:
URL:https://gyutofoundation.org/event/teaching-the-guide-to-the-bodhisattvas-way-of-life-90/
END:VEVENT
BEGIN:VEVENT
DTSTART;TZID=America/Los_Angeles:20250824T100000
DTEND;TZID=America/Los_Angeles:20250824T120000
DTSTAMP:20260423T220841
CREATED:20250623T192203Z
LAST-MODIFIED:20250623T192223Z
UID:4364-1756029600-1756036800@gyutofoundation.org
SUMMARY:Teaching: Stages on the Path to Enlightenment
DESCRIPTION:
URL:https://gyutofoundation.org/event/teaching-stages-on-the-path-to-enlightenment-99/
END:VEVENT
BEGIN:VEVENT
DTSTART;TZID=America/Los_Angeles:20250825T190000
DTEND;TZID=America/Los_Angeles:20250825T200000
DTSTAMP:20260423T220841
CREATED:20250623T192625Z
LAST-MODIFIED:20250623T192639Z
UID:4373-1756148400-1756152000@gyutofoundation.org
SUMMARY:Secular Meditation
DESCRIPTION:
URL:https://gyutofoundation.org/event/secular-meditation-116/
END:VEVENT
BEGIN:VEVENT
DTSTART;TZID=America/Los_Angeles:20250828T190000
DTEND;TZID=America/Los_Angeles:20250828T210000
DTSTAMP:20260423T220841
CREATED:20250623T192943Z
LAST-MODIFIED:20250623T193001Z
UID:4381-1756407600-1756414800@gyutofoundation.org
SUMMARY:Teaching: The Guide to the Bodhisattva’s Way of Life
DESCRIPTION:
URL:https://gyutofoundation.org/event/teaching-the-guide-to-the-bodhisattvas-way-of-life-91/
END:VEVENT
BEGIN:VEVENT
DTSTART;TZID=America/Los_Angeles:20250831T100000
DTEND;TZID=America/Los_Angeles:20250831T120000
DTSTAMP:20260423T220841
CREATED:20250813T231704Z
LAST-MODIFIED:20250813T231714Z
UID:4434-1756634400-1756641600@gyutofoundation.org
SUMMARY:Teaching: Stages on the Path to Enlightenment
DESCRIPTION:
URL:https://gyutofoundation.org/event/teaching-stages-on-the-path-to-enlightenment-105/
END:VEVENT
BEGIN:VEVENT
DTSTART;TZID=America/Los_Angeles:20250901T190000
DTEND;TZID=America/Los_Angeles:20250901T210000
DTSTAMP:20260423T220841
CREATED:20250813T230346Z
LAST-MODIFIED:20250813T230412Z
UID:4405-1756753200-1756760400@gyutofoundation.org
SUMMARY:Secular Meditation
DESCRIPTION:
URL:https://gyutofoundation.org/event/secular-meditation-113/
END:VEVENT
BEGIN:VEVENT
DTSTART;TZID=America/Los_Angeles:20250902T190000
DTEND;TZID=America/Los_Angeles:20250902T200000
DTSTAMP:20260423T220841
CREATED:20250813T230709Z
LAST-MODIFIED:20250813T230723Z
UID:4415-1756839600-1756843200@gyutofoundation.org
SUMMARY:Guru Puja
DESCRIPTION:
URL:https://gyutofoundation.org/event/guru-puja-52/
END:VEVENT
BEGIN:VEVENT
DTSTART;TZID=America/Los_Angeles:20250904T190000
DTEND;TZID=America/Los_Angeles:20250904T210000
DTSTAMP:20260423T220841
CREATED:20250813T231052Z
LAST-MODIFIED:20250813T231108Z
UID:4423-1757012400-1757019600@gyutofoundation.org
SUMMARY:Teaching: The Guide to the Bodhisattva’s Way of Life
DESCRIPTION:
URL:https://gyutofoundation.org/event/teaching-the-guide-to-the-bodhisattvas-way-of-life-92/
END:VEVENT
BEGIN:VEVENT
DTSTART;TZID=America/Los_Angeles:20250907T100000
DTEND;TZID=America/Los_Angeles:20250907T120000
DTSTAMP:20260423T220841
CREATED:20250813T230037Z
LAST-MODIFIED:20250813T230045Z
UID:4396-1757239200-1757246400@gyutofoundation.org
SUMMARY:Teaching: Stages on the Path to Enlightenment
DESCRIPTION:
URL:https://gyutofoundation.org/event/teaching-stages-on-the-path-to-enlightenment-101/
END:VEVENT
BEGIN:VEVENT
DTSTART;TZID=America/Los_Angeles:20250908T190000
DTEND;TZID=America/Los_Angeles:20250908T200000
DTSTAMP:20260423T220841
CREATED:20250813T230441Z
LAST-MODIFIED:20250813T230448Z
UID:4407-1757358000-1757361600@gyutofoundation.org
SUMMARY:Secular Meditation
DESCRIPTION:
URL:https://gyutofoundation.org/event/secular-meditation-117/
END:VEVENT
BEGIN:VEVENT
DTSTART;TZID=America/Los_Angeles:20250910T190000
DTEND;TZID=America/Los_Angeles:20250910T200000
DTSTAMP:20260423T220841
CREATED:20250813T230910Z
LAST-MODIFIED:20250813T230923Z
UID:4419-1757530800-1757534400@gyutofoundation.org
SUMMARY:Tara Puja
DESCRIPTION:
URL:https://gyutofoundation.org/event/tara-puja-30/
END:VEVENT
BEGIN:VEVENT
DTSTART;TZID=America/Los_Angeles:20250911T190000
DTEND;TZID=America/Los_Angeles:20250911T210000
DTSTAMP:20260423T220841
CREATED:20250813T231131Z
LAST-MODIFIED:20250813T231146Z
UID:4425-1757617200-1757624400@gyutofoundation.org
SUMMARY:Teaching: The Guide to the Bodhisattva’s Way of Life
DESCRIPTION:
URL:https://gyutofoundation.org/event/teaching-the-guide-to-the-bodhisattvas-way-of-life-93/
END:VEVENT
BEGIN:VEVENT
DTSTART;TZID=America/Los_Angeles:20250913T090000
DTEND;TZID=America/Los_Angeles:20250913T120000
DTSTAMP:20260423T220841
CREATED:20250813T231334Z
LAST-MODIFIED:20250813T231340Z
UID:4431-1757754000-1757764800@gyutofoundation.org
SUMMARY:Mahakala Puja
DESCRIPTION:
URL:https://gyutofoundation.org/event/mahakala-puja-32/
END:VEVENT
BEGIN:VEVENT
DTSTART;TZID=America/Los_Angeles:20250914T100000
DTEND;TZID=America/Los_Angeles:20250914T120000
DTSTAMP:20260423T220841
CREATED:20250813T230112Z
LAST-MODIFIED:20250813T230125Z
UID:4399-1757844000-1757851200@gyutofoundation.org
SUMMARY:Teaching: Stages on the Path to Enlightenment
DESCRIPTION:
URL:https://gyutofoundation.org/event/teaching-stages-on-the-path-to-enlightenment-102/
END:VEVENT
BEGIN:VEVENT
DTSTART;TZID=America/Los_Angeles:20250915T190000
DTEND;TZID=America/Los_Angeles:20250915T200000
DTSTAMP:20260423T220841
CREATED:20250813T230519Z
LAST-MODIFIED:20250813T230526Z
UID:4409-1757962800-1757966400@gyutofoundation.org
SUMMARY:Secular Meditation
DESCRIPTION:
URL:https://gyutofoundation.org/event/secular-meditation-118/
END:VEVENT
BEGIN:VEVENT
DTSTART;TZID=America/Los_Angeles:20250916T190000
DTEND;TZID=America/Los_Angeles:20250916T200000
DTSTAMP:20260423T220841
CREATED:20250813T230812Z
LAST-MODIFIED:20250813T230839Z
UID:4417-1758049200-1758052800@gyutofoundation.org
SUMMARY:Guru Puja
DESCRIPTION:
URL:https://gyutofoundation.org/event/guru-puja-53/
END:VEVENT
BEGIN:VEVENT
DTSTART;TZID=America/Los_Angeles:20250918T190000
DTEND;TZID=America/Los_Angeles:20250918T210000
DTSTAMP:20260423T220841
CREATED:20250813T231212Z
LAST-MODIFIED:20250813T231225Z
UID:4427-1758222000-1758229200@gyutofoundation.org
SUMMARY:Teaching: The Guide to the Bodhisattva’s Way of Life
DESCRIPTION:
URL:https://gyutofoundation.org/event/teaching-the-guide-to-the-bodhisattvas-way-of-life-94/
END:VEVENT
BEGIN:VEVENT
DTSTART;TZID=America/Los_Angeles:20250921T100000
DTEND;TZID=America/Los_Angeles:20250921T120000
DTSTAMP:20260423T220841
CREATED:20250813T230157Z
LAST-MODIFIED:20250813T230204Z
UID:4401-1758448800-1758456000@gyutofoundation.org
SUMMARY:Teaching: Stages on the Path to Enlightenment
DESCRIPTION:
URL:https://gyutofoundation.org/event/teaching-stages-on-the-path-to-enlightenment-103/
END:VEVENT
BEGIN:VEVENT
DTSTART;TZID=America/Los_Angeles:20250922T190000
DTEND;TZID=America/Los_Angeles:20250922T200000
DTSTAMP:20260423T220841
CREATED:20250813T230546Z
LAST-MODIFIED:20250813T230601Z
UID:4411-1758567600-1758571200@gyutofoundation.org
SUMMARY:Secular Meditation
DESCRIPTION:
URL:https://gyutofoundation.org/event/secular-meditation-119/
END:VEVENT
BEGIN:VEVENT
DTSTART;TZID=America/Los_Angeles:20250924T190000
DTEND;TZID=America/Los_Angeles:20250924T200000
DTSTAMP:20260423T220841
CREATED:20250813T230954Z
LAST-MODIFIED:20250813T231024Z
UID:4421-1758740400-1758744000@gyutofoundation.org
SUMMARY:Medicine Buddha Puja
DESCRIPTION:
URL:https://gyutofoundation.org/event/medicine-buddha-puja-31/
END:VEVENT
BEGIN:VEVENT
DTSTART;TZID=America/Los_Angeles:20250925T190000
DTEND;TZID=America/Los_Angeles:20250925T210000
DTSTAMP:20260423T220841
CREATED:20250813T231254Z
LAST-MODIFIED:20250813T231306Z
UID:4429-1758826800-1758834000@gyutofoundation.org
SUMMARY:Teaching: The Guide to the Bodhisattva’s Way of Life
DESCRIPTION:
URL:https://gyutofoundation.org/event/teaching-the-guide-to-the-bodhisattvas-way-of-life-95/
END:VEVENT
BEGIN:VEVENT
DTSTART;TZID=America/Los_Angeles:20250928T100000
DTEND;TZID=America/Los_Angeles:20250928T120000
DTSTAMP:20260423T220841
CREATED:20250813T230230Z
LAST-MODIFIED:20250813T230243Z
UID:4403-1759053600-1759060800@gyutofoundation.org
SUMMARY:Teaching: Stages on the Path to Enlightenment
DESCRIPTION:
URL:https://gyutofoundation.org/event/teaching-stages-on-the-path-to-enlightenment-104/
END:VEVENT
BEGIN:VEVENT
DTSTART;TZID=America/Los_Angeles:20250929T190000
DTEND;TZID=America/Los_Angeles:20250929T200000
DTSTAMP:20260423T220841
CREATED:20250813T230631Z
LAST-MODIFIED:20250813T230640Z
UID:4413-1759172400-1759176000@gyutofoundation.org
SUMMARY:Secular Meditation
DESCRIPTION:
URL:https://gyutofoundation.org/event/secular-meditation-120/
END:VEVENT
BEGIN:VEVENT
DTSTART;TZID=America/Los_Angeles:20251001T190000
DTEND;TZID=America/Los_Angeles:20251001T200000
DTSTAMP:20260423T220841
CREATED:20250924T173232Z
LAST-MODIFIED:20250924T173232Z
UID:4436-1759345200-1759348800@gyutofoundation.org
SUMMARY:Guru Puja
DESCRIPTION:
URL:https://gyutofoundation.org/event/guru-puja-54/
END:VEVENT
BEGIN:VEVENT
DTSTART;TZID=America/Los_Angeles:20251006T190000
DTEND;TZID=America/Los_Angeles:20251006T200000
DTSTAMP:20260423T220841
CREATED:20250924T174123Z
LAST-MODIFIED:20250924T174221Z
UID:4449-1759777200-1759780800@gyutofoundation.org
SUMMARY:Secular Meditation
DESCRIPTION:
URL:https://gyutofoundation.org/event/secular-meditation-121/
END:VEVENT
BEGIN:VEVENT
DTSTART;TZID=America/Los_Angeles:20251008T190000
DTEND;TZID=America/Los_Angeles:20251008T200000
DTSTAMP:20260423T220841
CREATED:20250924T173410Z
LAST-MODIFIED:20250924T173428Z
UID:4439-1759950000-1759953600@gyutofoundation.org
SUMMARY:Tara Puja
DESCRIPTION:
URL:https://gyutofoundation.org/event/tara-puja-31/
END:VEVENT
BEGIN:VEVENT
DTSTART;TZID=America/Los_Angeles:20251011T090000
DTEND;TZID=America/Los_Angeles:20251011T120000
DTSTAMP:20260423T220841
CREATED:20250924T173903Z
LAST-MODIFIED:20250924T173948Z
UID:4447-1760173200-1760184000@gyutofoundation.org
SUMMARY:Mahakala Puja
DESCRIPTION:
URL:https://gyutofoundation.org/event/mahakala-puja-33/
END:VEVENT
END:VCALENDAR