BEGIN:VCALENDAR
VERSION:2.0
PRODID:-//Gyuto Foundation - ECPv6.15.13//NONSGML v1.0//EN
CALSCALE:GREGORIAN
METHOD:PUBLISH
X-WR-CALNAME:Gyuto Foundation
X-ORIGINAL-URL:https://gyutofoundation.org
X-WR-CALDESC:Events for Gyuto Foundation
REFRESH-INTERVAL;VALUE=DURATION:PT1H
X-Robots-Tag:noindex
X-PUBLISHED-TTL:PT1H
BEGIN:VTIMEZONE
TZID:America/Los_Angeles
BEGIN:DAYLIGHT
TZOFFSETFROM:-0800
TZOFFSETTO:-0700
TZNAME:PDT
DTSTART:20240310T100000
END:DAYLIGHT
BEGIN:STANDARD
TZOFFSETFROM:-0700
TZOFFSETTO:-0800
TZNAME:PST
DTSTART:20241103T090000
END:STANDARD
BEGIN:DAYLIGHT
TZOFFSETFROM:-0800
TZOFFSETTO:-0700
TZNAME:PDT
DTSTART:20250309T100000
END:DAYLIGHT
BEGIN:STANDARD
TZOFFSETFROM:-0700
TZOFFSETTO:-0800
TZNAME:PST
DTSTART:20251102T090000
END:STANDARD
BEGIN:DAYLIGHT
TZOFFSETFROM:-0800
TZOFFSETTO:-0700
TZNAME:PDT
DTSTART:20260308T100000
END:DAYLIGHT
BEGIN:STANDARD
TZOFFSETFROM:-0700
TZOFFSETTO:-0800
TZNAME:PST
DTSTART:20261101T090000
END:STANDARD
END:VTIMEZONE
BEGIN:VEVENT
DTSTART;TZID=America/Los_Angeles:20250817T100000
DTEND;TZID=America/Los_Angeles:20250817T120000
DTSTAMP:20260423T204426
CREATED:20250623T192123Z
LAST-MODIFIED:20250623T192132Z
UID:4362-1755424800-1755432000@gyutofoundation.org
SUMMARY:Teaching: Stages on the Path to Enlightenment
DESCRIPTION:
URL:https://gyutofoundation.org/event/teaching-stages-on-the-path-to-enlightenment-98/
END:VEVENT
BEGIN:VEVENT
DTSTART;TZID=America/Los_Angeles:20250817T130000
DTEND;TZID=America/Los_Angeles:20250817T140000
DTSTAMP:20260423T204426
CREATED:20250723T210925Z
LAST-MODIFIED:20250728T195813Z
UID:4393-1755435600-1755439200@gyutofoundation.org
SUMMARY:Farewell Party for Ven. Jangchub and Ven. Tashi
DESCRIPTION:
URL:https://gyutofoundation.org/event/farewell-party-for-gen-jangchup-and-gen-tashi/
END:VEVENT
END:VCALENDAR